BEGIN:VCALENDAR
VERSION:2.0
PRODID:-//Kissing Tree Resident Website - ECPv6.15.18//NONSGML v1.0//EN
CALSCALE:GREGORIAN
METHOD:PUBLISH
X-WR-CALNAME:Kissing Tree Resident Website
X-ORIGINAL-URL:https://www.kissingtreeresidents.org
X-WR-CALDESC:Events for Kissing Tree Resident Website
REFRESH-INTERVAL;VALUE=DURATION:PT1H
X-Robots-Tag:noindex
X-PUBLISHED-TTL:PT1H
BEGIN:VTIMEZONE
TZID:America/Chicago
BEGIN:DAYLIGHT
TZOFFSETFROM:-0600
TZOFFSETTO:-0500
TZNAME:CDT
DTSTART:20250309T080000
END:DAYLIGHT
BEGIN:STANDARD
TZOFFSETFROM:-0500
TZOFFSETTO:-0600
TZNAME:CST
DTSTART:20251102T070000
END:STANDARD
BEGIN:DAYLIGHT
TZOFFSETFROM:-0600
TZOFFSETTO:-0500
TZNAME:CDT
DTSTART:20260308T080000
END:DAYLIGHT
BEGIN:STANDARD
TZOFFSETFROM:-0500
TZOFFSETTO:-0600
TZNAME:CST
DTSTART:20261101T070000
END:STANDARD
BEGIN:DAYLIGHT
TZOFFSETFROM:-0600
TZOFFSETTO:-0500
TZNAME:CDT
DTSTART:20270314T080000
END:DAYLIGHT
BEGIN:STANDARD
TZOFFSETFROM:-0500
TZOFFSETTO:-0600
TZNAME:CST
DTSTART:20271107T070000
END:STANDARD
END:VTIMEZONE
BEGIN:VEVENT
DTSTART;TZID=America/Chicago:20260422T080000
DTEND;TZID=America/Chicago:20260422T100000
DTSTAMP:20260422T014439
CREATED:20250507T153032Z
LAST-MODIFIED:20251203T172133Z
UID:10058493-1776844800-1776852000@www.kissingtreeresidents.org
SUMMARY:Pickleball Open Play
DESCRIPTION:Pickleball is the fastest-growing sport in the country and the same is true at Kissing Tree. Whether socializing with your doubles partner\, your opponents\, or those playing on other courts\, pickleball is downright fun and laughter is bound to ensue. After just one game you will be addicted. \nThis all genders open play includes 8 courts and currently lists the summer pickleball hours which trend toward morning and evenings to accommodate for the heat. Open play includes all players\, of any skill level. Paddle system is used to assign players to courts. One game is played and then the next four players move to open court. Window may change to fall hours sometime in October.
URL:https://www.kissingtreeresidents.org/event/pickleball-open-play-12-2/2026-04-22/
LOCATION:Pickleball Courts
CATEGORIES:Clubs & Groups,Sports Courts
END:VEVENT
BEGIN:VEVENT
DTSTART;TZID=America/Chicago:20260422T082000
DTEND;TZID=America/Chicago:20260422T093000
DTSTAMP:20260422T014439
CREATED:20250910T203322Z
LAST-MODIFIED:20251203T171215Z
UID:10075278-1776846000-1776850200@www.kissingtreeresidents.org
SUMMARY:Hill Hugger Midweek Movers
DESCRIPTION:The Hill Huggers group meet on Wednesday and Saturday mornings and are designed for residents of all fitness levels who enjoy walking\, running\, hiking and exploring the trails around the Kissing Tree community. Participants can expect a welcoming\, social atmosphere where they’ll get to enjoy the beauty of nature while engaging in light to moderate physical activity. Whether you’re looking for a relaxing walk or a more energetic run\, the groups offer a variety of routes and paces to accommodate different preferences. It’s a great way to meet fellow residents\, get outdoors\, and stay active!
URL:https://www.kissingtreeresidents.org/event/hill-hugger-midweek-movers-2-2/2026-04-22/
LOCATION:Biergarten
CATEGORIES:Clubs & Groups
END:VEVENT
BEGIN:VEVENT
DTSTART;TZID=America/Chicago:20260422T093000
DTEND;TZID=America/Chicago:20260422T103000
DTSTAMP:20260422T014439
CREATED:20250611T212602Z
LAST-MODIFIED:20251203T172516Z
UID:10079940-1776850200-1776853800@www.kissingtreeresidents.org
SUMMARY:Beginner Mahjong
DESCRIPTION:Come join fellow KT residents and learn how to play Mahjong! \nEnjoy step-by-step guidance from experienced player Phyllis Porter at the library tables in The Mix.
URL:https://www.kissingtreeresidents.org/event/beginner-mahjong/2026-04-22/
LOCATION:Resident Library at the Mix
CATEGORIES:Clubs & Groups
ORGANIZER;CN="Phillis Porter":MAILTO:prsp101@hotmail.com
END:VEVENT
BEGIN:VEVENT
DTSTART;TZID=America/Chicago:20260422T093000
DTEND;TZID=America/Chicago:20260422T113000
DTSTAMP:20260422T014439
CREATED:20251022T160423Z
LAST-MODIFIED:20251203T172214Z
UID:10078288-1776850200-1776857400@www.kissingtreeresidents.org
SUMMARY:Mahjong @ the Mix
DESCRIPTION:This group brings together Mahjong enthusiasts to share the love of the game\, learn from each other\, and enjoy friendly competition. The group embraces players of all skill levels\, offering opportunities for all level of players to participate in regular games and discussions. We invite KT residents!
URL:https://www.kissingtreeresidents.org/event/mahjong-the-mix/2026-04-22/
LOCATION:Independence Hall Activity Room
CATEGORIES:Clubs & Groups
ORGANIZER;CN="Phillis Porter":MAILTO:prsp101@hotmail.com
END:VEVENT
BEGIN:VEVENT
DTSTART;TZID=America/Chicago:20260422T113000
DTEND;TZID=America/Chicago:20260422T123000
DTSTAMP:20260422T014439
CREATED:20260417T175013Z
LAST-MODIFIED:20260417T175205Z
UID:10083931-1776857400-1776861000@www.kissingtreeresidents.org
SUMMARY:Hilltop Planning masterclass: Tax Planning for Retirement
DESCRIPTION:Join Jeff Morneault of Hilltop Planning for an informational masterclass on Roth conversions\, tax-efficient investing and tax-efficient withdrawal strategies. Upcoming 2026 workshops include:
URL:https://www.kissingtreeresidents.org/event/hilltop-planning-masterclass-tax-planning-for-retirement/
LOCATION:Independence Hall Activity Room
CATEGORIES:Events
ORGANIZER;CN="Lisa Westerbeck":MAILTO:lwesterbeck@coherelife.com
END:VEVENT
BEGIN:VEVENT
DTSTART;TZID=America/Chicago:20260422T120000
DTEND;TZID=America/Chicago:20260422T130000
DTSTAMP:20260422T014439
CREATED:20251203T202921Z
LAST-MODIFIED:20251203T202921Z
UID:10080563-1776859200-1776862800@www.kissingtreeresidents.org
SUMMARY:KT Recovery Community
DESCRIPTION:The meetings are geared towards anyone in recovery and those with the desire to stop drinking or using drugs. The focus of our KT meetings will be allowing members to share fellowship & the reassurance they are not alone in their struggles. The meetings also provide the opportunity to learn new coping skills and to learn from others what works for them. The meetings are held at 328 Hopping Peach St. \nContact Bonita Cox at bocox55@gmail.com for more information.
URL:https://www.kissingtreeresidents.org/event/kt-recovery-community-2/2026-04-22/
CATEGORIES:Clubs & Groups
END:VEVENT
BEGIN:VEVENT
DTSTART;TZID=America/Chicago:20260422T130000
DTEND;TZID=America/Chicago:20260422T150000
DTSTAMP:20260422T014439
CREATED:20260324T173937Z
LAST-MODIFIED:20260324T173937Z
UID:10083645-1776862800-1776870000@www.kissingtreeresidents.org
SUMMARY:Paint Like Picasso - Cats
DESCRIPTION:CATS will be the subject for our Picasso class this month. Suzanne will provide you with the tools and basics for the painting and YOU then personalize it. This is a “mistakes-proof” class! All materials provided for $15\, payable in case at the door. Look out for her post on the KT Studio Buzz! Facebook site by using the magnifying glass in the upper right corner of the Buzz and searching for her name. \nMust RSVP to Suzanne at 512-627-4989 or bc.nimawin@yahoo.com.
URL:https://www.kissingtreeresidents.org/event/paint-like-picasso-cats/
LOCATION:Art Studio @ Grand Central
CATEGORIES:Clubs & Groups,Grand Central
ORGANIZER;CN="Suzanne Winton":MAILTO:bc.nimawin@yahoo.com
END:VEVENT
BEGIN:VEVENT
DTSTART;TZID=America/Chicago:20260422T140000
DTEND;TZID=America/Chicago:20260422T150000
DTSTAMP:20260422T014439
CREATED:20251203T212129Z
LAST-MODIFIED:20251203T212129Z
UID:10080785-1776866400-1776870000@www.kissingtreeresidents.org
SUMMARY:Beginner Line Dance Class
DESCRIPTION:
URL:https://www.kissingtreeresidents.org/event/beginner-line-dance-class/2026-04-22/
LOCATION:Independence Hall Activity Room
CATEGORIES:Clubs & Groups
ORGANIZER;CN="Kelly Dickson":MAILTO:kdickson512@twc.com
END:VEVENT
BEGIN:VEVENT
DTSTART;TZID=America/Chicago:20260422T150000
DTEND;TZID=America/Chicago:20260422T160000
DTSTAMP:20260422T014439
CREATED:20251203T212313Z
LAST-MODIFIED:20251203T212313Z
UID:10080839-1776870000-1776873600@www.kissingtreeresidents.org
SUMMARY:Improver Line Dance Class
DESCRIPTION:This class is for the more experienced line dancers.
URL:https://www.kissingtreeresidents.org/event/improver-line-dance-class/2026-04-22/
LOCATION:Independence Hall Activity Room
CATEGORIES:Clubs & Groups
ORGANIZER;CN="Kelly Dickson":MAILTO:kdickson512@twc.com
END:VEVENT
BEGIN:VEVENT
DTSTART;TZID=America/Chicago:20260422T150000
DTEND;TZID=America/Chicago:20260422T180000
DTSTAMP:20260422T014439
CREATED:20241219T223558Z
LAST-MODIFIED:20251203T172048Z
UID:10055362-1776870000-1776880800@www.kissingtreeresidents.org
SUMMARY:Mahjong Fairways
DESCRIPTION:The Mahjong Fairway Group is a community of Mahjong players of all skill levels. They share their passion for the game\, and enjoy friendly competition. Whether you are a beginner or an experienced player\, the group fosters an inclusive and supportive environment where everyone can improve their skills and have fun. \nWe invite KT residents to join the Mahjong Fairway Group! Whether you’re looking to learn the game\, meet new people\, or simply enjoy the game. Come and be a part of the fun!
URL:https://www.kissingtreeresidents.org/event/mahjong-fairways-3/2026-04-22/
LOCATION:The Stump @ Grand Central
CATEGORIES:Clubs & Groups,Grand Central
END:VEVENT
BEGIN:VEVENT
DTSTART;TZID=America/Chicago:20260422T163000
DTEND;TZID=America/Chicago:20260422T203000
DTSTAMP:20260422T014439
CREATED:20251114T155702Z
LAST-MODIFIED:20260317T173329Z
UID:10083495-1776875400-1776889800@www.kissingtreeresidents.org
SUMMARY:Texas Hold'em Poker
DESCRIPTION:
URL:https://www.kissingtreeresidents.org/event/texas-holdem-poker/2026-04-22/
LOCATION:Independence Hall Activity Room
CATEGORIES:Clubs & Groups
ORGANIZER;CN="Rusty Johnson":MAILTO:rusj63@gmail.com
END:VEVENT
BEGIN:VEVENT
DTSTART;TZID=America/Chicago:20260422T170000
DTEND;TZID=America/Chicago:20260422T200000
DTSTAMP:20260422T014439
CREATED:20260316T164813Z
LAST-MODIFIED:20260316T164813Z
UID:10083378-1776877200-1776888000@www.kissingtreeresidents.org
SUMMARY:KTPA Ladder League
DESCRIPTION:Courts 1-16 are reserved for the KTPA.
URL:https://www.kissingtreeresidents.org/event/ktpa-ladder-league/2026-04-22/
LOCATION:Pickleball Courts
CATEGORIES:Clubs & Groups,Sports Courts
END:VEVENT
BEGIN:VEVENT
DTSTART;TZID=America/Chicago:20260422T170000
DTEND;TZID=America/Chicago:20260422T200000
DTSTAMP:20260422T014439
CREATED:20260416T211447Z
LAST-MODIFIED:20260416T211457Z
UID:10083852-1776877200-1776888000@www.kissingtreeresidents.org
SUMMARY:KTPA Ladder League
DESCRIPTION:Courts 1-16 are reserved for the KTPA
URL:https://www.kissingtreeresidents.org/event/ktpa-ladder-league-3/2026-04-22/
LOCATION:Pickleball Courts
CATEGORIES:Clubs & Groups,Sports Courts
END:VEVENT
END:VCALENDAR