BEGIN:VCALENDAR
VERSION:2.0
PRODID:-//Kissing Tree Resident Website - ECPv6.15.18//NONSGML v1.0//EN
CALSCALE:GREGORIAN
METHOD:PUBLISH
X-WR-CALNAME:Kissing Tree Resident Website
X-ORIGINAL-URL:https://www.kissingtreeresidents.org
X-WR-CALDESC:Events for Kissing Tree Resident Website
REFRESH-INTERVAL;VALUE=DURATION:PT1H
X-Robots-Tag:noindex
X-PUBLISHED-TTL:PT1H
BEGIN:VTIMEZONE
TZID:America/Chicago
BEGIN:DAYLIGHT
TZOFFSETFROM:-0600
TZOFFSETTO:-0500
TZNAME:CDT
DTSTART:20250309T080000
END:DAYLIGHT
BEGIN:STANDARD
TZOFFSETFROM:-0500
TZOFFSETTO:-0600
TZNAME:CST
DTSTART:20251102T070000
END:STANDARD
BEGIN:DAYLIGHT
TZOFFSETFROM:-0600
TZOFFSETTO:-0500
TZNAME:CDT
DTSTART:20260308T080000
END:DAYLIGHT
BEGIN:STANDARD
TZOFFSETFROM:-0500
TZOFFSETTO:-0600
TZNAME:CST
DTSTART:20261101T070000
END:STANDARD
BEGIN:DAYLIGHT
TZOFFSETFROM:-0600
TZOFFSETTO:-0500
TZNAME:CDT
DTSTART:20270314T080000
END:DAYLIGHT
BEGIN:STANDARD
TZOFFSETFROM:-0500
TZOFFSETTO:-0600
TZNAME:CST
DTSTART:20271107T070000
END:STANDARD
END:VTIMEZONE
BEGIN:VEVENT
DTSTART;TZID=America/Chicago:20260423T080000
DTEND;TZID=America/Chicago:20260423T093000
DTSTAMP:20260423T012836
CREATED:20260218T194703Z
LAST-MODIFIED:20260218T194703Z
UID:10082369-1776931200-1776936600@www.kissingtreeresidents.org
SUMMARY:MANUP Men’s Group
DESCRIPTION:MANUP is a non-denominational\, Jesus-centered ministry founded in Austin\, Texas. For over a decade\, we’ve been connecting men with God and other men through weekly Bible study groups\, community events\, weekend retreats\, free online content\, and pastoral care. What does it really mean to MANUP? More than a set of rules or guidelines\, it’s a lifestyle. A code of core principles that shapes your everyday life. Our community is designed to support every man on his journey as a husband\, father\, and leader. Contact Rick or click on manup.org to learn more. \n 
URL:https://www.kissingtreeresidents.org/event/manup-mens-group/2026-04-23/
LOCATION:The Depot at Grand Central
CATEGORIES:Clubs & Groups,Grand Central
ORGANIZER;CN="Rick Davis":MAILTO:rickdavis1016@gmail.com
END:VEVENT
BEGIN:VEVENT
DTSTART;TZID=America/Chicago:20260423T080000
DTEND;TZID=America/Chicago:20260423T220000
DTSTAMP:20260423T012836
CREATED:20250507T153252Z
LAST-MODIFIED:20250507T153347Z
UID:10058753-1776931200-1776981600@www.kissingtreeresidents.org
SUMMARY:Pickleball Gents Open Play
DESCRIPTION:Courts 1-8
URL:https://www.kissingtreeresidents.org/event/pickleball-gents-open-play-4/2026-04-23/
LOCATION:Pickleball Courts
CATEGORIES:Clubs & Groups,Sports Courts
END:VEVENT
BEGIN:VEVENT
DTSTART;TZID=America/Chicago:20260423T130000
DTEND;TZID=America/Chicago:20260423T153000
DTSTAMP:20260423T012836
CREATED:20241218T204435Z
LAST-MODIFIED:20251203T173233Z
UID:10080052-1776949200-1776958200@www.kissingtreeresidents.org
SUMMARY:Mahjong Mavens
DESCRIPTION:Whether you’re a seasoned player or someone who has never picked up a tile\, we welcome players of all skill levels. Our group is all about enjoying the game together in a relaxed and supportive atmosphere. Meet fellow KT residents\, make new friends\, and enjoy good company while playing Mahjong. \nJust bring yourself and an eagerness to play. We’ll guide you through the rules if you’re new!
URL:https://www.kissingtreeresidents.org/event/mahjong-mavens/2026-04-23/
LOCATION:The Stump @ Grand Central
CATEGORIES:Clubs & Groups,Grand Central
END:VEVENT
BEGIN:VEVENT
DTSTART;TZID=America/Chicago:20260423T130000
DTEND;TZID=America/Chicago:20260423T153000
DTSTAMP:20260423T012836
CREATED:20260226T193433Z
LAST-MODIFIED:20260226T193526Z
UID:10082724-1776949200-1776958200@www.kissingtreeresidents.org
SUMMARY:Rummikub
DESCRIPTION:Love a little friendly competition? Enjoy games and good company?Come join your neighbors for a fun game of Rummikub! \nWhether you’re a seasoned player or brand new to the game\, all are welcome. \nWe look forward to seeing you there!
URL:https://www.kissingtreeresidents.org/event/rummikub/2026-04-23/
LOCATION:Resident Library
CATEGORIES:Clubs & Groups
ORGANIZER;CN="Alice Spinnato":MAILTO:alicespinnato2018@gmail.com
END:VEVENT
BEGIN:VEVENT
DTSTART;TZID=America/Chicago:20260423T130000
DTEND;TZID=America/Chicago:20260423T160000
DTSTAMP:20260423T012836
CREATED:20241218T204046Z
LAST-MODIFIED:20251203T173435Z
UID:10080116-1776949200-1776960000@www.kissingtreeresidents.org
SUMMARY:Fun Bridge
DESCRIPTION:The Fun Bridge Group is a friendly\, casual gathering of players who enjoy the classic card game of bridge. Whether you’re a seasoned pro or new to the game\, you’ll have a great time connecting with neighbors and making new friends. We welcome all skill levels\, so come join us for a fun\, relaxed atmosphere and see why bridge is the perfect game for everyone! Come to the Depot and bring your enthusiasm—no experience necessary. See you there!
URL:https://www.kissingtreeresidents.org/event/fun-bridge/2026-04-23/
LOCATION:The Depot @ Grand Central
CATEGORIES:Clubs & Groups
END:VEVENT
BEGIN:VEVENT
DTSTART;TZID=America/Chicago:20260423T163000
DTEND;TZID=America/Chicago:20260423T200000
DTSTAMP:20260423T012836
CREATED:20241210T224547Z
LAST-MODIFIED:20251203T172846Z
UID:10080000-1776961800-1776974400@www.kissingtreeresidents.org
SUMMARY:Lady Darters
DESCRIPTION:
URL:https://www.kissingtreeresidents.org/event/lady-darters/2026-04-23/
LOCATION:The Depot @ Grand Central
CATEGORIES:Clubs & Groups,Grand Central
END:VEVENT
BEGIN:VEVENT
DTSTART;TZID=America/Chicago:20260423T170000
DTEND;TZID=America/Chicago:20260423T190000
DTSTAMP:20260423T012836
CREATED:20260413T170149Z
LAST-MODIFIED:20260413T170301Z
UID:10083835-1776963600-1776970800@www.kissingtreeresidents.org
SUMMARY:Live Music Happy Hour - Andi Holleman
DESCRIPTION:Live Music Happy Hour \nThursday\, April 23\n5:00 pm – 7:00 pm\nIndependence Hall & Biergarten \nAndi performs her own original music mixed with a select amount of covers where she will guarantee soul and grit topped off with an insane vocal range with texture you won’t soon forget. \nTips are always welcome & appreciated. \n  \n 
URL:https://www.kissingtreeresidents.org/event/live-music-happy-hour-andi-holleman/
LOCATION:Biergarten
CATEGORIES:Clubs & Groups,Events
ORGANIZER;CN="Kissing Tree Community Life":MAILTO:ktmc@coherelife.com
END:VEVENT
BEGIN:VEVENT
DTSTART;TZID=America/Chicago:20260423T173000
DTEND;TZID=America/Chicago:20260423T200000
DTSTAMP:20260423T012836
CREATED:20260226T152720Z
LAST-MODIFIED:20260226T152720Z
UID:10082705-1776965400-1776974400@www.kissingtreeresidents.org
SUMMARY:BIG Bunco @ the Mix
DESCRIPTION:Join the fun and make new friends with the Kissing Tree Bunco group! We meet on the 4th Thursday of each month for an exciting and social game of Bunco. Whether you’re a seasoned player or new to the game\, it’s all about having fun\, meeting neighbors\, and enjoying good company. \nThe group is open to all residents\, and we’d love to see you there! Come roll the dice and be part of the community. \nContact Joy Berberek at joyberberek@gmail.com for information on how to join.
URL:https://www.kissingtreeresidents.org/event/big-bunco-the-mix/2026-04-23/
LOCATION:Independence Hall Activity Room
CATEGORIES:Clubs & Groups
ORGANIZER;CN="Joy Berberek":MAILTO:joyberberek@gmail.com
END:VEVENT
BEGIN:VEVENT
DTSTART;TZID=America/Chicago:20260423T183000
DTEND;TZID=America/Chicago:20260423T203000
DTSTAMP:20260423T012836
CREATED:20250507T153651Z
LAST-MODIFIED:20250507T153651Z
UID:10059012-1776969000-1776976200@www.kissingtreeresidents.org
SUMMARY:Pickleball Open Play
DESCRIPTION:
URL:https://www.kissingtreeresidents.org/event/mens-pickleball-2-2/2026-04-23/
LOCATION:Pickleball Courts
CATEGORIES:Clubs & Groups,Sports Courts
END:VEVENT
END:VCALENDAR