BEGIN:VCALENDAR
VERSION:2.0
PRODID:-//Kissing Tree Resident Website - ECPv6.15.18//NONSGML v1.0//EN
CALSCALE:GREGORIAN
METHOD:PUBLISH
X-WR-CALNAME:Kissing Tree Resident Website
X-ORIGINAL-URL:https://www.kissingtreeresidents.org
X-WR-CALDESC:Events for Kissing Tree Resident Website
REFRESH-INTERVAL;VALUE=DURATION:PT1H
X-Robots-Tag:noindex
X-PUBLISHED-TTL:PT1H
BEGIN:VTIMEZONE
TZID:America/Chicago
BEGIN:DAYLIGHT
TZOFFSETFROM:-0600
TZOFFSETTO:-0500
TZNAME:CDT
DTSTART:20250309T080000
END:DAYLIGHT
BEGIN:STANDARD
TZOFFSETFROM:-0500
TZOFFSETTO:-0600
TZNAME:CST
DTSTART:20251102T070000
END:STANDARD
BEGIN:DAYLIGHT
TZOFFSETFROM:-0600
TZOFFSETTO:-0500
TZNAME:CDT
DTSTART:20260308T080000
END:DAYLIGHT
BEGIN:STANDARD
TZOFFSETFROM:-0500
TZOFFSETTO:-0600
TZNAME:CST
DTSTART:20261101T070000
END:STANDARD
BEGIN:DAYLIGHT
TZOFFSETFROM:-0600
TZOFFSETTO:-0500
TZNAME:CDT
DTSTART:20270314T080000
END:DAYLIGHT
BEGIN:STANDARD
TZOFFSETFROM:-0500
TZOFFSETTO:-0600
TZNAME:CST
DTSTART:20271107T070000
END:STANDARD
END:VTIMEZONE
BEGIN:VEVENT
DTSTART;TZID=America/Chicago:20260424T074500
DTEND;TZID=America/Chicago:20260424T120000
DTSTAMP:20260424T012010
CREATED:20260322T033349Z
LAST-MODIFIED:20260322T033349Z
UID:10083628-1777016700-1777032000@www.kissingtreeresidents.org
SUMMARY:Trail Hiking - Canyon Lake Gorge Tour
DESCRIPTION:Trail Hiking on\nFriday\, April 24 – Canyon Lake Gorge Tour \nAll residents welcome. Meet at the Mix parking lot at 7:45 am to carpool to trailhead.\nWear proper hiking shoes or dependable athletic shoes. Bring water bottle.\nWalking sticks are also encouraged.\nApprox. 3-4 mile hike with rocky terrain and some challenging climbing.\nRating – Moderately Strenuous: Wild and rugged terrain\, amenities limited\, slick trails when wet \nCanyon Lake Gorge Tour information\nFriday\, April 24\n7:45 am – 12:00 pm\n\nMeet at the KT Mix parking lot at 7:45 am to carpool to Canyon Lake Gorge for a fun day of exploring & sightseeing!\n$18 per person includes shuttle transportation once we get there\, and ticket for guided tour.\nLimited space available.  CLICK HERE TO REGISTER\n\nDuring one week in the summer of 2002\, more than 34 inches of rain fell in the upper watershed of the Guadalupe River\, setting off a torrent of floodwater that carved a perfectly fascinating geological wonder – the Canyon Lake Gorge – out of the earth.
URL:https://www.kissingtreeresidents.org/event/trail-hiking-canyon-lake-gorge-tour/
LOCATION:Canyon Lake area
CATEGORIES:Clubs & Groups,Events
ORGANIZER;CN="Kissing Tree Community Life":MAILTO:ktmc@coherelife.com
END:VEVENT
BEGIN:VEVENT
DTSTART;TZID=America/Chicago:20260424T100000
DTEND;TZID=America/Chicago:20260424T130000
DTSTAMP:20260424T012010
CREATED:20251203T150129Z
LAST-MODIFIED:20251203T150305Z
UID:10078756-1777024800-1777035600@www.kissingtreeresidents.org
SUMMARY:Creative Jam Art Class
DESCRIPTION:Be sure to check on the KT Studio Buzz Facebook page for more information and/or updates. https://www.facebook.com/share/g/hca8izuKqpNZufZx/
URL:https://www.kissingtreeresidents.org/event/creative-jam-art-class/2026-04-24/
LOCATION:Art Studio @ Grand Central
CATEGORIES:Clubs & Groups,Grand Central
ORGANIZER;CN="Sharon Meaden":MAILTO:revivedglory@yahoo.com
END:VEVENT
BEGIN:VEVENT
DTSTART;TZID=America/Chicago:20260424T113000
DTEND;TZID=America/Chicago:20260424T130000
DTSTAMP:20260424T012010
CREATED:20251203T145734Z
LAST-MODIFIED:20251203T145734Z
UID:10075591-1777030200-1777035600@www.kissingtreeresidents.org
SUMMARY:Men's Fellowship
DESCRIPTION:Men’s Fellowship is a Christian faith-based group of men committed to learning to practice finishing strong in our lives to the benefit of our families\, community and beyond\, as well as encouraging other men to do the same. Through scripture\, prayer\, and sharing our faith journeys\, we look towards focusing on our legacies. All men are welcome and there is no cost to join. Contact resident Marko Buckingham for more information.
URL:https://www.kissingtreeresidents.org/event/mens-fellowship-2-2/2026-04-24/
LOCATION:Independence Hall Activity Room
CATEGORIES:Clubs & Groups
ORGANIZER;CN="Marko Buckingham":MAILTO:markmelody1978@yahoo.com
END:VEVENT
BEGIN:VEVENT
DTSTART;TZID=America/Chicago:20260424T130000
DTEND;TZID=America/Chicago:20260424T150000
DTSTAMP:20260424T012010
CREATED:20251203T150711Z
LAST-MODIFIED:20251203T150711Z
UID:10078807-1777035600-1777042800@www.kissingtreeresidents.org
SUMMARY:Ping Pong Open Play
DESCRIPTION:Tables are located in The Depot at Grand Central. Please close tables and store along wall when finished playing. Contact Community Engagement Director Kevin Wilson for more information.
URL:https://www.kissingtreeresidents.org/event/ping-pong-open-play/2026-04-24/
LOCATION:The Depot @ Grand Central
CATEGORIES:Clubs & Groups,Grand Central
ORGANIZER;CN="Kevin Wilson":MAILTO:kwilson@coherelife.com
END:VEVENT
BEGIN:VEVENT
DTSTART;TZID=America/Chicago:20260424T133000
DTEND;TZID=America/Chicago:20260424T140000
DTSTAMP:20260424T012010
CREATED:20260128T145104Z
LAST-MODIFIED:20260128T150018Z
UID:10082004-1777037400-1777039200@www.kissingtreeresidents.org
SUMMARY:NEW Absolute Beginner Line Dance Class
DESCRIPTION:Wanna learn how to Line Dance? Well\, put your dancin’ boots on!!! \nCome learn absolute beginner line dancing steps from Kelly & Montina every Friday from 1:30 to 2:00. (Activity Room at Independence Hall) You’ll learn the basic line dance steps & terminology for absolute beginner line dances. Then stay and join the 2:00 beginner class for more dancing fun! \nEveryone is welcome and no experience is needed! \nIt’s a great way to get moving\, meet new people\, and have some boot scootin’ fun!!!! \n 
URL:https://www.kissingtreeresidents.org/event/absolute-beginner-line-dance-class/2026-04-24/
LOCATION:Independence Hall Activity Room
CATEGORIES:Clubs & Groups
ORGANIZER;CN="Kelly Dickson":MAILTO:kdickson512@twc.com
END:VEVENT
BEGIN:VEVENT
DTSTART;TZID=America/Chicago:20260424T140000
DTEND;TZID=America/Chicago:20260424T150000
DTSTAMP:20260424T012010
CREATED:20251203T151056Z
LAST-MODIFIED:20251203T151056Z
UID:10078857-1777039200-1777042800@www.kissingtreeresidents.org
SUMMARY:Beginners Line Dancing 
DESCRIPTION:The Beginners Line Dancing class is a fun and engaging way to learn new steps while reviewing their favorite moves. KT residents meet regularly to explore a variety of line dance routines\, building confidence and rhythm in a supportive environment. Whether you’re just starting or looking to refine your skills\, this class is perfect for all beginners. Stay updated on all events and activities by visiting their Facebook page for the latest announcements  https://www.facebook.com/share/g/1AQvuWyL5bSfbNQ4/ \nFor more information contact Kelly Dickson at  kdickson512@twc.com
URL:https://www.kissingtreeresidents.org/event/beginners-line-dancing/2026-04-24/
LOCATION:Independence Hall Activity Room
CATEGORIES:Clubs & Groups
ORGANIZER;CN="Kelly Dickson":MAILTO:kdickson512@twc.com
END:VEVENT
BEGIN:VEVENT
DTSTART;TZID=America/Chicago:20260424T150000
DTEND;TZID=America/Chicago:20260424T160000
DTSTAMP:20260424T012010
CREATED:20251203T151432Z
LAST-MODIFIED:20251203T214534Z
UID:10081013-1777042800-1777046400@www.kissingtreeresidents.org
SUMMARY:Improver Line Dancing
DESCRIPTION:The Improver Line Dancing class is designed for more experienced dancers who want to expand their skills by learning new steps while also reviewing and refining their favorite ones. It provides an opportunity to enhance technique\, try more complex patterns\, and enjoy dancing in a fun and supportive environment. \nFor updates on all events and activities\, be sure to follow their Facebook page  https://www.facebook.com/share/g/1AQvuWyL5bSfbNQ4/ \n\n\n\n\n\n\nFor more information\, contact Kelly Dickson at  kdickson512@twc.com
URL:https://www.kissingtreeresidents.org/event/improver-line-dancing/2026-04-24/
LOCATION:Independence Hall Activity Room
CATEGORIES:Clubs & Groups
ORGANIZER;CN="Kelly Dickson":MAILTO:kdickson512@twc.com
END:VEVENT
BEGIN:VEVENT
DTSTART;TZID=America/Chicago:20260424T170000
DTEND;TZID=America/Chicago:20260424T203000
DTSTAMP:20260424T012010
CREATED:20260417T134325Z
LAST-MODIFIED:20260417T134325Z
UID:10083919-1777050000-1777062600@www.kissingtreeresidents.org
SUMMARY:May I? Card Game
DESCRIPTION:
URL:https://www.kissingtreeresidents.org/event/may-i-card-game/2026-04-24/
LOCATION:Independence Hall Activity Room
CATEGORIES:Clubs & Groups
ORGANIZER;CN="Linda Hightower":MAILTO:lindahi5@att.net
END:VEVENT
BEGIN:VEVENT
DTSTART;TZID=America/Chicago:20260424T180000
DTEND;TZID=America/Chicago:20260424T203000
DTSTAMP:20260424T012010
CREATED:20260402T151503Z
LAST-MODIFIED:20260402T151503Z
UID:10083736-1777053600-1777062600@www.kissingtreeresidents.org
SUMMARY:Swing Dance lessons
DESCRIPTION:Swing Dance lessons\nFriday\, April 24\nIndependence Hall Lobby/Biergarten\n6 pm – 7 pm   Swing Lesson w/Rob & Diane\n7 pm – 8:30 pm  DJ Dance Social \nRegistration open now\nCost is $29 pp   –   Limit 40 participants \nClick here to register \nWelcome to Swing Junction\nYour hosts & instructors Rob & Diane.  They are here to build community\, help you learn simple and fun skills for personal growth and listen and dance to great music and making friends.
URL:https://www.kissingtreeresidents.org/event/swing-dance-lessons-2/
LOCATION:Independence Hall
CATEGORIES:Clubs & Groups,Events
ORGANIZER;CN="Kissing Tree Community Life":MAILTO:ktmc@coherelife.com
END:VEVENT
END:VCALENDAR