BEGIN:VCALENDAR
VERSION:2.0
PRODID:-//Kissing Tree Resident Website - ECPv6.15.18//NONSGML v1.0//EN
CALSCALE:GREGORIAN
METHOD:PUBLISH
X-ORIGINAL-URL:https://www.kissingtreeresidents.org
X-WR-CALDESC:Events for Kissing Tree Resident Website
REFRESH-INTERVAL;VALUE=DURATION:PT1H
X-Robots-Tag:noindex
X-PUBLISHED-TTL:PT1H
BEGIN:VTIMEZONE
TZID:America/Chicago
BEGIN:DAYLIGHT
TZOFFSETFROM:-0600
TZOFFSETTO:-0500
TZNAME:CDT
DTSTART:20250309T080000
END:DAYLIGHT
BEGIN:STANDARD
TZOFFSETFROM:-0500
TZOFFSETTO:-0600
TZNAME:CST
DTSTART:20251102T070000
END:STANDARD
BEGIN:DAYLIGHT
TZOFFSETFROM:-0600
TZOFFSETTO:-0500
TZNAME:CDT
DTSTART:20260308T080000
END:DAYLIGHT
BEGIN:STANDARD
TZOFFSETFROM:-0500
TZOFFSETTO:-0600
TZNAME:CST
DTSTART:20261101T070000
END:STANDARD
BEGIN:DAYLIGHT
TZOFFSETFROM:-0600
TZOFFSETTO:-0500
TZNAME:CDT
DTSTART:20270314T080000
END:DAYLIGHT
BEGIN:STANDARD
TZOFFSETFROM:-0500
TZOFFSETTO:-0600
TZNAME:CST
DTSTART:20271107T070000
END:STANDARD
END:VTIMEZONE
BEGIN:VEVENT
DTSTART;TZID=America/Chicago:20260514T080000
DTEND;TZID=America/Chicago:20260514T093000
DTSTAMP:20260419T195239
CREATED:20260218T194703Z
LAST-MODIFIED:20260218T194703Z
UID:10082372-1778745600-1778751000@www.kissingtreeresidents.org
SUMMARY:MANUP Men’s Group
DESCRIPTION:MANUP is a non-denominational\, Jesus-centered ministry founded in Austin\, Texas. For over a decade\, we’ve been connecting men with God and other men through weekly Bible study groups\, community events\, weekend retreats\, free online content\, and pastoral care. What does it really mean to MANUP? More than a set of rules or guidelines\, it’s a lifestyle. A code of core principles that shapes your everyday life. Our community is designed to support every man on his journey as a husband\, father\, and leader. Contact Rick or click on manup.org to learn more. \n 
URL:https://www.kissingtreeresidents.org/event/manup-mens-group/2026-05-14/
LOCATION:The Depot at Grand Central
CATEGORIES:Clubs & Groups,Grand Central
ORGANIZER;CN="Rick Davis":MAILTO:rickdavis1016@gmail.com
END:VEVENT
BEGIN:VEVENT
DTSTART;TZID=America/Chicago:20260514T130000
DTEND;TZID=America/Chicago:20260514T153000
DTSTAMP:20260419T195239
CREATED:20241218T204435Z
LAST-MODIFIED:20251203T173233Z
UID:10080055-1778763600-1778772600@www.kissingtreeresidents.org
SUMMARY:Mahjong Mavens
DESCRIPTION:Whether you’re a seasoned player or someone who has never picked up a tile\, we welcome players of all skill levels. Our group is all about enjoying the game together in a relaxed and supportive atmosphere. Meet fellow KT residents\, make new friends\, and enjoy good company while playing Mahjong. \nJust bring yourself and an eagerness to play. We’ll guide you through the rules if you’re new!
URL:https://www.kissingtreeresidents.org/event/mahjong-mavens/2026-05-14/
LOCATION:The Stump @ Grand Central
CATEGORIES:Clubs & Groups,Grand Central
END:VEVENT
BEGIN:VEVENT
DTSTART;TZID=America/Chicago:20260514T163000
DTEND;TZID=America/Chicago:20260514T200000
DTSTAMP:20260419T195239
CREATED:20241210T224547Z
LAST-MODIFIED:20251203T172846Z
UID:10080003-1778776200-1778788800@www.kissingtreeresidents.org
SUMMARY:Lady Darters
DESCRIPTION:
URL:https://www.kissingtreeresidents.org/event/lady-darters/2026-05-14/
LOCATION:The Depot @ Grand Central
CATEGORIES:Clubs & Groups,Grand Central
END:VEVENT
BEGIN:VEVENT
DTSTART;TZID=America/Chicago:20260515T100000
DTEND;TZID=America/Chicago:20260515T130000
DTSTAMP:20260419T195239
CREATED:20251203T150129Z
LAST-MODIFIED:20251203T150305Z
UID:10078759-1778839200-1778850000@www.kissingtreeresidents.org
SUMMARY:Creative Jam Art Class
DESCRIPTION:Be sure to check on the KT Studio Buzz Facebook page for more information and/or updates. https://www.facebook.com/share/g/hca8izuKqpNZufZx/
URL:https://www.kissingtreeresidents.org/event/creative-jam-art-class/2026-05-15/
LOCATION:Art Studio @ Grand Central
CATEGORIES:Clubs & Groups,Grand Central
ORGANIZER;CN="Sharon Meaden":MAILTO:revivedglory@yahoo.com
END:VEVENT
BEGIN:VEVENT
DTSTART;TZID=America/Chicago:20260515T130000
DTEND;TZID=America/Chicago:20260515T150000
DTSTAMP:20260419T195239
CREATED:20251203T150711Z
LAST-MODIFIED:20251203T150711Z
UID:10078810-1778850000-1778857200@www.kissingtreeresidents.org
SUMMARY:Ping Pong Open Play
DESCRIPTION:Tables are located in The Depot at Grand Central. Please close tables and store along wall when finished playing. Contact Community Engagement Director Kevin Wilson for more information.
URL:https://www.kissingtreeresidents.org/event/ping-pong-open-play/2026-05-15/
LOCATION:The Depot @ Grand Central
CATEGORIES:Clubs & Groups,Grand Central
ORGANIZER;CN="Kevin Wilson":MAILTO:kwilson@coherelife.com
END:VEVENT
BEGIN:VEVENT
DTSTART;TZID=America/Chicago:20260516T090000
DTEND;TZID=America/Chicago:20260516T120000
DTSTAMP:20260419T195239
CREATED:20251229T194843Z
LAST-MODIFIED:20251229T194844Z
UID:10081349-1778922000-1778932800@www.kissingtreeresidents.org
SUMMARY:Card-Making with Melissa
DESCRIPTION:Create a custom greeting card box and birthday card. \nSupplies are $20\, payable at the class. \nPlease RSVP with Melissa Grados at 512-620-2325 to reserve your spot and supplies. \nTo see posts and updates about this group\, visit the KT Studio Buzz! Facebook page.
URL:https://www.kissingtreeresidents.org/event/card-making-with-melissa-2/2026-05-16/
LOCATION:Art Studio @ Grand Central
CATEGORIES:Clubs & Groups,Grand Central
ORGANIZER;CN="Melissa Grados":MAILTO:mgrados.TX@gmail.com
END:VEVENT
BEGIN:VEVENT
DTSTART;TZID=America/Chicago:20260517T113000
DTEND;TZID=America/Chicago:20260517T140000
DTSTAMP:20260419T195239
CREATED:20251203T194315Z
LAST-MODIFIED:20251203T194704Z
UID:10080351-1779017400-1779026400@www.kissingtreeresidents.org
SUMMARY:Darts Open Play
DESCRIPTION:You’re Invited to Darts Open Play! \nJoin us for an exciting and fun-filled norming of darts! Whether you’re a seasoned player or a beginner\, come enjoy the friendly competition and good company. Don’t miss out on this chance to play\, socialize\, and have fun. We look forward to seeing you there!
URL:https://www.kissingtreeresidents.org/event/lady-darters-2-2/2026-05-17/
LOCATION:The Depot @ Grand Central
CATEGORIES:Clubs & Groups,Grand Central,Sports Courts
END:VEVENT
BEGIN:VEVENT
DTSTART;TZID=America/Chicago:20260517T133000
DTEND;TZID=America/Chicago:20260517T163000
DTSTAMP:20260419T195239
CREATED:20260113T200844Z
LAST-MODIFIED:20260113T204010Z
UID:10081429-1779024600-1779035400@www.kissingtreeresidents.org
SUMMARY:Scrabble Board Game Group
DESCRIPTION:The Scrabble group meets on Sunday afternoons for friendly games and casual play. This is the group meeting time for those who enjoy the board game with friends.
URL:https://www.kissingtreeresidents.org/event/scrabble-board-game-group/2026-05-17/
LOCATION:The Stump @ Grand Central
CATEGORIES:Clubs & Groups,Grand Central
ORGANIZER;CN="Patrick Johnson":MAILTO:dorlanj@icloud.com
END:VEVENT
BEGIN:VEVENT
DTSTART;TZID=America/Chicago:20260518T100000
DTEND;TZID=America/Chicago:20260518T120000
DTSTAMP:20260419T195239
CREATED:20251217T152844Z
LAST-MODIFIED:20251217T153019Z
UID:10081159-1779098400-1779105600@www.kissingtreeresidents.org
SUMMARY:Open Studio
DESCRIPTION:Every Monday now: Open Studio & Paint-by-Numbers with Dee Hutchison & Tracey Younes\,  no RSVP required. \nThis is also your opportunity to join others in a relaxed setting where you can work on the Paint-by-Numbers creations. You can bring your own kit or take part in a group order to help keep costs down—pricing will vary based on your selection. For more information on these projects please text Tracey Younes at 512-784-4256. \nFor more information Contact Dee Hutchison at 512-773-7410 \nBe sure to check on the KT Studio Buzz Facebook page for more information and/or updates. https://www.facebook.com/share/g/hca8izuKqpNZufZx/
URL:https://www.kissingtreeresidents.org/event/open-studio-2-2-2-2/2026-05-18/
LOCATION:Art Studio @ Grand Central
CATEGORIES:Clubs & Groups,Grand Central
END:VEVENT
BEGIN:VEVENT
DTSTART;TZID=America/Chicago:20260518T143000
DTEND;TZID=America/Chicago:20260518T160000
DTSTAMP:20260419T195239
CREATED:20250613T150253Z
LAST-MODIFIED:20251203T152804Z
UID:10059885-1779114600-1779120000@www.kissingtreeresidents.org
SUMMARY:Sketch Happens
DESCRIPTION:No RSVP is required Bring your own supplies and practice sketching with others. Either a video lesson\, drawn from a photo\, or instructor-led session will be offered. Supplies to bring could include sketching or watercolor paper\, pencil\, pens or fine markers\, watercolors or colored pencils (optional). There are typically supplies to share if you don’t have any. Frequently information about each meeting is posted on the KT Studio Buzz Facebook site. \nContact Jane Jones for any questions or more info: jjonestexas@gmail.com.
URL:https://www.kissingtreeresidents.org/event/sketch-happens-2-2/2026-05-18/
LOCATION:Art Studio @ Grand Central
CATEGORIES:Clubs & Groups,Grand Central
ORGANIZER;CN="Jane Jones":MAILTO:jjonestexas@gmail.com
END:VEVENT
BEGIN:VEVENT
DTSTART;TZID=America/Chicago:20260518T160000
DTEND;TZID=America/Chicago:20260518T200000
DTSTAMP:20260419T195239
CREATED:20251203T162932Z
LAST-MODIFIED:20251203T162932Z
UID:10079421-1779120000-1779134400@www.kissingtreeresidents.org
SUMMARY:Men’s Dart League 
DESCRIPTION:Are you ready to test your skills\, meet fellow players\, and compete in a fun\, social\, and competitive dart league? \nThe KT Men’s Dart League wants YOU on the board! \nLeague Highlights- Weekly matches at the Depot that are open to all skill levels\, friendly competition\, & seasonal playoff tournaments & leagues. \nFor more information contact Del Jantzen at deljantzen@me.com
URL:https://www.kissingtreeresidents.org/event/mens-dart-league/2026-05-18/
LOCATION:The Depot @ Grand Central
CATEGORIES:Clubs & Groups,Grand Central,Sports Courts
ORGANIZER;CN="Del Jentzen":MAILTO:deljantzen@me.com
END:VEVENT
BEGIN:VEVENT
DTSTART;TZID=America/Chicago:20260519T100000
DTEND;TZID=America/Chicago:20260519T110000
DTSTAMP:20260419T195239
CREATED:20260105T185552Z
LAST-MODIFIED:20260105T185552Z
UID:10081371-1779184800-1779188400@www.kissingtreeresidents.org
SUMMARY:Website Ortientation
DESCRIPTION:Whether you’re tech savvy or not\, it can help to have a refresher on how to use the resident website. Bring the device you use most often (laptop\, cell phone\, or tablet) and be ready to learn about logging in\, event and class registration\, and how to find things on the website.\n\nNo registration is required to attend.
URL:https://www.kissingtreeresidents.org/event/website-ortientation/2026-05-19/
LOCATION:The Depot @ Grand Central
CATEGORIES:Events,Grand Central
ORGANIZER;CN="Kissing Tree Community Life":MAILTO:ktmc@coherelife.com
END:VEVENT
BEGIN:VEVENT
DTSTART;TZID=America/Chicago:20260519T120000
DTEND;TZID=America/Chicago:20260519T130000
DTSTAMP:20260419T195239
CREATED:20251203T205409Z
LAST-MODIFIED:20251203T205618Z
UID:10080651-1779192000-1779195600@www.kissingtreeresidents.org
SUMMARY:Pickleball Orientation
DESCRIPTION:Whether you’re new to pickleball or an experienced player\, join us for a free “non-playing” orientation session to learn everything you need to get started at Kissing Tree. \nBring your questions and find out about: \n\nWhat Open Play is all about\nThe Kissing Tree Pickleball Association and how to get involved\nThe many ways you can join our amazing pickleball community\n\nDon’t miss this chance to meet fellow players and start your journey into the world of pickleball!
URL:https://www.kissingtreeresidents.org/event/pickleball-orientation-2-2/2026-05-19/
LOCATION:The Depot @ Grand Central
CATEGORIES:Clubs & Groups,Grand Central
END:VEVENT
BEGIN:VEVENT
DTSTART;TZID=America/Chicago:20260519T123000
DTEND;TZID=America/Chicago:20260519T151500
DTSTAMP:20260419T195239
CREATED:20260128T150617Z
LAST-MODIFIED:20260128T150617Z
UID:10082267-1779193800-1779203700@www.kissingtreeresidents.org
SUMMARY:American Mahjong For All
DESCRIPTION:The American Mahjong For All is a group that brings together Mahjong enthusiasts to share the love of the game\, learn from each other\, and enjoy friendly competition. The group embraces players of all skill levels\, offering opportunities for both beginners and experienced players to participate in regular games and discussions. \nWe invite KT residents to join this vibrant group and discover the fun of American Mahjong. Whether you’re a seasoned pro or new to the game\, you’ll find a supportive and enjoyable environment to improve your skills and make new friends. Don’t miss out on the fun – come play with us!
URL:https://www.kissingtreeresidents.org/event/american-mahjong-for-all-2-2/2026-05-19/
LOCATION:The Stump @ Grand Central
CATEGORIES:Clubs & Groups,Grand Central
ORGANIZER;CN="Martha Beam":MAILTO:mbean0120@gmail.com
END:VEVENT
BEGIN:VEVENT
DTSTART;TZID=America/Chicago:20260519T151500
DTEND;TZID=America/Chicago:20260519T173000
DTSTAMP:20260419T195239
CREATED:20251203T170021Z
LAST-MODIFIED:20251203T170201Z
UID:10079759-1779203700-1779211800@www.kissingtreeresidents.org
SUMMARY:Canasta Group
DESCRIPTION:Looking for a fun and social way to spend time with neighbors? The Canasta Group is a friendly and welcoming community for anyone interested in playing Canasta\, a classic card game that’s easy to learn and full of excitement. Whether you’re a seasoned player or new to the game\, everyone is invited to join in the fun\, meet new people\, and enjoy some friendly competition. Come and play\, have fun\, and make new friends!
URL:https://www.kissingtreeresidents.org/event/canasta-group-2/2026-05-19/
LOCATION:The Stump @ Grand Central
CATEGORIES:Clubs & Groups,Grand Central
ORGANIZER;CN="Jody Milstone":MAILTO:JodyMilst1@aol.com
END:VEVENT
BEGIN:VEVENT
DTSTART;TZID=America/Chicago:20260519T160000
DTEND;TZID=America/Chicago:20260519T200000
DTSTAMP:20260419T195239
CREATED:20251203T170431Z
LAST-MODIFIED:20251203T170431Z
UID:10079811-1779206400-1779220800@www.kissingtreeresidents.org
SUMMARY:Darts Open Play
DESCRIPTION:You’re invited to a fun and friendly Darts Open Play at The Depot! Whether you’re a seasoned pro or a beginner\, this is the perfect opportunity to enjoy the game\, meet your neighbors\, and have a great time. No experience needed – just bring your competitive spirit and enjoy a laid-back atmosphere. All KT residents are invited so grab your friends and come have some fun! We look forward to seeing you there! \n 
URL:https://www.kissingtreeresidents.org/event/darts-open-play-2/2026-05-19/
LOCATION:The Depot @ Grand Central
CATEGORIES:Clubs & Groups,Grand Central,Sports Courts
ORGANIZER;CN="Del Jentzen":MAILTO:deljantzen@me.com
END:VEVENT
BEGIN:VEVENT
DTSTART;TZID=America/Chicago:20260520T100000
DTEND;TZID=America/Chicago:20260520T113000
DTSTAMP:20260419T195239
CREATED:20251107T182945Z
LAST-MODIFIED:20251203T203650Z
UID:10078402-1779271200-1779276600@www.kissingtreeresidents.org
SUMMARY:Advanced Abstract Painting
DESCRIPTION:This class is designed for experienced artists seeking to refine their abstract painting skills\, expand their techniques\, and explore more complex conceptual themes. \nAdvanced level\, designed for KT residents with a strong foundation in painting\, who are familiar with color\, composition\, and basic techniques. \nBe sure to check on the KT Studio Buzz Facebook page for more information and/or updates. https://www.facebook.com/share/g/hca8izuKqpNZufZx/
URL:https://www.kissingtreeresidents.org/event/advanced-abstract-painting-5-2/2026-05-20/
LOCATION:Art Studio @ Grand Central
CATEGORIES:Clubs & Groups,Grand Central
ORGANIZER;CN="Susan Bond":MAILTO:susantadlock@hotmail.com
END:VEVENT
BEGIN:VEVENT
DTSTART;TZID=America/Chicago:20260520T150000
DTEND;TZID=America/Chicago:20260520T180000
DTSTAMP:20260419T195239
CREATED:20241219T223558Z
LAST-MODIFIED:20251203T172048Z
UID:10055366-1779289200-1779300000@www.kissingtreeresidents.org
SUMMARY:Mahjong Fairways
DESCRIPTION:The Mahjong Fairway Group is a community of Mahjong players of all skill levels. They share their passion for the game\, and enjoy friendly competition. Whether you are a beginner or an experienced player\, the group fosters an inclusive and supportive environment where everyone can improve their skills and have fun. \nWe invite KT residents to join the Mahjong Fairway Group! Whether you’re looking to learn the game\, meet new people\, or simply enjoy the game. Come and be a part of the fun!
URL:https://www.kissingtreeresidents.org/event/mahjong-fairways-3/2026-05-20/
LOCATION:The Stump @ Grand Central
CATEGORIES:Clubs & Groups,Grand Central
END:VEVENT
BEGIN:VEVENT
DTSTART;TZID=America/Chicago:20260521T080000
DTEND;TZID=America/Chicago:20260521T093000
DTSTAMP:20260419T195239
CREATED:20260218T194703Z
LAST-MODIFIED:20260218T194703Z
UID:10082373-1779350400-1779355800@www.kissingtreeresidents.org
SUMMARY:MANUP Men’s Group
DESCRIPTION:MANUP is a non-denominational\, Jesus-centered ministry founded in Austin\, Texas. For over a decade\, we’ve been connecting men with God and other men through weekly Bible study groups\, community events\, weekend retreats\, free online content\, and pastoral care. What does it really mean to MANUP? More than a set of rules or guidelines\, it’s a lifestyle. A code of core principles that shapes your everyday life. Our community is designed to support every man on his journey as a husband\, father\, and leader. Contact Rick or click on manup.org to learn more. \n 
URL:https://www.kissingtreeresidents.org/event/manup-mens-group/2026-05-21/
LOCATION:The Depot at Grand Central
CATEGORIES:Clubs & Groups,Grand Central
ORGANIZER;CN="Rick Davis":MAILTO:rickdavis1016@gmail.com
END:VEVENT
BEGIN:VEVENT
DTSTART;TZID=America/Chicago:20260521T130000
DTEND;TZID=America/Chicago:20260521T153000
DTSTAMP:20260419T195239
CREATED:20241218T204435Z
LAST-MODIFIED:20251203T173233Z
UID:10080056-1779368400-1779377400@www.kissingtreeresidents.org
SUMMARY:Mahjong Mavens
DESCRIPTION:Whether you’re a seasoned player or someone who has never picked up a tile\, we welcome players of all skill levels. Our group is all about enjoying the game together in a relaxed and supportive atmosphere. Meet fellow KT residents\, make new friends\, and enjoy good company while playing Mahjong. \nJust bring yourself and an eagerness to play. We’ll guide you through the rules if you’re new!
URL:https://www.kissingtreeresidents.org/event/mahjong-mavens/2026-05-21/
LOCATION:The Stump @ Grand Central
CATEGORIES:Clubs & Groups,Grand Central
END:VEVENT
BEGIN:VEVENT
DTSTART;TZID=America/Chicago:20260521T163000
DTEND;TZID=America/Chicago:20260521T200000
DTSTAMP:20260419T195239
CREATED:20241210T224547Z
LAST-MODIFIED:20251203T172846Z
UID:10080004-1779381000-1779393600@www.kissingtreeresidents.org
SUMMARY:Lady Darters
DESCRIPTION:
URL:https://www.kissingtreeresidents.org/event/lady-darters/2026-05-21/
LOCATION:The Depot @ Grand Central
CATEGORIES:Clubs & Groups,Grand Central
END:VEVENT
BEGIN:VEVENT
DTSTART;TZID=America/Chicago:20260522T100000
DTEND;TZID=America/Chicago:20260522T130000
DTSTAMP:20260419T195239
CREATED:20251203T150129Z
LAST-MODIFIED:20251203T150305Z
UID:10078760-1779444000-1779454800@www.kissingtreeresidents.org
SUMMARY:Creative Jam Art Class
DESCRIPTION:Be sure to check on the KT Studio Buzz Facebook page for more information and/or updates. https://www.facebook.com/share/g/hca8izuKqpNZufZx/
URL:https://www.kissingtreeresidents.org/event/creative-jam-art-class/2026-05-22/
LOCATION:Art Studio @ Grand Central
CATEGORIES:Clubs & Groups,Grand Central
ORGANIZER;CN="Sharon Meaden":MAILTO:revivedglory@yahoo.com
END:VEVENT
BEGIN:VEVENT
DTSTART;TZID=America/Chicago:20260522T130000
DTEND;TZID=America/Chicago:20260522T150000
DTSTAMP:20260419T195239
CREATED:20251203T150711Z
LAST-MODIFIED:20251203T150711Z
UID:10078811-1779454800-1779462000@www.kissingtreeresidents.org
SUMMARY:Ping Pong Open Play
DESCRIPTION:Tables are located in The Depot at Grand Central. Please close tables and store along wall when finished playing. Contact Community Engagement Director Kevin Wilson for more information.
URL:https://www.kissingtreeresidents.org/event/ping-pong-open-play/2026-05-22/
LOCATION:The Depot @ Grand Central
CATEGORIES:Clubs & Groups,Grand Central
ORGANIZER;CN="Kevin Wilson":MAILTO:kwilson@coherelife.com
END:VEVENT
BEGIN:VEVENT
DTSTART;TZID=America/Chicago:20260524T113000
DTEND;TZID=America/Chicago:20260524T140000
DTSTAMP:20260419T195239
CREATED:20251203T194315Z
LAST-MODIFIED:20251203T194704Z
UID:10080352-1779622200-1779631200@www.kissingtreeresidents.org
SUMMARY:Darts Open Play
DESCRIPTION:You’re Invited to Darts Open Play! \nJoin us for an exciting and fun-filled norming of darts! Whether you’re a seasoned player or a beginner\, come enjoy the friendly competition and good company. Don’t miss out on this chance to play\, socialize\, and have fun. We look forward to seeing you there!
URL:https://www.kissingtreeresidents.org/event/lady-darters-2-2/2026-05-24/
LOCATION:The Depot @ Grand Central
CATEGORIES:Clubs & Groups,Grand Central,Sports Courts
END:VEVENT
BEGIN:VEVENT
DTSTART;TZID=America/Chicago:20260524T133000
DTEND;TZID=America/Chicago:20260524T163000
DTSTAMP:20260419T195239
CREATED:20260113T200844Z
LAST-MODIFIED:20260113T204010Z
UID:10081430-1779629400-1779640200@www.kissingtreeresidents.org
SUMMARY:Scrabble Board Game Group
DESCRIPTION:The Scrabble group meets on Sunday afternoons for friendly games and casual play. This is the group meeting time for those who enjoy the board game with friends.
URL:https://www.kissingtreeresidents.org/event/scrabble-board-game-group/2026-05-24/
LOCATION:The Stump @ Grand Central
CATEGORIES:Clubs & Groups,Grand Central
ORGANIZER;CN="Patrick Johnson":MAILTO:dorlanj@icloud.com
END:VEVENT
BEGIN:VEVENT
DTSTART;TZID=America/Chicago:20260524T160000
DTEND;TZID=America/Chicago:20260524T200000
DTSTAMP:20260419T195239
CREATED:20251203T194546Z
LAST-MODIFIED:20251203T220518Z
UID:10080492-1779638400-1779652800@www.kissingtreeresidents.org
SUMMARY:Euchre
DESCRIPTION:KT residents are invited to join a fun and friendly Euchre game! Euchre is a fast-paced\, social game perfect for anyone who enjoys a challenge and a fun mix of strategy and luck\, Come test your skills\, enjoy some friendly competitions\, and meet new people!
URL:https://www.kissingtreeresidents.org/event/euchre-2/2026-05-24/
LOCATION:The Depot @ Grand Central
CATEGORIES:Clubs & Groups,Grand Central
ORGANIZER;CN="Jane Lawson":MAILTO:jane@janeplawson.com
END:VEVENT
BEGIN:VEVENT
DTSTART;TZID=America/Chicago:20260525T100000
DTEND;TZID=America/Chicago:20260525T120000
DTSTAMP:20260419T195239
CREATED:20251217T152844Z
LAST-MODIFIED:20251217T153019Z
UID:10081160-1779703200-1779710400@www.kissingtreeresidents.org
SUMMARY:Open Studio
DESCRIPTION:Every Monday now: Open Studio & Paint-by-Numbers with Dee Hutchison & Tracey Younes\,  no RSVP required. \nThis is also your opportunity to join others in a relaxed setting where you can work on the Paint-by-Numbers creations. You can bring your own kit or take part in a group order to help keep costs down—pricing will vary based on your selection. For more information on these projects please text Tracey Younes at 512-784-4256. \nFor more information Contact Dee Hutchison at 512-773-7410 \nBe sure to check on the KT Studio Buzz Facebook page for more information and/or updates. https://www.facebook.com/share/g/hca8izuKqpNZufZx/
URL:https://www.kissingtreeresidents.org/event/open-studio-2-2-2-2/2026-05-25/
LOCATION:Art Studio @ Grand Central
CATEGORIES:Clubs & Groups,Grand Central
END:VEVENT
BEGIN:VEVENT
DTSTART;TZID=America/Chicago:20260525T143000
DTEND;TZID=America/Chicago:20260525T160000
DTSTAMP:20260419T195239
CREATED:20250613T150253Z
LAST-MODIFIED:20251203T152804Z
UID:10059886-1779719400-1779724800@www.kissingtreeresidents.org
SUMMARY:Sketch Happens
DESCRIPTION:No RSVP is required Bring your own supplies and practice sketching with others. Either a video lesson\, drawn from a photo\, or instructor-led session will be offered. Supplies to bring could include sketching or watercolor paper\, pencil\, pens or fine markers\, watercolors or colored pencils (optional). There are typically supplies to share if you don’t have any. Frequently information about each meeting is posted on the KT Studio Buzz Facebook site. \nContact Jane Jones for any questions or more info: jjonestexas@gmail.com.
URL:https://www.kissingtreeresidents.org/event/sketch-happens-2-2/2026-05-25/
LOCATION:Art Studio @ Grand Central
CATEGORIES:Clubs & Groups,Grand Central
ORGANIZER;CN="Jane Jones":MAILTO:jjonestexas@gmail.com
END:VEVENT
BEGIN:VEVENT
DTSTART;TZID=America/Chicago:20260525T160000
DTEND;TZID=America/Chicago:20260525T200000
DTSTAMP:20260419T195239
CREATED:20251203T162932Z
LAST-MODIFIED:20251203T162932Z
UID:10079422-1779724800-1779739200@www.kissingtreeresidents.org
SUMMARY:Men’s Dart League 
DESCRIPTION:Are you ready to test your skills\, meet fellow players\, and compete in a fun\, social\, and competitive dart league? \nThe KT Men’s Dart League wants YOU on the board! \nLeague Highlights- Weekly matches at the Depot that are open to all skill levels\, friendly competition\, & seasonal playoff tournaments & leagues. \nFor more information contact Del Jantzen at deljantzen@me.com
URL:https://www.kissingtreeresidents.org/event/mens-dart-league/2026-05-25/
LOCATION:The Depot @ Grand Central
CATEGORIES:Clubs & Groups,Grand Central,Sports Courts
ORGANIZER;CN="Del Jentzen":MAILTO:deljantzen@me.com
END:VEVENT
BEGIN:VEVENT
DTSTART;TZID=America/Chicago:20260526T123000
DTEND;TZID=America/Chicago:20260526T151500
DTSTAMP:20260419T195239
CREATED:20260128T150617Z
LAST-MODIFIED:20260128T150617Z
UID:10082268-1779798600-1779808500@www.kissingtreeresidents.org
SUMMARY:American Mahjong For All
DESCRIPTION:The American Mahjong For All is a group that brings together Mahjong enthusiasts to share the love of the game\, learn from each other\, and enjoy friendly competition. The group embraces players of all skill levels\, offering opportunities for both beginners and experienced players to participate in regular games and discussions. \nWe invite KT residents to join this vibrant group and discover the fun of American Mahjong. Whether you’re a seasoned pro or new to the game\, you’ll find a supportive and enjoyable environment to improve your skills and make new friends. Don’t miss out on the fun – come play with us!
URL:https://www.kissingtreeresidents.org/event/american-mahjong-for-all-2-2/2026-05-26/
LOCATION:The Stump @ Grand Central
CATEGORIES:Clubs & Groups,Grand Central
ORGANIZER;CN="Martha Beam":MAILTO:mbean0120@gmail.com
END:VEVENT
END:VCALENDAR