BEGIN:VCALENDAR
VERSION:2.0
PRODID:-//Kissing Tree Resident Website - ECPv6.15.18//NONSGML v1.0//EN
CALSCALE:GREGORIAN
METHOD:PUBLISH
X-ORIGINAL-URL:https://www.kissingtreeresidents.org
X-WR-CALDESC:Events for Kissing Tree Resident Website
REFRESH-INTERVAL;VALUE=DURATION:PT1H
X-Robots-Tag:noindex
X-PUBLISHED-TTL:PT1H
BEGIN:VTIMEZONE
TZID:America/Chicago
BEGIN:DAYLIGHT
TZOFFSETFROM:-0600
TZOFFSETTO:-0500
TZNAME:CDT
DTSTART:20250309T080000
END:DAYLIGHT
BEGIN:STANDARD
TZOFFSETFROM:-0500
TZOFFSETTO:-0600
TZNAME:CST
DTSTART:20251102T070000
END:STANDARD
BEGIN:DAYLIGHT
TZOFFSETFROM:-0600
TZOFFSETTO:-0500
TZNAME:CDT
DTSTART:20260308T080000
END:DAYLIGHT
BEGIN:STANDARD
TZOFFSETFROM:-0500
TZOFFSETTO:-0600
TZNAME:CST
DTSTART:20261101T070000
END:STANDARD
BEGIN:DAYLIGHT
TZOFFSETFROM:-0600
TZOFFSETTO:-0500
TZNAME:CDT
DTSTART:20270314T080000
END:DAYLIGHT
BEGIN:STANDARD
TZOFFSETFROM:-0500
TZOFFSETTO:-0600
TZNAME:CST
DTSTART:20271107T070000
END:STANDARD
END:VTIMEZONE
BEGIN:VEVENT
DTSTART;TZID=America/Chicago:20260428T151500
DTEND;TZID=America/Chicago:20260428T173000
DTSTAMP:20260419T230828
CREATED:20251203T170021Z
LAST-MODIFIED:20251203T170201Z
UID:10079756-1777389300-1777397400@www.kissingtreeresidents.org
SUMMARY:Canasta Group
DESCRIPTION:Looking for a fun and social way to spend time with neighbors? The Canasta Group is a friendly and welcoming community for anyone interested in playing Canasta\, a classic card game that’s easy to learn and full of excitement. Whether you’re a seasoned player or new to the game\, everyone is invited to join in the fun\, meet new people\, and enjoy some friendly competition. Come and play\, have fun\, and make new friends!
URL:https://www.kissingtreeresidents.org/event/canasta-group-2/2026-04-28/
LOCATION:The Stump @ Grand Central
CATEGORIES:Clubs & Groups,Grand Central
ORGANIZER;CN="Jody Milstone":MAILTO:JodyMilst1@aol.com
END:VEVENT
BEGIN:VEVENT
DTSTART;TZID=America/Chicago:20260428T160000
DTEND;TZID=America/Chicago:20260428T200000
DTSTAMP:20260419T230828
CREATED:20251203T170431Z
LAST-MODIFIED:20251203T170431Z
UID:10079808-1777392000-1777406400@www.kissingtreeresidents.org
SUMMARY:Darts Open Play
DESCRIPTION:You’re invited to a fun and friendly Darts Open Play at The Depot! Whether you’re a seasoned pro or a beginner\, this is the perfect opportunity to enjoy the game\, meet your neighbors\, and have a great time. No experience needed – just bring your competitive spirit and enjoy a laid-back atmosphere. All KT residents are invited so grab your friends and come have some fun! We look forward to seeing you there! \n 
URL:https://www.kissingtreeresidents.org/event/darts-open-play-2/2026-04-28/
LOCATION:The Depot @ Grand Central
CATEGORIES:Clubs & Groups,Grand Central,Sports Courts
ORGANIZER;CN="Del Jentzen":MAILTO:deljantzen@me.com
END:VEVENT
BEGIN:VEVENT
DTSTART;TZID=America/Chicago:20260429T090000
DTEND;TZID=America/Chicago:20260429T120000
DTSTAMP:20260419T230828
CREATED:20260324T174309Z
LAST-MODIFIED:20260324T174656Z
UID:10083646-1777453200-1777464000@www.kissingtreeresidents.org
SUMMARY:Make Jewelry Art
DESCRIPTION:April 29 & May 1 (2-part class\, must attend both) \nBack by popular demand\, Beverly is once again offering a 2-part class on how to make beautiful pictures using old jewelry pieces. The 2 days are needed because of the length of time it takes to decide on your design (Beverly will help you!)\, prep your jewelry\, and start to create your art. Search your old jewelry for beaded necklaces\, chains\, earrings\, brooches\, watches\, and other jewelry items that you don’t want to wear anymore. You can make holiday designs\, bouquets/flowers\, animals\, or other designs. Beverly will bring some extra pieces to share\, as needed. Tools\, paper\, and frames will be provided for $20\, payable at the door. Look out for her post on the KT Studio Buzz! Facebook site by using the magnifying glass in the upper right corner of the Buzz and searching for her name. \nMust RSVP to Beverly at 1985beverly@gmail.com.
URL:https://www.kissingtreeresidents.org/event/make-jewelry-art/
LOCATION:Art Studio @ Grand Central
CATEGORIES:Clubs & Groups,Grand Central
ORGANIZER;CN="Beverly Pritchett":MAILTO:1985beverly@gmail.com
END:VEVENT
BEGIN:VEVENT
DTSTART;TZID=America/Chicago:20260429T150000
DTEND;TZID=America/Chicago:20260429T180000
DTSTAMP:20260419T230828
CREATED:20241219T223558Z
LAST-MODIFIED:20251203T172048Z
UID:10055363-1777474800-1777485600@www.kissingtreeresidents.org
SUMMARY:Mahjong Fairways
DESCRIPTION:The Mahjong Fairway Group is a community of Mahjong players of all skill levels. They share their passion for the game\, and enjoy friendly competition. Whether you are a beginner or an experienced player\, the group fosters an inclusive and supportive environment where everyone can improve their skills and have fun. \nWe invite KT residents to join the Mahjong Fairway Group! Whether you’re looking to learn the game\, meet new people\, or simply enjoy the game. Come and be a part of the fun!
URL:https://www.kissingtreeresidents.org/event/mahjong-fairways-3/2026-04-29/
LOCATION:The Stump @ Grand Central
CATEGORIES:Clubs & Groups,Grand Central
END:VEVENT
BEGIN:VEVENT
DTSTART;TZID=America/Chicago:20260430T080000
DTEND;TZID=America/Chicago:20260430T093000
DTSTAMP:20260419T230828
CREATED:20260218T194703Z
LAST-MODIFIED:20260218T194703Z
UID:10082370-1777536000-1777541400@www.kissingtreeresidents.org
SUMMARY:MANUP Men’s Group
DESCRIPTION:MANUP is a non-denominational\, Jesus-centered ministry founded in Austin\, Texas. For over a decade\, we’ve been connecting men with God and other men through weekly Bible study groups\, community events\, weekend retreats\, free online content\, and pastoral care. What does it really mean to MANUP? More than a set of rules or guidelines\, it’s a lifestyle. A code of core principles that shapes your everyday life. Our community is designed to support every man on his journey as a husband\, father\, and leader. Contact Rick or click on manup.org to learn more. \n 
URL:https://www.kissingtreeresidents.org/event/manup-mens-group/2026-04-30/
LOCATION:The Depot at Grand Central
CATEGORIES:Clubs & Groups,Grand Central
ORGANIZER;CN="Rick Davis":MAILTO:rickdavis1016@gmail.com
END:VEVENT
BEGIN:VEVENT
DTSTART;TZID=America/Chicago:20260430T130000
DTEND;TZID=America/Chicago:20260430T153000
DTSTAMP:20260419T230828
CREATED:20241218T204435Z
LAST-MODIFIED:20251203T173233Z
UID:10080053-1777554000-1777563000@www.kissingtreeresidents.org
SUMMARY:Mahjong Mavens
DESCRIPTION:Whether you’re a seasoned player or someone who has never picked up a tile\, we welcome players of all skill levels. Our group is all about enjoying the game together in a relaxed and supportive atmosphere. Meet fellow KT residents\, make new friends\, and enjoy good company while playing Mahjong. \nJust bring yourself and an eagerness to play. We’ll guide you through the rules if you’re new!
URL:https://www.kissingtreeresidents.org/event/mahjong-mavens/2026-04-30/
LOCATION:The Stump @ Grand Central
CATEGORIES:Clubs & Groups,Grand Central
END:VEVENT
BEGIN:VEVENT
DTSTART;TZID=America/Chicago:20260430T163000
DTEND;TZID=America/Chicago:20260430T200000
DTSTAMP:20260419T230828
CREATED:20241210T224547Z
LAST-MODIFIED:20251203T172846Z
UID:10080001-1777566600-1777579200@www.kissingtreeresidents.org
SUMMARY:Lady Darters
DESCRIPTION:
URL:https://www.kissingtreeresidents.org/event/lady-darters/2026-04-30/
LOCATION:The Depot @ Grand Central
CATEGORIES:Clubs & Groups,Grand Central
END:VEVENT
BEGIN:VEVENT
DTSTART;TZID=America/Chicago:20260501T090000
DTEND;TZID=America/Chicago:20260501T120000
DTSTAMP:20260419T230828
CREATED:20260324T174454Z
LAST-MODIFIED:20260324T174454Z
UID:10083647-1777626000-1777636800@www.kissingtreeresidents.org
SUMMARY:Make Jewelry Art
DESCRIPTION:April 29 & May 1 (2-part class\, must attend both) \nBack by popular demand\, Beverly is once again offering a 2-part class on how to make beautiful pictures using old jewelry pieces. The 2 days are needed because of the length of time it takes to decide on your design (Beverly will help you!)\, prep your jewelry\, and start to create your art. Search your old jewelry for beaded necklaces\, chains\, earrings\, brooches\, watches\, and other jewelry items that you don’t want to wear anymore. You can make holiday designs\, bouquets/flowers\, animals\, or other designs. Beverly will bring some extra pieces to share\, as needed. Tools\, paper\, and frames will be provided for $20\, payable at the door. Look out for her post on the KT Studio Buzz! Facebook site by using the magnifying glass in the upper right corner of the Buzz and searching for her name. \nMust RSVP to Beverly at 1985beverly@gmail.com.
URL:https://www.kissingtreeresidents.org/event/make-jewelry-art-2/
LOCATION:Art Studio @ Grand Central
CATEGORIES:Clubs & Groups,Grand Central
ORGANIZER;CN="Beverly Pritchett":MAILTO:1985beverly@gmail.com
END:VEVENT
BEGIN:VEVENT
DTSTART;TZID=America/Chicago:20260501T100000
DTEND;TZID=America/Chicago:20260501T130000
DTSTAMP:20260419T230828
CREATED:20251203T150129Z
LAST-MODIFIED:20251203T150305Z
UID:10078757-1777629600-1777640400@www.kissingtreeresidents.org
SUMMARY:Creative Jam Art Class
DESCRIPTION:Be sure to check on the KT Studio Buzz Facebook page for more information and/or updates. https://www.facebook.com/share/g/hca8izuKqpNZufZx/
URL:https://www.kissingtreeresidents.org/event/creative-jam-art-class/2026-05-01/
LOCATION:Art Studio @ Grand Central
CATEGORIES:Clubs & Groups,Grand Central
ORGANIZER;CN="Sharon Meaden":MAILTO:revivedglory@yahoo.com
END:VEVENT
BEGIN:VEVENT
DTSTART;TZID=America/Chicago:20260501T130000
DTEND;TZID=America/Chicago:20260501T150000
DTSTAMP:20260419T230828
CREATED:20251203T150711Z
LAST-MODIFIED:20251203T150711Z
UID:10078808-1777640400-1777647600@www.kissingtreeresidents.org
SUMMARY:Ping Pong Open Play
DESCRIPTION:Tables are located in The Depot at Grand Central. Please close tables and store along wall when finished playing. Contact Community Engagement Director Kevin Wilson for more information.
URL:https://www.kissingtreeresidents.org/event/ping-pong-open-play/2026-05-01/
LOCATION:The Depot @ Grand Central
CATEGORIES:Clubs & Groups,Grand Central
ORGANIZER;CN="Kevin Wilson":MAILTO:kwilson@coherelife.com
END:VEVENT
BEGIN:VEVENT
DTSTART;TZID=America/Chicago:20260503T113000
DTEND;TZID=America/Chicago:20260503T140000
DTSTAMP:20260419T230828
CREATED:20251203T194315Z
LAST-MODIFIED:20251203T194704Z
UID:10080349-1777807800-1777816800@www.kissingtreeresidents.org
SUMMARY:Darts Open Play
DESCRIPTION:You’re Invited to Darts Open Play! \nJoin us for an exciting and fun-filled norming of darts! Whether you’re a seasoned player or a beginner\, come enjoy the friendly competition and good company. Don’t miss out on this chance to play\, socialize\, and have fun. We look forward to seeing you there!
URL:https://www.kissingtreeresidents.org/event/lady-darters-2-2/2026-05-03/
LOCATION:The Depot @ Grand Central
CATEGORIES:Clubs & Groups,Grand Central,Sports Courts
END:VEVENT
BEGIN:VEVENT
DTSTART;TZID=America/Chicago:20260503T133000
DTEND;TZID=America/Chicago:20260503T163000
DTSTAMP:20260419T230828
CREATED:20260113T200844Z
LAST-MODIFIED:20260113T204010Z
UID:10081427-1777815000-1777825800@www.kissingtreeresidents.org
SUMMARY:Scrabble Board Game Group
DESCRIPTION:The Scrabble group meets on Sunday afternoons for friendly games and casual play. This is the group meeting time for those who enjoy the board game with friends.
URL:https://www.kissingtreeresidents.org/event/scrabble-board-game-group/2026-05-03/
LOCATION:The Stump @ Grand Central
CATEGORIES:Clubs & Groups,Grand Central
ORGANIZER;CN="Patrick Johnson":MAILTO:dorlanj@icloud.com
END:VEVENT
BEGIN:VEVENT
DTSTART;TZID=America/Chicago:20260504T100000
DTEND;TZID=America/Chicago:20260504T120000
DTSTAMP:20260419T230828
CREATED:20251217T152844Z
LAST-MODIFIED:20251217T153019Z
UID:10081157-1777888800-1777896000@www.kissingtreeresidents.org
SUMMARY:Open Studio
DESCRIPTION:Every Monday now: Open Studio & Paint-by-Numbers with Dee Hutchison & Tracey Younes\,  no RSVP required. \nThis is also your opportunity to join others in a relaxed setting where you can work on the Paint-by-Numbers creations. You can bring your own kit or take part in a group order to help keep costs down—pricing will vary based on your selection. For more information on these projects please text Tracey Younes at 512-784-4256. \nFor more information Contact Dee Hutchison at 512-773-7410 \nBe sure to check on the KT Studio Buzz Facebook page for more information and/or updates. https://www.facebook.com/share/g/hca8izuKqpNZufZx/
URL:https://www.kissingtreeresidents.org/event/open-studio-2-2-2-2/2026-05-04/
LOCATION:Art Studio @ Grand Central
CATEGORIES:Clubs & Groups,Grand Central
END:VEVENT
BEGIN:VEVENT
DTSTART;TZID=America/Chicago:20260504T143000
DTEND;TZID=America/Chicago:20260504T160000
DTSTAMP:20260419T230828
CREATED:20250613T150253Z
LAST-MODIFIED:20251203T152804Z
UID:10059883-1777905000-1777910400@www.kissingtreeresidents.org
SUMMARY:Sketch Happens
DESCRIPTION:No RSVP is required Bring your own supplies and practice sketching with others. Either a video lesson\, drawn from a photo\, or instructor-led session will be offered. Supplies to bring could include sketching or watercolor paper\, pencil\, pens or fine markers\, watercolors or colored pencils (optional). There are typically supplies to share if you don’t have any. Frequently information about each meeting is posted on the KT Studio Buzz Facebook site. \nContact Jane Jones for any questions or more info: jjonestexas@gmail.com.
URL:https://www.kissingtreeresidents.org/event/sketch-happens-2-2/2026-05-04/
LOCATION:Art Studio @ Grand Central
CATEGORIES:Clubs & Groups,Grand Central
ORGANIZER;CN="Jane Jones":MAILTO:jjonestexas@gmail.com
END:VEVENT
BEGIN:VEVENT
DTSTART;TZID=America/Chicago:20260504T160000
DTEND;TZID=America/Chicago:20260504T200000
DTSTAMP:20260419T230828
CREATED:20251203T162932Z
LAST-MODIFIED:20251203T162932Z
UID:10079419-1777910400-1777924800@www.kissingtreeresidents.org
SUMMARY:Men’s Dart League 
DESCRIPTION:Are you ready to test your skills\, meet fellow players\, and compete in a fun\, social\, and competitive dart league? \nThe KT Men’s Dart League wants YOU on the board! \nLeague Highlights- Weekly matches at the Depot that are open to all skill levels\, friendly competition\, & seasonal playoff tournaments & leagues. \nFor more information contact Del Jantzen at deljantzen@me.com
URL:https://www.kissingtreeresidents.org/event/mens-dart-league/2026-05-04/
LOCATION:The Depot @ Grand Central
CATEGORIES:Clubs & Groups,Grand Central,Sports Courts
ORGANIZER;CN="Del Jentzen":MAILTO:deljantzen@me.com
END:VEVENT
BEGIN:VEVENT
DTSTART;TZID=America/Chicago:20260505T123000
DTEND;TZID=America/Chicago:20260505T151500
DTSTAMP:20260419T230828
CREATED:20260128T150617Z
LAST-MODIFIED:20260128T150617Z
UID:10082265-1777984200-1777994100@www.kissingtreeresidents.org
SUMMARY:American Mahjong For All
DESCRIPTION:The American Mahjong For All is a group that brings together Mahjong enthusiasts to share the love of the game\, learn from each other\, and enjoy friendly competition. The group embraces players of all skill levels\, offering opportunities for both beginners and experienced players to participate in regular games and discussions. \nWe invite KT residents to join this vibrant group and discover the fun of American Mahjong. Whether you’re a seasoned pro or new to the game\, you’ll find a supportive and enjoyable environment to improve your skills and make new friends. Don’t miss out on the fun – come play with us!
URL:https://www.kissingtreeresidents.org/event/american-mahjong-for-all-2-2/2026-05-05/
LOCATION:The Stump @ Grand Central
CATEGORIES:Clubs & Groups,Grand Central
ORGANIZER;CN="Martha Beam":MAILTO:mbean0120@gmail.com
END:VEVENT
BEGIN:VEVENT
DTSTART;TZID=America/Chicago:20260505T151500
DTEND;TZID=America/Chicago:20260505T173000
DTSTAMP:20260419T230828
CREATED:20251203T170021Z
LAST-MODIFIED:20251203T170201Z
UID:10079757-1777994100-1778002200@www.kissingtreeresidents.org
SUMMARY:Canasta Group
DESCRIPTION:Looking for a fun and social way to spend time with neighbors? The Canasta Group is a friendly and welcoming community for anyone interested in playing Canasta\, a classic card game that’s easy to learn and full of excitement. Whether you’re a seasoned player or new to the game\, everyone is invited to join in the fun\, meet new people\, and enjoy some friendly competition. Come and play\, have fun\, and make new friends!
URL:https://www.kissingtreeresidents.org/event/canasta-group-2/2026-05-05/
LOCATION:The Stump @ Grand Central
CATEGORIES:Clubs & Groups,Grand Central
ORGANIZER;CN="Jody Milstone":MAILTO:JodyMilst1@aol.com
END:VEVENT
BEGIN:VEVENT
DTSTART;TZID=America/Chicago:20260505T160000
DTEND;TZID=America/Chicago:20260505T200000
DTSTAMP:20260419T230828
CREATED:20251203T170431Z
LAST-MODIFIED:20251203T170431Z
UID:10079809-1777996800-1778011200@www.kissingtreeresidents.org
SUMMARY:Darts Open Play
DESCRIPTION:You’re invited to a fun and friendly Darts Open Play at The Depot! Whether you’re a seasoned pro or a beginner\, this is the perfect opportunity to enjoy the game\, meet your neighbors\, and have a great time. No experience needed – just bring your competitive spirit and enjoy a laid-back atmosphere. All KT residents are invited so grab your friends and come have some fun! We look forward to seeing you there! \n 
URL:https://www.kissingtreeresidents.org/event/darts-open-play-2/2026-05-05/
LOCATION:The Depot @ Grand Central
CATEGORIES:Clubs & Groups,Grand Central,Sports Courts
ORGANIZER;CN="Del Jentzen":MAILTO:deljantzen@me.com
END:VEVENT
BEGIN:VEVENT
DTSTART;TZID=America/Chicago:20260506T100000
DTEND;TZID=America/Chicago:20260506T113000
DTSTAMP:20260419T230828
CREATED:20251107T183334Z
LAST-MODIFIED:20251203T202737Z
UID:10078408-1778061600-1778067000@www.kissingtreeresidents.org
SUMMARY:Advanced Abstract Painting
DESCRIPTION:This class is designed for experienced artists seeking to refine their abstract painting skills\, expand their techniques\, and explore more complex conceptual themes. \nAdvanced level\, designed for KT residents with a strong foundation in painting\, who are familiar with color\, composition\, and basic techniques. \nBe sure to check on the KT Studio Buzz Facebook page for more information and/or updates. https://www.facebook.com/share/g/hca8izuKqpNZufZx/
URL:https://www.kissingtreeresidents.org/event/advanced-abstract-painting-4-2-2/2026-05-06/
LOCATION:Art Studio @ Grand Central
CATEGORIES:Clubs & Groups,Grand Central
ORGANIZER;CN="Susan Bond":MAILTO:susantadlock@hotmail.com
END:VEVENT
BEGIN:VEVENT
DTSTART;TZID=America/Chicago:20260506T150000
DTEND;TZID=America/Chicago:20260506T180000
DTSTAMP:20260419T230828
CREATED:20241219T223558Z
LAST-MODIFIED:20251203T172048Z
UID:10055364-1778079600-1778090400@www.kissingtreeresidents.org
SUMMARY:Mahjong Fairways
DESCRIPTION:The Mahjong Fairway Group is a community of Mahjong players of all skill levels. They share their passion for the game\, and enjoy friendly competition. Whether you are a beginner or an experienced player\, the group fosters an inclusive and supportive environment where everyone can improve their skills and have fun. \nWe invite KT residents to join the Mahjong Fairway Group! Whether you’re looking to learn the game\, meet new people\, or simply enjoy the game. Come and be a part of the fun!
URL:https://www.kissingtreeresidents.org/event/mahjong-fairways-3/2026-05-06/
LOCATION:The Stump @ Grand Central
CATEGORIES:Clubs & Groups,Grand Central
END:VEVENT
BEGIN:VEVENT
DTSTART;TZID=America/Chicago:20260506T173000
DTEND;TZID=America/Chicago:20260506T193000
DTSTAMP:20260419T230828
CREATED:20251203T202054Z
LAST-MODIFIED:20251203T213634Z
UID:10080979-1778088600-1778095800@www.kissingtreeresidents.org
SUMMARY:All KT Bunco 2.0
DESCRIPTION:  \nCheck in begins at 5:00 PM at The Depot at Grand Central. \nBunco is $5. \nOnly 20 people per month can sign up. \nContact Sharon Silvestri at 281-732-3510 to be added to the email list. \n 
URL:https://www.kissingtreeresidents.org/event/all-kt-bunco-2-0-2-2/2026-05-06/
LOCATION:The Depot @ Grand Central
CATEGORIES:Clubs & Groups,Grand Central
END:VEVENT
BEGIN:VEVENT
DTSTART;TZID=America/Chicago:20260507T080000
DTEND;TZID=America/Chicago:20260507T093000
DTSTAMP:20260419T230828
CREATED:20260218T194703Z
LAST-MODIFIED:20260218T194703Z
UID:10082371-1778140800-1778146200@www.kissingtreeresidents.org
SUMMARY:MANUP Men’s Group
DESCRIPTION:MANUP is a non-denominational\, Jesus-centered ministry founded in Austin\, Texas. For over a decade\, we’ve been connecting men with God and other men through weekly Bible study groups\, community events\, weekend retreats\, free online content\, and pastoral care. What does it really mean to MANUP? More than a set of rules or guidelines\, it’s a lifestyle. A code of core principles that shapes your everyday life. Our community is designed to support every man on his journey as a husband\, father\, and leader. Contact Rick or click on manup.org to learn more. \n 
URL:https://www.kissingtreeresidents.org/event/manup-mens-group/2026-05-07/
LOCATION:The Depot at Grand Central
CATEGORIES:Clubs & Groups,Grand Central
ORGANIZER;CN="Rick Davis":MAILTO:rickdavis1016@gmail.com
END:VEVENT
BEGIN:VEVENT
DTSTART;TZID=America/Chicago:20260507T130000
DTEND;TZID=America/Chicago:20260507T153000
DTSTAMP:20260419T230828
CREATED:20241218T204435Z
LAST-MODIFIED:20251203T173233Z
UID:10080054-1778158800-1778167800@www.kissingtreeresidents.org
SUMMARY:Mahjong Mavens
DESCRIPTION:Whether you’re a seasoned player or someone who has never picked up a tile\, we welcome players of all skill levels. Our group is all about enjoying the game together in a relaxed and supportive atmosphere. Meet fellow KT residents\, make new friends\, and enjoy good company while playing Mahjong. \nJust bring yourself and an eagerness to play. We’ll guide you through the rules if you’re new!
URL:https://www.kissingtreeresidents.org/event/mahjong-mavens/2026-05-07/
LOCATION:The Stump @ Grand Central
CATEGORIES:Clubs & Groups,Grand Central
END:VEVENT
BEGIN:VEVENT
DTSTART;TZID=America/Chicago:20260507T163000
DTEND;TZID=America/Chicago:20260507T200000
DTSTAMP:20260419T230828
CREATED:20241210T224547Z
LAST-MODIFIED:20251203T172846Z
UID:10080002-1778171400-1778184000@www.kissingtreeresidents.org
SUMMARY:Lady Darters
DESCRIPTION:
URL:https://www.kissingtreeresidents.org/event/lady-darters/2026-05-07/
LOCATION:The Depot @ Grand Central
CATEGORIES:Clubs & Groups,Grand Central
END:VEVENT
BEGIN:VEVENT
DTSTART;TZID=America/Chicago:20260508T100000
DTEND;TZID=America/Chicago:20260508T130000
DTSTAMP:20260419T230828
CREATED:20251203T150129Z
LAST-MODIFIED:20251203T150305Z
UID:10078758-1778234400-1778245200@www.kissingtreeresidents.org
SUMMARY:Creative Jam Art Class
DESCRIPTION:Be sure to check on the KT Studio Buzz Facebook page for more information and/or updates. https://www.facebook.com/share/g/hca8izuKqpNZufZx/
URL:https://www.kissingtreeresidents.org/event/creative-jam-art-class/2026-05-08/
LOCATION:Art Studio @ Grand Central
CATEGORIES:Clubs & Groups,Grand Central
ORGANIZER;CN="Sharon Meaden":MAILTO:revivedglory@yahoo.com
END:VEVENT
BEGIN:VEVENT
DTSTART;TZID=America/Chicago:20260508T130000
DTEND;TZID=America/Chicago:20260508T150000
DTSTAMP:20260419T230828
CREATED:20251203T150711Z
LAST-MODIFIED:20251203T150711Z
UID:10078809-1778245200-1778252400@www.kissingtreeresidents.org
SUMMARY:Ping Pong Open Play
DESCRIPTION:Tables are located in The Depot at Grand Central. Please close tables and store along wall when finished playing. Contact Community Engagement Director Kevin Wilson for more information.
URL:https://www.kissingtreeresidents.org/event/ping-pong-open-play/2026-05-08/
LOCATION:The Depot @ Grand Central
CATEGORIES:Clubs & Groups,Grand Central
ORGANIZER;CN="Kevin Wilson":MAILTO:kwilson@coherelife.com
END:VEVENT
BEGIN:VEVENT
DTSTART;TZID=America/Chicago:20260510T113000
DTEND;TZID=America/Chicago:20260510T140000
DTSTAMP:20260419T230828
CREATED:20251203T194315Z
LAST-MODIFIED:20251203T194704Z
UID:10080350-1778412600-1778421600@www.kissingtreeresidents.org
SUMMARY:Darts Open Play
DESCRIPTION:You’re Invited to Darts Open Play! \nJoin us for an exciting and fun-filled norming of darts! Whether you’re a seasoned player or a beginner\, come enjoy the friendly competition and good company. Don’t miss out on this chance to play\, socialize\, and have fun. We look forward to seeing you there!
URL:https://www.kissingtreeresidents.org/event/lady-darters-2-2/2026-05-10/
LOCATION:The Depot @ Grand Central
CATEGORIES:Clubs & Groups,Grand Central,Sports Courts
END:VEVENT
BEGIN:VEVENT
DTSTART;TZID=America/Chicago:20260510T133000
DTEND;TZID=America/Chicago:20260510T163000
DTSTAMP:20260419T230828
CREATED:20260113T200844Z
LAST-MODIFIED:20260113T204010Z
UID:10081428-1778419800-1778430600@www.kissingtreeresidents.org
SUMMARY:Scrabble Board Game Group
DESCRIPTION:The Scrabble group meets on Sunday afternoons for friendly games and casual play. This is the group meeting time for those who enjoy the board game with friends.
URL:https://www.kissingtreeresidents.org/event/scrabble-board-game-group/2026-05-10/
LOCATION:The Stump @ Grand Central
CATEGORIES:Clubs & Groups,Grand Central
ORGANIZER;CN="Patrick Johnson":MAILTO:dorlanj@icloud.com
END:VEVENT
BEGIN:VEVENT
DTSTART;TZID=America/Chicago:20260511T100000
DTEND;TZID=America/Chicago:20260511T120000
DTSTAMP:20260419T230828
CREATED:20251217T152844Z
LAST-MODIFIED:20251217T153019Z
UID:10081158-1778493600-1778500800@www.kissingtreeresidents.org
SUMMARY:Open Studio
DESCRIPTION:Every Monday now: Open Studio & Paint-by-Numbers with Dee Hutchison & Tracey Younes\,  no RSVP required. \nThis is also your opportunity to join others in a relaxed setting where you can work on the Paint-by-Numbers creations. You can bring your own kit or take part in a group order to help keep costs down—pricing will vary based on your selection. For more information on these projects please text Tracey Younes at 512-784-4256. \nFor more information Contact Dee Hutchison at 512-773-7410 \nBe sure to check on the KT Studio Buzz Facebook page for more information and/or updates. https://www.facebook.com/share/g/hca8izuKqpNZufZx/
URL:https://www.kissingtreeresidents.org/event/open-studio-2-2-2-2/2026-05-11/
LOCATION:Art Studio @ Grand Central
CATEGORIES:Clubs & Groups,Grand Central
END:VEVENT
BEGIN:VEVENT
DTSTART;TZID=America/Chicago:20260511T143000
DTEND;TZID=America/Chicago:20260511T160000
DTSTAMP:20260419T230828
CREATED:20250613T150253Z
LAST-MODIFIED:20251203T152804Z
UID:10059884-1778509800-1778515200@www.kissingtreeresidents.org
SUMMARY:Sketch Happens
DESCRIPTION:No RSVP is required Bring your own supplies and practice sketching with others. Either a video lesson\, drawn from a photo\, or instructor-led session will be offered. Supplies to bring could include sketching or watercolor paper\, pencil\, pens or fine markers\, watercolors or colored pencils (optional). There are typically supplies to share if you don’t have any. Frequently information about each meeting is posted on the KT Studio Buzz Facebook site. \nContact Jane Jones for any questions or more info: jjonestexas@gmail.com.
URL:https://www.kissingtreeresidents.org/event/sketch-happens-2-2/2026-05-11/
LOCATION:Art Studio @ Grand Central
CATEGORIES:Clubs & Groups,Grand Central
ORGANIZER;CN="Jane Jones":MAILTO:jjonestexas@gmail.com
END:VEVENT
END:VCALENDAR