BEGIN:VCALENDAR
VERSION:2.0
PRODID:-//Kissing Tree Resident Website - ECPv6.15.18//NONSGML v1.0//EN
CALSCALE:GREGORIAN
METHOD:PUBLISH
X-WR-CALNAME:Kissing Tree Resident Website
X-ORIGINAL-URL:https://www.kissingtreeresidents.org
X-WR-CALDESC:Events for Kissing Tree Resident Website
REFRESH-INTERVAL;VALUE=DURATION:PT1H
X-Robots-Tag:noindex
X-PUBLISHED-TTL:PT1H
BEGIN:VTIMEZONE
TZID:America/Chicago
BEGIN:DAYLIGHT
TZOFFSETFROM:-0600
TZOFFSETTO:-0500
TZNAME:CDT
DTSTART:20250309T080000
END:DAYLIGHT
BEGIN:STANDARD
TZOFFSETFROM:-0500
TZOFFSETTO:-0600
TZNAME:CST
DTSTART:20251102T070000
END:STANDARD
BEGIN:DAYLIGHT
TZOFFSETFROM:-0600
TZOFFSETTO:-0500
TZNAME:CDT
DTSTART:20260308T080000
END:DAYLIGHT
BEGIN:STANDARD
TZOFFSETFROM:-0500
TZOFFSETTO:-0600
TZNAME:CST
DTSTART:20261101T070000
END:STANDARD
BEGIN:DAYLIGHT
TZOFFSETFROM:-0600
TZOFFSETTO:-0500
TZNAME:CDT
DTSTART:20270314T080000
END:DAYLIGHT
BEGIN:STANDARD
TZOFFSETFROM:-0500
TZOFFSETTO:-0600
TZNAME:CST
DTSTART:20271107T070000
END:STANDARD
END:VTIMEZONE
BEGIN:VEVENT
DTSTART;TZID=America/Chicago:20261028T170000
DTEND;TZID=America/Chicago:20261028T200000
DTSTAMP:20260421T041155
CREATED:20260416T211447Z
LAST-MODIFIED:20260416T211457Z
UID:10083879-1793206800-1793217600@www.kissingtreeresidents.org
SUMMARY:KTPA Ladder League
DESCRIPTION:Courts 1-16 are reserved for the KTPA
URL:https://www.kissingtreeresidents.org/event/ktpa-ladder-league-3/2026-10-28/
LOCATION:Pickleball Courts
CATEGORIES:Clubs & Groups,Sports Courts
END:VEVENT
BEGIN:VEVENT
DTSTART;TZID=America/Chicago:20261029T080000
DTEND;TZID=America/Chicago:20261029T220000
DTSTAMP:20260421T041155
CREATED:20250507T153252Z
LAST-MODIFIED:20250507T153347Z
UID:10058780-1793260800-1793311200@www.kissingtreeresidents.org
SUMMARY:Pickleball Gents Open Play
DESCRIPTION:Courts 1-8
URL:https://www.kissingtreeresidents.org/event/pickleball-gents-open-play-4/2026-10-29/
LOCATION:Pickleball Courts
CATEGORIES:Clubs & Groups,Sports Courts
END:VEVENT
BEGIN:VEVENT
DTSTART;TZID=America/Chicago:20261029T183000
DTEND;TZID=America/Chicago:20261029T203000
DTSTAMP:20260421T041155
CREATED:20250507T153651Z
LAST-MODIFIED:20250507T153651Z
UID:10059039-1793298600-1793305800@www.kissingtreeresidents.org
SUMMARY:Pickleball Open Play
DESCRIPTION:
URL:https://www.kissingtreeresidents.org/event/mens-pickleball-2-2/2026-10-29/
LOCATION:Pickleball Courts
CATEGORIES:Clubs & Groups,Sports Courts
END:VEVENT
BEGIN:VEVENT
DTSTART;TZID=America/Chicago:20261031T080000
DTEND;TZID=America/Chicago:20261031T100000
DTSTAMP:20260421T041155
CREATED:20251203T194125Z
LAST-MODIFIED:20251203T194125Z
UID:10080323-1793433600-1793440800@www.kissingtreeresidents.org
SUMMARY:Pickleball Open Play
DESCRIPTION:Courts 1-8 \nTo participate in open play\, you don’t need to bring a partner but you’ll need to have your own paddle.
URL:https://www.kissingtreeresidents.org/event/pickleball-open-play-3/2026-10-31/
LOCATION:Pickleball Courts
CATEGORIES:Clubs & Groups,Sports Courts
END:VEVENT
BEGIN:VEVENT
DTSTART;TZID=America/Chicago:20261101T113000
DTEND;TZID=America/Chicago:20261101T140000
DTSTAMP:20260421T041155
CREATED:20251203T194315Z
LAST-MODIFIED:20251203T194704Z
UID:10080375-1793532600-1793541600@www.kissingtreeresidents.org
SUMMARY:Darts Open Play
DESCRIPTION:You’re Invited to Darts Open Play! \nJoin us for an exciting and fun-filled norming of darts! Whether you’re a seasoned player or a beginner\, come enjoy the friendly competition and good company. Don’t miss out on this chance to play\, socialize\, and have fun. We look forward to seeing you there!
URL:https://www.kissingtreeresidents.org/event/lady-darters-2-2/2026-11-01/
LOCATION:The Depot @ Grand Central
CATEGORIES:Clubs & Groups,Grand Central,Sports Courts
END:VEVENT
BEGIN:VEVENT
DTSTART;TZID=America/Chicago:20261102T080000
DTEND;TZID=America/Chicago:20261102T170000
DTSTAMP:20260421T041155
CREATED:20251203T151741Z
LAST-MODIFIED:20251203T151741Z
UID:10078936-1793606400-1793638800@www.kissingtreeresidents.org
SUMMARY:Pickleball Open Play
DESCRIPTION:Courts 1-8 are reserved for open play.
URL:https://www.kissingtreeresidents.org/event/pickleball-open-play/2026-11-02/
LOCATION:Pickleball Courts
CATEGORIES:Clubs & Groups,Sports Courts
END:VEVENT
BEGIN:VEVENT
DTSTART;TZID=America/Chicago:20261102T130000
DTEND;TZID=America/Chicago:20261102T150000
DTSTAMP:20260421T041155
CREATED:20251203T160219Z
LAST-MODIFIED:20251203T160219Z
UID:10079289-1793624400-1793631600@www.kissingtreeresidents.org
SUMMARY:Ping Pong Open Play
DESCRIPTION:Come join your KT friends and neighbors for some friendly ping pong action! \nWhether you’re a seasoned player or just looking to have fun\, it’s a great chance to hang out\, challenge each other\, and enjoy some friendly competition.
URL:https://www.kissingtreeresidents.org/event/ping-pong-open-play-4/2026-11-02/
LOCATION:The Depot @ Grand Central
CATEGORIES:Clubs & Groups,Sports Courts
ORGANIZER;CN="Kissing Tree Community Life":MAILTO:ktmc@coherelife.com
END:VEVENT
BEGIN:VEVENT
DTSTART;TZID=America/Chicago:20261102T160000
DTEND;TZID=America/Chicago:20261102T200000
DTSTAMP:20260421T041155
CREATED:20251203T162932Z
LAST-MODIFIED:20251203T162932Z
UID:10079445-1793635200-1793649600@www.kissingtreeresidents.org
SUMMARY:Men’s Dart League 
DESCRIPTION:Are you ready to test your skills\, meet fellow players\, and compete in a fun\, social\, and competitive dart league? \nThe KT Men’s Dart League wants YOU on the board! \nLeague Highlights- Weekly matches at the Depot that are open to all skill levels\, friendly competition\, & seasonal playoff tournaments & leagues. \nFor more information contact Del Jantzen at deljantzen@me.com
URL:https://www.kissingtreeresidents.org/event/mens-dart-league/2026-11-02/
LOCATION:The Depot @ Grand Central
CATEGORIES:Clubs & Groups,Grand Central,Sports Courts
ORGANIZER;CN="Del Jentzen":MAILTO:deljantzen@me.com
END:VEVENT
BEGIN:VEVENT
DTSTART;TZID=America/Chicago:20261102T183000
DTEND;TZID=America/Chicago:20261102T203000
DTSTAMP:20260421T041155
CREATED:20251203T163131Z
LAST-MODIFIED:20251203T163131Z
UID:10079497-1793644200-1793651400@www.kissingtreeresidents.org
SUMMARY:Pickleball Open Play
DESCRIPTION:Pickleball is the fastest-growing sport in the country and the same is true at Kissing Tree. Whether socializing with your doubles partner\, your opponents\, or those playing on other courts\, pickleball is downright fun and laughter is bound to ensue. After just one game you will be addicted. \nThis all genders open play includes 8 courts and currently lists the summer pickleball hours which trend toward morning and evenings to accommodate for the heat. Open play includes all players\, of any skill level. Paddle system is used to assign players to courts. One game is played and then the next four players move to open court. Window may change to fall hours sometime in October.
URL:https://www.kissingtreeresidents.org/event/pickleball-open-play-2/2026-11-02/
CATEGORIES:Clubs & Groups,Sports Courts
END:VEVENT
BEGIN:VEVENT
DTSTART;TZID=America/Chicago:20261103T080000
DTEND;TZID=America/Chicago:20261103T100000
DTSTAMP:20260421T041155
CREATED:20250507T152414Z
LAST-MODIFIED:20251203T163427Z
UID:10058001-1793692800-1793700000@www.kissingtreeresidents.org
SUMMARY:Pickleball Pickle Chicks Open Play
DESCRIPTION:Courts 1-8 \nTo participate in open play\, you don’t need to bring a partner but you’ll need to have your own paddle.
URL:https://www.kissingtreeresidents.org/event/pickleball-pickle-chicks-open-play-3/2026-11-03/
LOCATION:Pickleball Courts
CATEGORIES:Clubs & Groups,Sports Courts
END:VEVENT
BEGIN:VEVENT
DTSTART;TZID=America/Chicago:20261103T160000
DTEND;TZID=America/Chicago:20261103T200000
DTSTAMP:20260421T041155
CREATED:20251203T170431Z
LAST-MODIFIED:20251203T170431Z
UID:10079835-1793721600-1793736000@www.kissingtreeresidents.org
SUMMARY:Darts Open Play
DESCRIPTION:You’re invited to a fun and friendly Darts Open Play at The Depot! Whether you’re a seasoned pro or a beginner\, this is the perfect opportunity to enjoy the game\, meet your neighbors\, and have a great time. No experience needed – just bring your competitive spirit and enjoy a laid-back atmosphere. All KT residents are invited so grab your friends and come have some fun! We look forward to seeing you there! \n 
URL:https://www.kissingtreeresidents.org/event/darts-open-play-2/2026-11-03/
LOCATION:The Depot @ Grand Central
CATEGORIES:Clubs & Groups,Grand Central,Sports Courts
ORGANIZER;CN="Del Jentzen":MAILTO:deljantzen@me.com
END:VEVENT
BEGIN:VEVENT
DTSTART;TZID=America/Chicago:20261103T183000
DTEND;TZID=America/Chicago:20261103T203000
DTSTAMP:20260421T041155
CREATED:20250507T152825Z
LAST-MODIFIED:20251203T163516Z
UID:10058261-1793730600-1793737800@www.kissingtreeresidents.org
SUMMARY:Pickleball Open Play
DESCRIPTION:Courts 1-8 \nTo participate in open play\, you don’t need to bring a partner\, but you’ll need to have your own paddle.
URL:https://www.kissingtreeresidents.org/event/pickleball-pickle-chicks-open-play-2-2/2026-11-03/
LOCATION:Pickleball Courts
CATEGORIES:Clubs & Groups,Sports Courts
END:VEVENT
BEGIN:VEVENT
DTSTART;TZID=America/Chicago:20261104T080000
DTEND;TZID=America/Chicago:20261104T100000
DTSTAMP:20260421T041155
CREATED:20250507T153032Z
LAST-MODIFIED:20251203T172133Z
UID:10058521-1793779200-1793786400@www.kissingtreeresidents.org
SUMMARY:Pickleball Open Play
DESCRIPTION:Pickleball is the fastest-growing sport in the country and the same is true at Kissing Tree. Whether socializing with your doubles partner\, your opponents\, or those playing on other courts\, pickleball is downright fun and laughter is bound to ensue. After just one game you will be addicted. \nThis all genders open play includes 8 courts and currently lists the summer pickleball hours which trend toward morning and evenings to accommodate for the heat. Open play includes all players\, of any skill level. Paddle system is used to assign players to courts. One game is played and then the next four players move to open court. Window may change to fall hours sometime in October.
URL:https://www.kissingtreeresidents.org/event/pickleball-open-play-12-2/2026-11-04/
LOCATION:Pickleball Courts
CATEGORIES:Clubs & Groups,Sports Courts
END:VEVENT
BEGIN:VEVENT
DTSTART;TZID=America/Chicago:20261104T170000
DTEND;TZID=America/Chicago:20261104T200000
DTSTAMP:20260421T041155
CREATED:20260416T211447Z
LAST-MODIFIED:20260416T211457Z
UID:10083880-1793811600-1793822400@www.kissingtreeresidents.org
SUMMARY:KTPA Ladder League
DESCRIPTION:Courts 1-16 are reserved for the KTPA
URL:https://www.kissingtreeresidents.org/event/ktpa-ladder-league-3/2026-11-04/
LOCATION:Pickleball Courts
CATEGORIES:Clubs & Groups,Sports Courts
END:VEVENT
BEGIN:VEVENT
DTSTART;TZID=America/Chicago:20261105T080000
DTEND;TZID=America/Chicago:20261105T220000
DTSTAMP:20260421T041155
CREATED:20250507T153252Z
LAST-MODIFIED:20250507T153347Z
UID:10058781-1793865600-1793916000@www.kissingtreeresidents.org
SUMMARY:Pickleball Gents Open Play
DESCRIPTION:Courts 1-8
URL:https://www.kissingtreeresidents.org/event/pickleball-gents-open-play-4/2026-11-05/
LOCATION:Pickleball Courts
CATEGORIES:Clubs & Groups,Sports Courts
END:VEVENT
BEGIN:VEVENT
DTSTART;TZID=America/Chicago:20261105T183000
DTEND;TZID=America/Chicago:20261105T203000
DTSTAMP:20260421T041155
CREATED:20250507T153651Z
LAST-MODIFIED:20250507T153651Z
UID:10059040-1793903400-1793910600@www.kissingtreeresidents.org
SUMMARY:Pickleball Open Play
DESCRIPTION:
URL:https://www.kissingtreeresidents.org/event/mens-pickleball-2-2/2026-11-05/
LOCATION:Pickleball Courts
CATEGORIES:Clubs & Groups,Sports Courts
END:VEVENT
BEGIN:VEVENT
DTSTART;TZID=America/Chicago:20261107T080000
DTEND;TZID=America/Chicago:20261107T100000
DTSTAMP:20260421T041155
CREATED:20251203T194125Z
LAST-MODIFIED:20251203T194125Z
UID:10080324-1794038400-1794045600@www.kissingtreeresidents.org
SUMMARY:Pickleball Open Play
DESCRIPTION:Courts 1-8 \nTo participate in open play\, you don’t need to bring a partner but you’ll need to have your own paddle.
URL:https://www.kissingtreeresidents.org/event/pickleball-open-play-3/2026-11-07/
LOCATION:Pickleball Courts
CATEGORIES:Clubs & Groups,Sports Courts
END:VEVENT
BEGIN:VEVENT
DTSTART;TZID=America/Chicago:20261108T113000
DTEND;TZID=America/Chicago:20261108T140000
DTSTAMP:20260421T041155
CREATED:20251203T194315Z
LAST-MODIFIED:20251203T194704Z
UID:10080376-1794137400-1794146400@www.kissingtreeresidents.org
SUMMARY:Darts Open Play
DESCRIPTION:You’re Invited to Darts Open Play! \nJoin us for an exciting and fun-filled norming of darts! Whether you’re a seasoned player or a beginner\, come enjoy the friendly competition and good company. Don’t miss out on this chance to play\, socialize\, and have fun. We look forward to seeing you there!
URL:https://www.kissingtreeresidents.org/event/lady-darters-2-2/2026-11-08/
LOCATION:The Depot @ Grand Central
CATEGORIES:Clubs & Groups,Grand Central,Sports Courts
END:VEVENT
BEGIN:VEVENT
DTSTART;TZID=America/Chicago:20261109T080000
DTEND;TZID=America/Chicago:20261109T170000
DTSTAMP:20260421T041155
CREATED:20251203T151741Z
LAST-MODIFIED:20251203T151741Z
UID:10078937-1794211200-1794243600@www.kissingtreeresidents.org
SUMMARY:Pickleball Open Play
DESCRIPTION:Courts 1-8 are reserved for open play.
URL:https://www.kissingtreeresidents.org/event/pickleball-open-play/2026-11-09/
LOCATION:Pickleball Courts
CATEGORIES:Clubs & Groups,Sports Courts
END:VEVENT
BEGIN:VEVENT
DTSTART;TZID=America/Chicago:20261109T130000
DTEND;TZID=America/Chicago:20261109T150000
DTSTAMP:20260421T041155
CREATED:20251203T160219Z
LAST-MODIFIED:20251203T160219Z
UID:10079290-1794229200-1794236400@www.kissingtreeresidents.org
SUMMARY:Ping Pong Open Play
DESCRIPTION:Come join your KT friends and neighbors for some friendly ping pong action! \nWhether you’re a seasoned player or just looking to have fun\, it’s a great chance to hang out\, challenge each other\, and enjoy some friendly competition.
URL:https://www.kissingtreeresidents.org/event/ping-pong-open-play-4/2026-11-09/
LOCATION:The Depot @ Grand Central
CATEGORIES:Clubs & Groups,Sports Courts
ORGANIZER;CN="Kissing Tree Community Life":MAILTO:ktmc@coherelife.com
END:VEVENT
BEGIN:VEVENT
DTSTART;TZID=America/Chicago:20261109T160000
DTEND;TZID=America/Chicago:20261109T200000
DTSTAMP:20260421T041155
CREATED:20251203T162932Z
LAST-MODIFIED:20251203T162932Z
UID:10079446-1794240000-1794254400@www.kissingtreeresidents.org
SUMMARY:Men’s Dart League 
DESCRIPTION:Are you ready to test your skills\, meet fellow players\, and compete in a fun\, social\, and competitive dart league? \nThe KT Men’s Dart League wants YOU on the board! \nLeague Highlights- Weekly matches at the Depot that are open to all skill levels\, friendly competition\, & seasonal playoff tournaments & leagues. \nFor more information contact Del Jantzen at deljantzen@me.com
URL:https://www.kissingtreeresidents.org/event/mens-dart-league/2026-11-09/
LOCATION:The Depot @ Grand Central
CATEGORIES:Clubs & Groups,Grand Central,Sports Courts
ORGANIZER;CN="Del Jentzen":MAILTO:deljantzen@me.com
END:VEVENT
BEGIN:VEVENT
DTSTART;TZID=America/Chicago:20261109T183000
DTEND;TZID=America/Chicago:20261109T203000
DTSTAMP:20260421T041155
CREATED:20251203T163131Z
LAST-MODIFIED:20251203T163131Z
UID:10079498-1794249000-1794256200@www.kissingtreeresidents.org
SUMMARY:Pickleball Open Play
DESCRIPTION:Pickleball is the fastest-growing sport in the country and the same is true at Kissing Tree. Whether socializing with your doubles partner\, your opponents\, or those playing on other courts\, pickleball is downright fun and laughter is bound to ensue. After just one game you will be addicted. \nThis all genders open play includes 8 courts and currently lists the summer pickleball hours which trend toward morning and evenings to accommodate for the heat. Open play includes all players\, of any skill level. Paddle system is used to assign players to courts. One game is played and then the next four players move to open court. Window may change to fall hours sometime in October.
URL:https://www.kissingtreeresidents.org/event/pickleball-open-play-2/2026-11-09/
CATEGORIES:Clubs & Groups,Sports Courts
END:VEVENT
BEGIN:VEVENT
DTSTART;TZID=America/Chicago:20261110T080000
DTEND;TZID=America/Chicago:20261110T100000
DTSTAMP:20260421T041155
CREATED:20250507T152414Z
LAST-MODIFIED:20251203T163427Z
UID:10058002-1794297600-1794304800@www.kissingtreeresidents.org
SUMMARY:Pickleball Pickle Chicks Open Play
DESCRIPTION:Courts 1-8 \nTo participate in open play\, you don’t need to bring a partner but you’ll need to have your own paddle.
URL:https://www.kissingtreeresidents.org/event/pickleball-pickle-chicks-open-play-3/2026-11-10/
LOCATION:Pickleball Courts
CATEGORIES:Clubs & Groups,Sports Courts
END:VEVENT
BEGIN:VEVENT
DTSTART;TZID=America/Chicago:20261110T160000
DTEND;TZID=America/Chicago:20261110T200000
DTSTAMP:20260421T041155
CREATED:20251203T170431Z
LAST-MODIFIED:20251203T170431Z
UID:10079836-1794326400-1794340800@www.kissingtreeresidents.org
SUMMARY:Darts Open Play
DESCRIPTION:You’re invited to a fun and friendly Darts Open Play at The Depot! Whether you’re a seasoned pro or a beginner\, this is the perfect opportunity to enjoy the game\, meet your neighbors\, and have a great time. No experience needed – just bring your competitive spirit and enjoy a laid-back atmosphere. All KT residents are invited so grab your friends and come have some fun! We look forward to seeing you there! \n 
URL:https://www.kissingtreeresidents.org/event/darts-open-play-2/2026-11-10/
LOCATION:The Depot @ Grand Central
CATEGORIES:Clubs & Groups,Grand Central,Sports Courts
ORGANIZER;CN="Del Jentzen":MAILTO:deljantzen@me.com
END:VEVENT
BEGIN:VEVENT
DTSTART;TZID=America/Chicago:20261110T183000
DTEND;TZID=America/Chicago:20261110T203000
DTSTAMP:20260421T041155
CREATED:20250507T152825Z
LAST-MODIFIED:20251203T163516Z
UID:10058262-1794335400-1794342600@www.kissingtreeresidents.org
SUMMARY:Pickleball Open Play
DESCRIPTION:Courts 1-8 \nTo participate in open play\, you don’t need to bring a partner\, but you’ll need to have your own paddle.
URL:https://www.kissingtreeresidents.org/event/pickleball-pickle-chicks-open-play-2-2/2026-11-10/
LOCATION:Pickleball Courts
CATEGORIES:Clubs & Groups,Sports Courts
END:VEVENT
BEGIN:VEVENT
DTSTART;TZID=America/Chicago:20261111T080000
DTEND;TZID=America/Chicago:20261111T100000
DTSTAMP:20260421T041155
CREATED:20250507T153032Z
LAST-MODIFIED:20251203T172133Z
UID:10058522-1794384000-1794391200@www.kissingtreeresidents.org
SUMMARY:Pickleball Open Play
DESCRIPTION:Pickleball is the fastest-growing sport in the country and the same is true at Kissing Tree. Whether socializing with your doubles partner\, your opponents\, or those playing on other courts\, pickleball is downright fun and laughter is bound to ensue. After just one game you will be addicted. \nThis all genders open play includes 8 courts and currently lists the summer pickleball hours which trend toward morning and evenings to accommodate for the heat. Open play includes all players\, of any skill level. Paddle system is used to assign players to courts. One game is played and then the next four players move to open court. Window may change to fall hours sometime in October.
URL:https://www.kissingtreeresidents.org/event/pickleball-open-play-12-2/2026-11-11/
LOCATION:Pickleball Courts
CATEGORIES:Clubs & Groups,Sports Courts
END:VEVENT
BEGIN:VEVENT
DTSTART;TZID=America/Chicago:20261111T170000
DTEND;TZID=America/Chicago:20261111T200000
DTSTAMP:20260421T041155
CREATED:20260416T211447Z
LAST-MODIFIED:20260416T211457Z
UID:10083881-1794416400-1794427200@www.kissingtreeresidents.org
SUMMARY:KTPA Ladder League
DESCRIPTION:Courts 1-16 are reserved for the KTPA
URL:https://www.kissingtreeresidents.org/event/ktpa-ladder-league-3/2026-11-11/
LOCATION:Pickleball Courts
CATEGORIES:Clubs & Groups,Sports Courts
END:VEVENT
BEGIN:VEVENT
DTSTART;TZID=America/Chicago:20261112T080000
DTEND;TZID=America/Chicago:20261112T220000
DTSTAMP:20260421T041155
CREATED:20250507T153252Z
LAST-MODIFIED:20250507T153347Z
UID:10058782-1794470400-1794520800@www.kissingtreeresidents.org
SUMMARY:Pickleball Gents Open Play
DESCRIPTION:Courts 1-8
URL:https://www.kissingtreeresidents.org/event/pickleball-gents-open-play-4/2026-11-12/
LOCATION:Pickleball Courts
CATEGORIES:Clubs & Groups,Sports Courts
END:VEVENT
BEGIN:VEVENT
DTSTART;TZID=America/Chicago:20261112T183000
DTEND;TZID=America/Chicago:20261112T203000
DTSTAMP:20260421T041155
CREATED:20250507T153651Z
LAST-MODIFIED:20250507T153651Z
UID:10059041-1794508200-1794515400@www.kissingtreeresidents.org
SUMMARY:Pickleball Open Play
DESCRIPTION:
URL:https://www.kissingtreeresidents.org/event/mens-pickleball-2-2/2026-11-12/
LOCATION:Pickleball Courts
CATEGORIES:Clubs & Groups,Sports Courts
END:VEVENT
BEGIN:VEVENT
DTSTART;TZID=America/Chicago:20261114T080000
DTEND;TZID=America/Chicago:20261114T100000
DTSTAMP:20260421T041155
CREATED:20251203T194125Z
LAST-MODIFIED:20251203T194125Z
UID:10080325-1794643200-1794650400@www.kissingtreeresidents.org
SUMMARY:Pickleball Open Play
DESCRIPTION:Courts 1-8 \nTo participate in open play\, you don’t need to bring a partner but you’ll need to have your own paddle.
URL:https://www.kissingtreeresidents.org/event/pickleball-open-play-3/2026-11-14/
LOCATION:Pickleball Courts
CATEGORIES:Clubs & Groups,Sports Courts
END:VEVENT
END:VCALENDAR