BEGIN:VCALENDAR
VERSION:2.0
PRODID:-//Kissing Tree Resident Website - ECPv6.15.18//NONSGML v1.0//EN
CALSCALE:GREGORIAN
METHOD:PUBLISH
X-WR-CALNAME:Kissing Tree Resident Website
X-ORIGINAL-URL:https://www.kissingtreeresidents.org
X-WR-CALDESC:Events for Kissing Tree Resident Website
REFRESH-INTERVAL;VALUE=DURATION:PT1H
X-Robots-Tag:noindex
X-PUBLISHED-TTL:PT1H
BEGIN:VTIMEZONE
TZID:America/Chicago
BEGIN:DAYLIGHT
TZOFFSETFROM:-0600
TZOFFSETTO:-0500
TZNAME:CDT
DTSTART:20250309T080000
END:DAYLIGHT
BEGIN:STANDARD
TZOFFSETFROM:-0500
TZOFFSETTO:-0600
TZNAME:CST
DTSTART:20251102T070000
END:STANDARD
BEGIN:DAYLIGHT
TZOFFSETFROM:-0600
TZOFFSETTO:-0500
TZNAME:CDT
DTSTART:20260308T080000
END:DAYLIGHT
BEGIN:STANDARD
TZOFFSETFROM:-0500
TZOFFSETTO:-0600
TZNAME:CST
DTSTART:20261101T070000
END:STANDARD
BEGIN:DAYLIGHT
TZOFFSETFROM:-0600
TZOFFSETTO:-0500
TZNAME:CDT
DTSTART:20270314T080000
END:DAYLIGHT
BEGIN:STANDARD
TZOFFSETFROM:-0500
TZOFFSETTO:-0600
TZNAME:CST
DTSTART:20271107T070000
END:STANDARD
END:VTIMEZONE
BEGIN:VEVENT
DTSTART;TZID=America/Chicago:20260322T150000
DTEND;TZID=America/Chicago:20260322T170000
DTSTAMP:20260420T051503
CREATED:20260309T213034Z
LAST-MODIFIED:20260309T213034Z
UID:10083092-1774191600-1774198800@www.kissingtreeresidents.org
SUMMARY:Mahjong
DESCRIPTION:
URL:https://www.kissingtreeresidents.org/event/mahjong/2026-03-22/
LOCATION:Independence Hall Activity Room
CATEGORIES:Clubs & Groups
ORGANIZER;CN="Barbara Taylor":MAILTO:barbarat57@outlook.com
END:VEVENT
BEGIN:VEVENT
DTSTART;TZID=America/Chicago:20260322T133000
DTEND;TZID=America/Chicago:20260322T163000
DTSTAMP:20260420T051503
CREATED:20260113T200844Z
LAST-MODIFIED:20260113T204010Z
UID:10081421-1774186200-1774197000@www.kissingtreeresidents.org
SUMMARY:Scrabble Board Game Group
DESCRIPTION:The Scrabble group meets on Sunday afternoons for friendly games and casual play. This is the group meeting time for those who enjoy the board game with friends.
URL:https://www.kissingtreeresidents.org/event/scrabble-board-game-group/2026-03-22/
LOCATION:The Stump @ Grand Central
CATEGORIES:Clubs & Groups,Grand Central
ORGANIZER;CN="Patrick Johnson":MAILTO:dorlanj@icloud.com
END:VEVENT
BEGIN:VEVENT
DTSTART;TZID=America/Chicago:20260322T113000
DTEND;TZID=America/Chicago:20260322T140000
DTSTAMP:20260420T051503
CREATED:20251203T194315Z
LAST-MODIFIED:20251203T194704Z
UID:10080343-1774179000-1774188000@www.kissingtreeresidents.org
SUMMARY:Darts Open Play
DESCRIPTION:You’re Invited to Darts Open Play! \nJoin us for an exciting and fun-filled norming of darts! Whether you’re a seasoned player or a beginner\, come enjoy the friendly competition and good company. Don’t miss out on this chance to play\, socialize\, and have fun. We look forward to seeing you there!
URL:https://www.kissingtreeresidents.org/event/lady-darters-2-2/2026-03-22/
LOCATION:The Depot @ Grand Central
CATEGORIES:Clubs & Groups,Grand Central,Sports Courts
END:VEVENT
BEGIN:VEVENT
DTSTART;TZID=America/Chicago:20260321T163000
DTEND;TZID=America/Chicago:20260321T223000
DTSTAMP:20260420T051503
CREATED:20260211T101734Z
LAST-MODIFIED:20260211T101903Z
UID:10082350-1774110600-1774132200@www.kissingtreeresidents.org
SUMMARY:Esther's Follies Day Trip
DESCRIPTION:Esther’s Follies Day Trip\nSaturday\, March 21\n\n4:30 pm – Charter bus loads at KT parking lot\n6:20 pm – Enter Esther’s Follies for 7:00 pm show\n10:00 pm – Arrive back at KT\n\nRegistration open Monday\, February 16th @ 4:00 pm\n$76 per person includes charter bus and ticket\n\nClick here to register  \n\nBYOD&S – Bring Your Own Drinks & Snacks for the bus ride\n\n6th Street- the source of Esther’s humor and unwitting backdrop for its stage- will always define Esther’s distinct comedic blend of magic\, music\, and comedy. We’ve been called the Texas answer to SNL–a modern-day vaudeville revue mixed with political comedy that is like nothing else on the national comedy scene. Esther’s history stretches back 46 years.\n\nwww.esthersfollies.com
URL:https://www.kissingtreeresidents.org/event/esthers-follies-day-trip-2/
LOCATION:Austin area
CATEGORIES:Clubs & Groups,Events
ORGANIZER;CN="Kissing Tree Community Life":MAILTO:ktmc@coherelife.com
END:VEVENT
BEGIN:VEVENT
DTSTART;TZID=America/Chicago:20260321T090000
DTEND;TZID=America/Chicago:20260321T120000
DTSTAMP:20260420T051503
CREATED:20251229T194843Z
LAST-MODIFIED:20251229T194844Z
UID:10081347-1774083600-1774094400@www.kissingtreeresidents.org
SUMMARY:Card-Making with Melissa
DESCRIPTION:Create a custom greeting card box and birthday card. \nSupplies are $20\, payable at the class. \nPlease RSVP with Melissa Grados at 512-620-2325 to reserve your spot and supplies. \nTo see posts and updates about this group\, visit the KT Studio Buzz! Facebook page.
URL:https://www.kissingtreeresidents.org/event/card-making-with-melissa-2/2026-03-21/
LOCATION:Art Studio @ Grand Central
CATEGORIES:Clubs & Groups,Grand Central
ORGANIZER;CN="Melissa Grados":MAILTO:mgrados.TX@gmail.com
END:VEVENT
BEGIN:VEVENT
DTSTART;TZID=America/Chicago:20260321T081500
DTEND;TZID=America/Chicago:20260321T093000
DTSTAMP:20260420T051503
CREATED:20260309T150432Z
LAST-MODIFIED:20260309T150432Z
UID:10083050-1774080900-1774085400@www.kissingtreeresidents.org
SUMMARY:Hill Huggers
DESCRIPTION:The Hill Huggers group meet on Wednesday and Saturday mornings and are designed for residents of all fitness levels who enjoy walking\, running\, hiking and exploring the trails around the Kissing Tree community. Participants can expect a welcoming\, social atmosphere where they’ll get to enjoy the beauty of nature while engaging in light to moderate physical activity. Whether you’re looking for a relaxing walk or a more energetic run\, the groups offer a variety of routes and paces to accommodate different preferences. It’s a great way to meet fellow residents\, get outdoors\, and stay active!
URL:https://www.kissingtreeresidents.org/event/hill-huggers-3-2-2-2/2026-03-21/
LOCATION:Biergarten
CATEGORIES:Clubs & Groups
ORGANIZER;CN="Sue Walker":MAILTO:nyazcax61@gmail.com
END:VEVENT
BEGIN:VEVENT
DTSTART;TZID=America/Chicago:20260321T080000
DTEND;TZID=America/Chicago:20260321T100000
DTSTAMP:20260420T051503
CREATED:20251203T194125Z
LAST-MODIFIED:20251203T194125Z
UID:10080291-1774080000-1774087200@www.kissingtreeresidents.org
SUMMARY:Pickleball Open Play
DESCRIPTION:Courts 1-8 \nTo participate in open play\, you don’t need to bring a partner but you’ll need to have your own paddle.
URL:https://www.kissingtreeresidents.org/event/pickleball-open-play-3/2026-03-21/
LOCATION:Pickleball Courts
CATEGORIES:Clubs & Groups,Sports Courts
END:VEVENT
BEGIN:VEVENT
DTSTART;TZID=America/Chicago:20260320T180000
DTEND;TZID=America/Chicago:20260320T203000
DTSTAMP:20260420T051503
CREATED:20260218T143038Z
LAST-MODIFIED:20260218T170137Z
UID:10082359-1774029600-1774038600@www.kissingtreeresidents.org
SUMMARY:Swing Dance lessons
DESCRIPTION:Swing Dance lessons\nFriday\, March 20\nIndependence Hall Lobby/Biergarten\n6 pm – 7 pm   Swing Lesson w/Rob & Diane\n7 pm – 8:30 pm  DJ Dance Social \nRegistration opens Thursday\, February 19 at 4:00 pm\nCost is $29 pp   –   Limit 40 participants \nClick here to register \nWelcome to Swing Junction\nYour hosts & instructors Rob & Diane.  They are here to build community\, help you learn simple and fun skills for personal growth and listen and dance to great music and making friends.
URL:https://www.kissingtreeresidents.org/event/swing-dance-lessons/
LOCATION:Independence Hall
CATEGORIES:Clubs & Groups,Events
ORGANIZER;CN="Kissing Tree Community Life":MAILTO:ktmc@coherelife.com
END:VEVENT
BEGIN:VEVENT
DTSTART;TZID=America/Chicago:20260320T150000
DTEND;TZID=America/Chicago:20260320T160000
DTSTAMP:20260420T051503
CREATED:20251203T151432Z
LAST-MODIFIED:20251203T214534Z
UID:10081008-1774018800-1774022400@www.kissingtreeresidents.org
SUMMARY:Improver Line Dancing
DESCRIPTION:The Improver Line Dancing class is designed for more experienced dancers who want to expand their skills by learning new steps while also reviewing and refining their favorite ones. It provides an opportunity to enhance technique\, try more complex patterns\, and enjoy dancing in a fun and supportive environment. \nFor updates on all events and activities\, be sure to follow their Facebook page  https://www.facebook.com/share/g/1AQvuWyL5bSfbNQ4/ \n\n\n\n\n\n\nFor more information\, contact Kelly Dickson at  kdickson512@twc.com
URL:https://www.kissingtreeresidents.org/event/improver-line-dancing/2026-03-20/
LOCATION:Independence Hall Activity Room
CATEGORIES:Clubs & Groups
ORGANIZER;CN="Kelly Dickson":MAILTO:kdickson512@twc.com
END:VEVENT
BEGIN:VEVENT
DTSTART;TZID=America/Chicago:20260320T140000
DTEND;TZID=America/Chicago:20260320T150000
DTSTAMP:20260420T051503
CREATED:20251203T151056Z
LAST-MODIFIED:20251203T151056Z
UID:10078852-1774015200-1774018800@www.kissingtreeresidents.org
SUMMARY:Beginners Line Dancing 
DESCRIPTION:The Beginners Line Dancing class is a fun and engaging way to learn new steps while reviewing their favorite moves. KT residents meet regularly to explore a variety of line dance routines\, building confidence and rhythm in a supportive environment. Whether you’re just starting or looking to refine your skills\, this class is perfect for all beginners. Stay updated on all events and activities by visiting their Facebook page for the latest announcements  https://www.facebook.com/share/g/1AQvuWyL5bSfbNQ4/ \nFor more information contact Kelly Dickson at  kdickson512@twc.com
URL:https://www.kissingtreeresidents.org/event/beginners-line-dancing/2026-03-20/
LOCATION:Independence Hall Activity Room
CATEGORIES:Clubs & Groups
ORGANIZER;CN="Kelly Dickson":MAILTO:kdickson512@twc.com
END:VEVENT
BEGIN:VEVENT
DTSTART;TZID=America/Chicago:20260320T133000
DTEND;TZID=America/Chicago:20260320T140000
DTSTAMP:20260420T051503
CREATED:20260128T145104Z
LAST-MODIFIED:20260128T150018Z
UID:10081999-1774013400-1774015200@www.kissingtreeresidents.org
SUMMARY:NEW Absolute Beginner Line Dance Class
DESCRIPTION:Wanna learn how to Line Dance? Well\, put your dancin’ boots on!!! \nCome learn absolute beginner line dancing steps from Kelly & Montina every Friday from 1:30 to 2:00. (Activity Room at Independence Hall) You’ll learn the basic line dance steps & terminology for absolute beginner line dances. Then stay and join the 2:00 beginner class for more dancing fun! \nEveryone is welcome and no experience is needed! \nIt’s a great way to get moving\, meet new people\, and have some boot scootin’ fun!!!! \n 
URL:https://www.kissingtreeresidents.org/event/absolute-beginner-line-dance-class/2026-03-20/
LOCATION:Independence Hall Activity Room
CATEGORIES:Clubs & Groups
ORGANIZER;CN="Kelly Dickson":MAILTO:kdickson512@twc.com
END:VEVENT
BEGIN:VEVENT
DTSTART;TZID=America/Chicago:20260320T130000
DTEND;TZID=America/Chicago:20260320T150000
DTSTAMP:20260420T051503
CREATED:20251203T150711Z
LAST-MODIFIED:20251203T150711Z
UID:10078802-1774011600-1774018800@www.kissingtreeresidents.org
SUMMARY:Ping Pong Open Play
DESCRIPTION:Tables are located in The Depot at Grand Central. Please close tables and store along wall when finished playing. Contact Community Engagement Director Kevin Wilson for more information.
URL:https://www.kissingtreeresidents.org/event/ping-pong-open-play/2026-03-20/
LOCATION:The Depot @ Grand Central
CATEGORIES:Clubs & Groups,Grand Central
ORGANIZER;CN="Kevin Wilson":MAILTO:kwilson@coherelife.com
END:VEVENT
BEGIN:VEVENT
DTSTART;TZID=America/Chicago:20260320T113000
DTEND;TZID=America/Chicago:20260320T130000
DTSTAMP:20260420T051503
CREATED:20251203T145734Z
LAST-MODIFIED:20251203T145734Z
UID:10075586-1774006200-1774011600@www.kissingtreeresidents.org
SUMMARY:Men's Fellowship
DESCRIPTION:Men’s Fellowship is a Christian faith-based group of men committed to learning to practice finishing strong in our lives to the benefit of our families\, community and beyond\, as well as encouraging other men to do the same. Through scripture\, prayer\, and sharing our faith journeys\, we look towards focusing on our legacies. All men are welcome and there is no cost to join. Contact resident Marko Buckingham for more information.
URL:https://www.kissingtreeresidents.org/event/mens-fellowship-2-2/2026-03-20/
LOCATION:Independence Hall Activity Room
CATEGORIES:Clubs & Groups
ORGANIZER;CN="Marko Buckingham":MAILTO:markmelody1978@yahoo.com
END:VEVENT
BEGIN:VEVENT
DTSTART;TZID=America/Chicago:20260320T100000
DTEND;TZID=America/Chicago:20260320T130000
DTSTAMP:20260420T051503
CREATED:20251203T150129Z
LAST-MODIFIED:20251203T150305Z
UID:10078751-1774000800-1774011600@www.kissingtreeresidents.org
SUMMARY:Creative Jam Art Class
DESCRIPTION:Be sure to check on the KT Studio Buzz Facebook page for more information and/or updates. https://www.facebook.com/share/g/hca8izuKqpNZufZx/
URL:https://www.kissingtreeresidents.org/event/creative-jam-art-class/2026-03-20/
LOCATION:Art Studio @ Grand Central
CATEGORIES:Clubs & Groups,Grand Central
ORGANIZER;CN="Sharon Meaden":MAILTO:revivedglory@yahoo.com
END:VEVENT
BEGIN:VEVENT
DTSTART;TZID=America/Chicago:20260320T090000
DTEND;TZID=America/Chicago:20260320T110000
DTSTAMP:20260420T051503
CREATED:20260317T173945Z
LAST-MODIFIED:20260317T173945Z
UID:10083532-1773997200-1774004400@www.kissingtreeresidents.org
SUMMARY:Farmers Market
DESCRIPTION:Join us at the Farmers Market at the Mix and enjoy browsing a variety of vendors offering fresh items\, handmade goods\, and unique finds. \nWe hope to see you there!
URL:https://www.kissingtreeresidents.org/event/farmers-market/2026-03-20/
LOCATION:Biergarten
CATEGORIES:Events
ORGANIZER;CN="Kissing Tree Community Life":MAILTO:ktmc@coherelife.com
END:VEVENT
BEGIN:VEVENT
DTSTART;TZID=America/Chicago:20260320T074500
DTEND;TZID=America/Chicago:20260320T110000
DTSTAMP:20260420T051503
CREATED:20260222T160223Z
LAST-MODIFIED:20260222T160223Z
UID:10082631-1773992700-1774004400@www.kissingtreeresidents.org
SUMMARY:Trail Hiking - Upper to Lower Purgatory Creek
DESCRIPTION:Trail Hiking on\nFriday\, March 20 – Upper to Lower Purgatory Creek in San Marcos \nAll residents welcome. Meet at the Mix parking lot at 7:45 am to carpool to trailhead.\nWear proper hiking shoes or dependable athletic shoes. Bring water bottle.\nWalking sticks are also encouraged.\nApprox. 3-4 mile hike with rocky terrain and some challenging hills.\nRating – Moderately Strenuous: Wild and rugged terrain\, amenities limited\, slick trails when wet \n 
URL:https://www.kissingtreeresidents.org/event/trail-hiking-upper-to-lower-purgatory-creek/
LOCATION:San Marcos area
CATEGORIES:Clubs & Groups,Events
ORGANIZER;CN="Kissing Tree Community Life":MAILTO:ktmc@coherelife.com
END:VEVENT
BEGIN:VEVENT
DTSTART;TZID=America/Chicago:20260319T183000
DTEND;TZID=America/Chicago:20260319T203000
DTSTAMP:20260420T051503
CREATED:20250507T153651Z
LAST-MODIFIED:20250507T153651Z
UID:10059007-1773945000-1773952200@www.kissingtreeresidents.org
SUMMARY:Pickleball Open Play
DESCRIPTION:
URL:https://www.kissingtreeresidents.org/event/mens-pickleball-2-2/2026-03-19/
LOCATION:Pickleball Courts
CATEGORIES:Clubs & Groups,Sports Courts
END:VEVENT
BEGIN:VEVENT
DTSTART;TZID=America/Chicago:20260319T170000
DTEND;TZID=America/Chicago:20260319T190000
DTSTAMP:20260420T051503
CREATED:20260306T015000Z
LAST-MODIFIED:20260306T015000Z
UID:10083044-1773939600-1773946800@www.kissingtreeresidents.org
SUMMARY:Live Music Happy Hour - Anthony Wright
DESCRIPTION:Live Music Happy Hour \nThursday\, March 19\n5:00 pm – 7:00 pm\nIndependence Hall & Biergarten \nFeaturing the extremely talented Anthony Wright \nA guitar virtuoso!  Keep an eye out for Anthony\, because when he comes to KT\, he won’t be messin’ around! \nTips are always welcome & appreciated.
URL:https://www.kissingtreeresidents.org/event/live-music-happy-hour-anthony-wright/
LOCATION:Biergarten
CATEGORIES:Clubs & Groups,Events
ORGANIZER;CN="Kissing Tree Community Life":MAILTO:ktmc@coherelife.com
END:VEVENT
BEGIN:VEVENT
DTSTART;TZID=America/Chicago:20260319T164500
DTEND;TZID=America/Chicago:20260319T194500
DTSTAMP:20260420T051503
CREATED:20260205T024428Z
LAST-MODIFIED:20260205T025628Z
UID:10082339-1773938700-1773949500@www.kissingtreeresidents.org
SUMMARY:BOCCE Spring 2026 League - THURSDAY
DESCRIPTION:Bocce Ball Doubles Leagues Spring 2026\nSeason #17\n  \n THURSDAY night\n\nLeague play runs March 19 – May 14\n(playoffs start week after regular season ends)\nMatches scheduled from 4:45 pm – 7:45 pm\n\nBest 2 of 3 games / 3-Frame Roll-Off (tie breaker)\n\nRegistration begins Thursday\, February 12th\n\n3:30 pm Thursday league registration open       Click here to register\nEntry fee is $12 per person\nEntry deadline Friday\, February 27 or until full\n\nSchedules out Thursday\, March 5\n\nMeet new friends\, win Lifestyle Buck$\, & enjoy some recreational time on the courts!
URL:https://www.kissingtreeresidents.org/event/bocce-spring-2026-league-thursday/
LOCATION:Bocce Ball Courts
CATEGORIES:Clubs & Groups,Events
ORGANIZER;CN="Kissing Tree Community Life":MAILTO:ktmc@coherelife.com
END:VEVENT
BEGIN:VEVENT
DTSTART;TZID=America/Chicago:20260319T163000
DTEND;TZID=America/Chicago:20260319T200000
DTSTAMP:20260420T051503
CREATED:20251203T202205Z
LAST-MODIFIED:20251203T214311Z
UID:10080989-1773937800-1773950400@www.kissingtreeresidents.org
SUMMARY:Poker- Brennan Group
DESCRIPTION:No Limit Hold ’em monthly Tournament 3rd Thursday. $20 buy in with one $20 rebuy allowed. $20\,000 starting chip stack with blinds starting at $100 / $200 that are increased every 15 minutes. Max is 24 players with 3 tables.
URL:https://www.kissingtreeresidents.org/event/poker-brennan-group-2-2/2026-03-19/
LOCATION:Independence Hall Activity Room
CATEGORIES:Clubs & Groups
ORGANIZER;CN="Martin Brennan":MAILTO:martinbrennan111@gmail.com
END:VEVENT
BEGIN:VEVENT
DTSTART;TZID=America/Chicago:20260319T163000
DTEND;TZID=America/Chicago:20260319T200000
DTSTAMP:20260420T051503
CREATED:20241210T224547Z
LAST-MODIFIED:20251203T172846Z
UID:10079995-1773937800-1773950400@www.kissingtreeresidents.org
SUMMARY:Lady Darters
DESCRIPTION:
URL:https://www.kissingtreeresidents.org/event/lady-darters/2026-03-19/
LOCATION:The Depot @ Grand Central
CATEGORIES:Clubs & Groups,Grand Central
END:VEVENT
BEGIN:VEVENT
DTSTART;TZID=America/Chicago:20260319T150000
DTEND;TZID=America/Chicago:20260319T170000
DTSTAMP:20260420T051503
CREATED:20251217T162858Z
LAST-MODIFIED:20251217T162858Z
UID:10081208-1773932400-1773939600@www.kissingtreeresidents.org
SUMMARY:Figure Drawing Class
DESCRIPTION:A series of figure drawing tutorials will be offered on Thursday afternoons from 3–5 pm\, beginning January 22 and continuing for at least our more weeks. Each session will build on skills from the previous class. Participants should bring their own paper and pencil. A one-time donation of $5–$20 to help offset tutorial costs is appreciated but not required. For additional details\, contact the Sharon Meaden at revivedglory@yahoo.com. \nBe sure to check the KT Studio Buzz! Facebook page for posts and updates about these classes.
URL:https://www.kissingtreeresidents.org/event/figure-drawing-class/2026-03-19/
LOCATION:Art Studio @ Grand Central
CATEGORIES:Clubs & Groups,Grand Central
ORGANIZER;CN="Sharon Meaden":MAILTO:revivedglory@yahoo.com
END:VEVENT
BEGIN:VEVENT
DTSTART;TZID=America/Chicago:20260319T080000
DTEND;TZID=America/Chicago:20260319T220000
DTSTAMP:20260420T051503
CREATED:20250507T153252Z
LAST-MODIFIED:20250507T153347Z
UID:10058748-1773907200-1773957600@www.kissingtreeresidents.org
SUMMARY:Pickleball Gents Open Play
DESCRIPTION:Courts 1-8
URL:https://www.kissingtreeresidents.org/event/pickleball-gents-open-play-4/2026-03-19/
LOCATION:Pickleball Courts
CATEGORIES:Clubs & Groups,Sports Courts
END:VEVENT
END:VCALENDAR