BEGIN:VCALENDAR
VERSION:2.0
PRODID:-//Kissing Tree Resident Website - ECPv6.15.18//NONSGML v1.0//EN
CALSCALE:GREGORIAN
METHOD:PUBLISH
X-ORIGINAL-URL:https://www.kissingtreeresidents.org
X-WR-CALDESC:Events for Kissing Tree Resident Website
REFRESH-INTERVAL;VALUE=DURATION:PT1H
X-Robots-Tag:noindex
X-PUBLISHED-TTL:PT1H
BEGIN:VTIMEZONE
TZID:America/Chicago
BEGIN:DAYLIGHT
TZOFFSETFROM:-0600
TZOFFSETTO:-0500
TZNAME:CDT
DTSTART:20250309T080000
END:DAYLIGHT
BEGIN:STANDARD
TZOFFSETFROM:-0500
TZOFFSETTO:-0600
TZNAME:CST
DTSTART:20251102T070000
END:STANDARD
BEGIN:DAYLIGHT
TZOFFSETFROM:-0600
TZOFFSETTO:-0500
TZNAME:CDT
DTSTART:20260308T080000
END:DAYLIGHT
BEGIN:STANDARD
TZOFFSETFROM:-0500
TZOFFSETTO:-0600
TZNAME:CST
DTSTART:20261101T070000
END:STANDARD
BEGIN:DAYLIGHT
TZOFFSETFROM:-0600
TZOFFSETTO:-0500
TZNAME:CDT
DTSTART:20270314T080000
END:DAYLIGHT
BEGIN:STANDARD
TZOFFSETFROM:-0500
TZOFFSETTO:-0600
TZNAME:CST
DTSTART:20271107T070000
END:STANDARD
END:VTIMEZONE
BEGIN:VEVENT
DTSTART;TZID=America/Chicago:20260501T163000
DTEND;TZID=America/Chicago:20260501T203000
DTSTAMP:20260420T111803
CREATED:20260416T205048Z
LAST-MODIFIED:20260416T205155Z
UID:10083848-1777653000-1777667400@www.kissingtreeresidents.org
SUMMARY:KT Karacters
DESCRIPTION:Activity Room is reserved for the KT Karacters.
URL:https://www.kissingtreeresidents.org/event/kt-karacters/2026-05-01/
LOCATION:Independence Hall Activity Room
CATEGORIES:Clubs & Groups
ORGANIZER;CN="Kissing Tree Community Life":MAILTO:ktmc@coherelife.com
END:VEVENT
BEGIN:VEVENT
DTSTART;TZID=America/Chicago:20260501T170000
DTEND;TZID=America/Chicago:20260501T193000
DTSTAMP:20260420T111803
CREATED:20260410T144904Z
LAST-MODIFIED:20260410T144931Z
UID:10083763-1777654800-1777663800@www.kissingtreeresidents.org
SUMMARY:You’re Invited: Art Wall Opening!
DESCRIPTION:Join us as we unveil the newest Art Wall display\, featuring the theme “Figures.” This unique collection explores interpretations of people\, numbers\, and symbols through a variety of artistic styles. \nCome mingle with the artists\, enjoy light conversation\, and hear firsthand about the inspiration behind their work. It’s a wonderful opportunity to connect with fellow residents and celebrate creativity within our community. \nWe hope to see you there!
URL:https://www.kissingtreeresidents.org/event/youre-invited-art-wall-opening/
LOCATION:Independence Hall
CATEGORIES:Clubs & Groups
ORGANIZER;CN="Susan Bond":MAILTO:susantadlock@hotmail.com
END:VEVENT
BEGIN:VEVENT
DTSTART;TZID=America/Chicago:20260501T170000
DTEND;TZID=America/Chicago:20260501T203000
DTSTAMP:20260420T111803
CREATED:20260417T134325Z
LAST-MODIFIED:20260417T134325Z
UID:10083920-1777654800-1777667400@www.kissingtreeresidents.org
SUMMARY:May I? Card Game
DESCRIPTION:
URL:https://www.kissingtreeresidents.org/event/may-i-card-game/2026-05-01/
LOCATION:Independence Hall Activity Room
CATEGORIES:Clubs & Groups
ORGANIZER;CN="Linda Hightower":MAILTO:lindahi5@att.net
END:VEVENT
BEGIN:VEVENT
DTSTART;TZID=America/Chicago:20260501T180000
DTEND;TZID=America/Chicago:20260501T200000
DTSTAMP:20260420T111803
CREATED:20260409T144342Z
LAST-MODIFIED:20260412T145621Z
UID:10083759-1777658400-1777665600@www.kissingtreeresidents.org
SUMMARY:Remote Control : Rewinding Through the Decades (Play)
DESCRIPTION:Rewind your way down memory lane with KT KaracTers’ latest production\, “Remote Control”. Your fellow neighbors/actors will take you on a journey through the decades featuring your favorite T.V. shows and songs. Come early to choose your seats/tables or bring your own chairs. Drink specials will be available. Performances are Friday\, May 1st and Saturday\, May 2nd at 6:00 pm. Tune in for a fun evening full of laughs.
URL:https://www.kissingtreeresidents.org/event/remote-control-rewinding-through-the-decades-play/2026-05-01/
LOCATION:Biergarten
CATEGORIES:Clubs & Groups,Events
ORGANIZER;CN="Don Kotkof":MAILTO:donrotkopf@yahoo.com
END:VEVENT
BEGIN:VEVENT
DTSTART;TZID=America/Chicago:20260502T080000
DTEND;TZID=America/Chicago:20260502T100000
DTSTAMP:20260420T111803
CREATED:20251203T194125Z
LAST-MODIFIED:20251203T194125Z
UID:10080297-1777708800-1777716000@www.kissingtreeresidents.org
SUMMARY:Pickleball Open Play
DESCRIPTION:Courts 1-8 \nTo participate in open play\, you don’t need to bring a partner but you’ll need to have your own paddle.
URL:https://www.kissingtreeresidents.org/event/pickleball-open-play-3/2026-05-02/
LOCATION:Pickleball Courts
CATEGORIES:Clubs & Groups,Sports Courts
END:VEVENT
BEGIN:VEVENT
DTSTART;TZID=America/Chicago:20260502T081500
DTEND;TZID=America/Chicago:20260502T093000
DTSTAMP:20260420T111803
CREATED:20260309T150432Z
LAST-MODIFIED:20260309T150432Z
UID:10083056-1777709700-1777714200@www.kissingtreeresidents.org
SUMMARY:Hill Huggers
DESCRIPTION:The Hill Huggers group meet on Wednesday and Saturday mornings and are designed for residents of all fitness levels who enjoy walking\, running\, hiking and exploring the trails around the Kissing Tree community. Participants can expect a welcoming\, social atmosphere where they’ll get to enjoy the beauty of nature while engaging in light to moderate physical activity. Whether you’re looking for a relaxing walk or a more energetic run\, the groups offer a variety of routes and paces to accommodate different preferences. It’s a great way to meet fellow residents\, get outdoors\, and stay active!
URL:https://www.kissingtreeresidents.org/event/hill-huggers-3-2-2-2/2026-05-02/
LOCATION:Biergarten
CATEGORIES:Clubs & Groups
ORGANIZER;CN="Sue Walker":MAILTO:nyazcax61@gmail.com
END:VEVENT
BEGIN:VEVENT
DTSTART;TZID=America/Chicago:20260502T090000
DTEND;TZID=America/Chicago:20260502T130000
DTSTAMP:20260420T111803
CREATED:20260316T164950Z
LAST-MODIFIED:20260316T164950Z
UID:10083384-1777712400-1777726800@www.kissingtreeresidents.org
SUMMARY:KTPA Dinko de Mayo
DESCRIPTION:Courts 9-18 are reserved for the KTPA.
URL:https://www.kissingtreeresidents.org/event/ktpa-dinko-de-mayo/
LOCATION:Pickleball Courts
CATEGORIES:Clubs & Groups,Sports Courts
END:VEVENT
BEGIN:VEVENT
DTSTART;TZID=America/Chicago:20260502T090000
DTEND;TZID=America/Chicago:20260502T130000
DTSTAMP:20260420T111803
CREATED:20260416T211817Z
LAST-MODIFIED:20260416T211817Z
UID:10083911-1777712400-1777726800@www.kissingtreeresidents.org
SUMMARY:Dinko de Mayo
DESCRIPTION:Courts 9-18 are reserved for the KTPA
URL:https://www.kissingtreeresidents.org/event/dinko-de-mayo/
LOCATION:Pickleball Courts
CATEGORIES:Clubs & Groups,Sports Courts
END:VEVENT
BEGIN:VEVENT
DTSTART;TZID=America/Chicago:20260502T160000
DTEND;TZID=America/Chicago:20260502T180000
DTSTAMP:20260420T111803
CREATED:20260417T221503Z
LAST-MODIFIED:20260417T221503Z
UID:10083949-1777737600-1777744800@www.kissingtreeresidents.org
SUMMARY:FirstLight Home Care: Fairy Garden Pots
DESCRIPTION:Join FirstLight Home Care and Samantha Brittain for one of many art enrichment classes. Create your own Fairy Garden Pot! \nSamantha Brittain Art   Instagram   Facebook \nSamantha Brittain is a Wimberley-based artist who specializes in watercolor\, murals and crafts. \n \nAbout FirstLight Home Care \nOur in-home care services provide the daily support adults need to live a life of dignity with as much independence as possible in Kyle and surrounding areas. We understand your loved one deserves more than having someone who simply keeps them company. They deserve a caregiver who is passionate about helping them have their best day\, every day. At FirstLight Home Care of Kyle\, that’s why we do more than make a meal or help with mobility. Our home care assistance is about establishing caring relationships built on trust and respect. \nLearn More \n  \n  \n 
URL:https://www.kissingtreeresidents.org/event/firstlight-home-care-fairy-garden-pots/
LOCATION:Art Studio @ Grand Central
CATEGORIES:Events
ORGANIZER;CN="Lisa Westerbeck":MAILTO:lwesterbeck@coherelife.com
END:VEVENT
BEGIN:VEVENT
DTSTART;TZID=America/Chicago:20260502T163000
DTEND;TZID=America/Chicago:20260502T203000
DTSTAMP:20260420T111803
CREATED:20260416T205048Z
LAST-MODIFIED:20260416T205155Z
UID:10083849-1777739400-1777753800@www.kissingtreeresidents.org
SUMMARY:KT Karacters
DESCRIPTION:Activity Room is reserved for the KT Karacters.
URL:https://www.kissingtreeresidents.org/event/kt-karacters/2026-05-02/
LOCATION:Independence Hall Activity Room
CATEGORIES:Clubs & Groups
ORGANIZER;CN="Kissing Tree Community Life":MAILTO:ktmc@coherelife.com
END:VEVENT
BEGIN:VEVENT
DTSTART;TZID=America/Chicago:20260502T180000
DTEND;TZID=America/Chicago:20260502T200000
DTSTAMP:20260420T111803
CREATED:20260409T144342Z
LAST-MODIFIED:20260412T145621Z
UID:10083760-1777744800-1777752000@www.kissingtreeresidents.org
SUMMARY:Remote Control : Rewinding Through the Decades (Play)
DESCRIPTION:Rewind your way down memory lane with KT KaracTers’ latest production\, “Remote Control”. Your fellow neighbors/actors will take you on a journey through the decades featuring your favorite T.V. shows and songs. Come early to choose your seats/tables or bring your own chairs. Drink specials will be available. Performances are Friday\, May 1st and Saturday\, May 2nd at 6:00 pm. Tune in for a fun evening full of laughs.
URL:https://www.kissingtreeresidents.org/event/remote-control-rewinding-through-the-decades-play/2026-05-02/
LOCATION:Biergarten
CATEGORIES:Clubs & Groups,Events
ORGANIZER;CN="Don Kotkof":MAILTO:donrotkopf@yahoo.com
END:VEVENT
BEGIN:VEVENT
DTSTART;TZID=America/Chicago:20260503T113000
DTEND;TZID=America/Chicago:20260503T140000
DTSTAMP:20260420T111803
CREATED:20251203T194315Z
LAST-MODIFIED:20251203T194704Z
UID:10080349-1777807800-1777816800@www.kissingtreeresidents.org
SUMMARY:Darts Open Play
DESCRIPTION:You’re Invited to Darts Open Play! \nJoin us for an exciting and fun-filled norming of darts! Whether you’re a seasoned player or a beginner\, come enjoy the friendly competition and good company. Don’t miss out on this chance to play\, socialize\, and have fun. We look forward to seeing you there!
URL:https://www.kissingtreeresidents.org/event/lady-darters-2-2/2026-05-03/
LOCATION:The Depot @ Grand Central
CATEGORIES:Clubs & Groups,Grand Central,Sports Courts
END:VEVENT
BEGIN:VEVENT
DTSTART;TZID=America/Chicago:20260503T133000
DTEND;TZID=America/Chicago:20260503T163000
DTSTAMP:20260420T111804
CREATED:20260113T200844Z
LAST-MODIFIED:20260113T204010Z
UID:10081427-1777815000-1777825800@www.kissingtreeresidents.org
SUMMARY:Scrabble Board Game Group
DESCRIPTION:The Scrabble group meets on Sunday afternoons for friendly games and casual play. This is the group meeting time for those who enjoy the board game with friends.
URL:https://www.kissingtreeresidents.org/event/scrabble-board-game-group/2026-05-03/
LOCATION:The Stump @ Grand Central
CATEGORIES:Clubs & Groups,Grand Central
ORGANIZER;CN="Patrick Johnson":MAILTO:dorlanj@icloud.com
END:VEVENT
BEGIN:VEVENT
DTSTART;TZID=America/Chicago:20260503T150000
DTEND;TZID=America/Chicago:20260503T170000
DTSTAMP:20260420T111804
CREATED:20260309T213034Z
LAST-MODIFIED:20260309T213034Z
UID:10083098-1777820400-1777827600@www.kissingtreeresidents.org
SUMMARY:Mahjong
DESCRIPTION:
URL:https://www.kissingtreeresidents.org/event/mahjong/2026-05-03/
LOCATION:Independence Hall Activity Room
CATEGORIES:Clubs & Groups
ORGANIZER;CN="Barbara Taylor":MAILTO:barbarat57@outlook.com
END:VEVENT
BEGIN:VEVENT
DTSTART;TZID=America/Chicago:20260504T080000
DTEND;TZID=America/Chicago:20260504T170000
DTSTAMP:20260420T111804
CREATED:20251203T151741Z
LAST-MODIFIED:20251203T151741Z
UID:10078910-1777881600-1777914000@www.kissingtreeresidents.org
SUMMARY:Pickleball Open Play
DESCRIPTION:Courts 1-8 are reserved for open play.
URL:https://www.kissingtreeresidents.org/event/pickleball-open-play/2026-05-04/
LOCATION:Pickleball Courts
CATEGORIES:Clubs & Groups,Sports Courts
END:VEVENT
BEGIN:VEVENT
DTSTART;TZID=America/Chicago:20260504T090000
DTEND;TZID=America/Chicago:20260504T100000
DTSTAMP:20260420T111804
CREATED:20251203T151940Z
LAST-MODIFIED:20260317T172717Z
UID:10083402-1777885200-1777888800@www.kissingtreeresidents.org
SUMMARY:Laura’s Choice
DESCRIPTION:Please use your Mind/Body app to register for this class.  \nIn Laura’s Choice\, each class spotlights a different area of the body or fitness theme designed to enhance your strength\, flexibility\, and mobility from head to toe. Whether targeting knees\, shoulders\, core\, or hips\, Laura’s expertise ensures you get a well-rounded workout tailored to keep you moving comfortably and confidently in your daily life. Using controlled movements and a variety of equipment\, each session emphasizes mindful exercises that promote functional strength\, support injury prevention\, and adapt to all fitness levels. Join us and discover the benefits of focusing on a different area each week—your body will thank you!
URL:https://www.kissingtreeresidents.org/event/lauras-choice-2/2026-05-04/
LOCATION:Independence Hall Activity Room
CATEGORIES:Clubs & Groups
ORGANIZER;CN="Kissing Tree Community Life":MAILTO:ktmc@coherelife.com
END:VEVENT
BEGIN:VEVENT
DTSTART;TZID=America/Chicago:20260504T090000
DTEND;TZID=America/Chicago:20260504T103000
DTSTAMP:20260420T111804
CREATED:20251203T152251Z
LAST-MODIFIED:20260317T173054Z
UID:10083449-1777885200-1777890600@www.kissingtreeresidents.org
SUMMARY:Men’s Coffee Group
DESCRIPTION:The Men’s Coffee Group provides an opportunity to engage in casual conversation\, share experiences\, and enjoy each other’s company over a cup of coffee.
URL:https://www.kissingtreeresidents.org/event/mens-coffee-group/2026-05-04/
CATEGORIES:Clubs & Groups
ORGANIZER;CN="Harry Heinsohn":MAILTO:hdlr1234@yahoo.com
END:VEVENT
BEGIN:VEVENT
DTSTART;TZID=America/Chicago:20260504T100000
DTEND;TZID=America/Chicago:20260504T120000
DTSTAMP:20260420T111804
CREATED:20251217T152844Z
LAST-MODIFIED:20251217T153019Z
UID:10081157-1777888800-1777896000@www.kissingtreeresidents.org
SUMMARY:Open Studio
DESCRIPTION:Every Monday now: Open Studio & Paint-by-Numbers with Dee Hutchison & Tracey Younes\,  no RSVP required. \nThis is also your opportunity to join others in a relaxed setting where you can work on the Paint-by-Numbers creations. You can bring your own kit or take part in a group order to help keep costs down—pricing will vary based on your selection. For more information on these projects please text Tracey Younes at 512-784-4256. \nFor more information Contact Dee Hutchison at 512-773-7410 \nBe sure to check on the KT Studio Buzz Facebook page for more information and/or updates. https://www.facebook.com/share/g/hca8izuKqpNZufZx/
URL:https://www.kissingtreeresidents.org/event/open-studio-2-2-2-2/2026-05-04/
LOCATION:Art Studio @ Grand Central
CATEGORIES:Clubs & Groups,Grand Central
END:VEVENT
BEGIN:VEVENT
DTSTART;TZID=America/Chicago:20260504T130000
DTEND;TZID=America/Chicago:20260504T134500
DTSTAMP:20260420T111804
CREATED:20251203T154609Z
LAST-MODIFIED:20251203T154609Z
UID:10079155-1777899600-1777902300@www.kissingtreeresidents.org
SUMMARY:Rosary Warriors Group
DESCRIPTION:Join us every Monday afternoon for a peaceful time of prayer and reflection. \nWhile we are Catholics who pray the Rosary\, everyone is welcome to participate—no need to be Catholic! The gathering lasts just 20–30 minutes\, and you’re welcome to come whenever you can. We begin by sharing any special prayer intentions and then pray the Rosary together with those intentions in mind. \nWe’d love to have you join us!
URL:https://www.kissingtreeresidents.org/event/rosary-warriors-group-2/2026-05-04/
LOCATION:Independence Hall Activity Room
CATEGORIES:Clubs & Groups
ORGANIZER;CN="Linda Lacinski":MAILTO:llacinski@verizon.net
END:VEVENT
BEGIN:VEVENT
DTSTART;TZID=America/Chicago:20260504T130000
DTEND;TZID=America/Chicago:20260504T150000
DTSTAMP:20260420T111804
CREATED:20251203T160219Z
LAST-MODIFIED:20251203T160219Z
UID:10079263-1777899600-1777906800@www.kissingtreeresidents.org
SUMMARY:Ping Pong Open Play
DESCRIPTION:Come join your KT friends and neighbors for some friendly ping pong action! \nWhether you’re a seasoned player or just looking to have fun\, it’s a great chance to hang out\, challenge each other\, and enjoy some friendly competition.
URL:https://www.kissingtreeresidents.org/event/ping-pong-open-play-4/2026-05-04/
LOCATION:The Depot @ Grand Central
CATEGORIES:Clubs & Groups,Sports Courts
ORGANIZER;CN="Kissing Tree Community Life":MAILTO:ktmc@coherelife.com
END:VEVENT
BEGIN:VEVENT
DTSTART;TZID=America/Chicago:20260504T133000
DTEND;TZID=America/Chicago:20260504T153000
DTSTAMP:20260420T111804
CREATED:20251203T210926Z
LAST-MODIFIED:20251203T210926Z
UID:10080708-1777901400-1777908600@www.kissingtreeresidents.org
SUMMARY:42 Dominos Group
DESCRIPTION:The KT 42 Dominos group invite all enthusiasts of the classic 42 Dominos game to join their dedicated game group! \nWhether you’re a seasoned player or new to the game\, this is the perfect space to enjoy fun matches\, learn strategies\, and connect with others who share the love for 42 Dominos. \nIf you have any questions\, feel free to reach out to the group leader.
URL:https://www.kissingtreeresidents.org/event/42-dominos-group-2/2026-05-04/
LOCATION:Independence Hall
CATEGORIES:Clubs & Groups
END:VEVENT
BEGIN:VEVENT
DTSTART;TZID=America/Chicago:20260504T134500
DTEND;TZID=America/Chicago:20260504T160000
DTSTAMP:20260420T111804
CREATED:20251203T162644Z
LAST-MODIFIED:20251203T162644Z
UID:10079367-1777902300-1777910400@www.kissingtreeresidents.org
SUMMARY:Mahjong WP Group
DESCRIPTION:The WP Mahjongg group plays once a week. They play the Wright-Patterson (or military) version. It includes players of all levels\, and beginners are welcome. For more information about this resident-led interest group\, contact resident Paula Sims.
URL:https://www.kissingtreeresidents.org/event/mahjong-wp-group/2026-05-04/
LOCATION:Independence Hall Activity Room
CATEGORIES:Clubs & Groups
ORGANIZER;CN="Paula Sims":MAILTO:Paula.sims1761@me.com
END:VEVENT
BEGIN:VEVENT
DTSTART;TZID=America/Chicago:20260504T143000
DTEND;TZID=America/Chicago:20260504T160000
DTSTAMP:20260420T111804
CREATED:20250613T150253Z
LAST-MODIFIED:20251203T152804Z
UID:10059883-1777905000-1777910400@www.kissingtreeresidents.org
SUMMARY:Sketch Happens
DESCRIPTION:No RSVP is required Bring your own supplies and practice sketching with others. Either a video lesson\, drawn from a photo\, or instructor-led session will be offered. Supplies to bring could include sketching or watercolor paper\, pencil\, pens or fine markers\, watercolors or colored pencils (optional). There are typically supplies to share if you don’t have any. Frequently information about each meeting is posted on the KT Studio Buzz Facebook site. \nContact Jane Jones for any questions or more info: jjonestexas@gmail.com.
URL:https://www.kissingtreeresidents.org/event/sketch-happens-2-2/2026-05-04/
LOCATION:Art Studio @ Grand Central
CATEGORIES:Clubs & Groups,Grand Central
ORGANIZER;CN="Jane Jones":MAILTO:jjonestexas@gmail.com
END:VEVENT
BEGIN:VEVENT
DTSTART;TZID=America/Chicago:20260504T150000
DTEND;TZID=America/Chicago:20260504T170000
DTSTAMP:20260420T111804
CREATED:20260226T193838Z
LAST-MODIFIED:20260226T194009Z
UID:10082779-1777906800-1777914000@www.kissingtreeresidents.org
SUMMARY:Mexican Train
DESCRIPTION:All aboard for a fun afternoon of Mexican Train! \nJoin us for friendly competition and fun as we play Mexican Train! \nWhether you’re a seasoned conductor or brand new to the game\, everyone is welcome!
URL:https://www.kissingtreeresidents.org/event/mexican-train/2026-05-04/
LOCATION:Resident Library
CATEGORIES:Clubs & Groups
ORGANIZER;CN="Alice Spinnato":MAILTO:alicespinnato2018@gmail.com
END:VEVENT
BEGIN:VEVENT
DTSTART;TZID=America/Chicago:20260504T160000
DTEND;TZID=America/Chicago:20260504T180000
DTSTAMP:20260420T111804
CREATED:20251203T154017Z
LAST-MODIFIED:20251203T211319Z
UID:10080746-1777910400-1777917600@www.kissingtreeresidents.org
SUMMARY:Skipping Cedar Bunco
DESCRIPTION:The Skipping Cedar Bunco group is a fun and social gathering that meets once a month. This group offers a chance to enjoy an afternoon of friendly competition\, laughter\, and camaraderie. Bunco is a simple dice game that’s easy to learn and requires no experience\, making it perfect for both beginners and seasoned players.
URL:https://www.kissingtreeresidents.org/event/skipping-cedar-bunco/2026-05-04/
LOCATION:Independence Hall Activity Room
CATEGORIES:Clubs & Groups
ORGANIZER;CN="Sandy Lewis":MAILTO:msleweye2892@att.net
END:VEVENT
BEGIN:VEVENT
DTSTART;TZID=America/Chicago:20260504T160000
DTEND;TZID=America/Chicago:20260504T200000
DTSTAMP:20260420T111804
CREATED:20251203T162932Z
LAST-MODIFIED:20251203T162932Z
UID:10079419-1777910400-1777924800@www.kissingtreeresidents.org
SUMMARY:Men’s Dart League 
DESCRIPTION:Are you ready to test your skills\, meet fellow players\, and compete in a fun\, social\, and competitive dart league? \nThe KT Men’s Dart League wants YOU on the board! \nLeague Highlights- Weekly matches at the Depot that are open to all skill levels\, friendly competition\, & seasonal playoff tournaments & leagues. \nFor more information contact Del Jantzen at deljantzen@me.com
URL:https://www.kissingtreeresidents.org/event/mens-dart-league/2026-05-04/
LOCATION:The Depot @ Grand Central
CATEGORIES:Clubs & Groups,Grand Central,Sports Courts
ORGANIZER;CN="Del Jentzen":MAILTO:deljantzen@me.com
END:VEVENT
BEGIN:VEVENT
DTSTART;TZID=America/Chicago:20260504T180000
DTEND;TZID=America/Chicago:20260504T200000
DTSTAMP:20260420T111804
CREATED:20251112T180734Z
LAST-MODIFIED:20251203T211444Z
UID:10080758-1777917600-1777924800@www.kissingtreeresidents.org
SUMMARY:National Security Group
DESCRIPTION:The Kissing Tree National Security Issues Group is a non-partisan group focused on discussion of international issues that impact the national security of the United States. This can include diplomatic\, military\, economic and informational issues\, or a combination of them all. The group utilizes the US Foreign Policy Associations’ Great Decisions program to facilitate discussion. All Kissing Tree Residents are welcome to attend.
URL:https://www.kissingtreeresidents.org/event/national-security-group-2-2-2/2026-05-04/
LOCATION:Independence Hall Activity Room
CATEGORIES:Clubs & Groups
ORGANIZER;CN="Bill Fillman":MAILTO:fillman1953@gmail.com
END:VEVENT
BEGIN:VEVENT
DTSTART;TZID=America/Chicago:20260504T180000
DTEND;TZID=America/Chicago:20260504T200000
DTSTAMP:20260420T111804
CREATED:20251222T212923Z
LAST-MODIFIED:20251222T213348Z
UID:10081287-1777917600-1777924800@www.kissingtreeresidents.org
SUMMARY:Cribbage Group
DESCRIPTION:Cribbage is a fun and social card game that combines strategy and chance. It’s typically played by two players\, though it can be played with more. The goal is to score points by forming combinations of cards in your hand and through a shared “crib\,” which is a separate set of cards. Points are awarded for various card combinations\, such as pairs\, runs\, and flushes. Join us for a relaxed evening of Cribbage every Monday evening. Whether you’re a seasoned player or new to the game\, it’s a great way to enjoy some friendly competition and good company.
URL:https://www.kissingtreeresidents.org/event/cribbage-group-4/2026-05-04/
LOCATION:Independence Hall
CATEGORIES:Clubs & Groups
ORGANIZER;CN="Joel Adams":MAILTO:joelaadams1@gmail.com
END:VEVENT
BEGIN:VEVENT
DTSTART;TZID=America/Chicago:20260504T180000
DTEND;TZID=America/Chicago:20260504T203000
DTSTAMP:20260420T111804
CREATED:20260410T202930Z
LAST-MODIFIED:20260412T163943Z
UID:10083826-1777917600-1777926600@www.kissingtreeresidents.org
SUMMARY:Salsa dance lessons
DESCRIPTION:SALSA Dance lessons\nMonday\, May 4th\nIndependence Hall Lobby/Biergarten\n6 pm – 7 pm   Salsa dance lesson w/Jose\n7 pm – 8:30 pm  DJ Dance Social \nRegistration opens Monday\, April 13 at 4 pm\nCost is $29 pp   –   Limit 40 participants \nClick here to register \nWelcome to Swing Junction\nYour hosts & instructors Rob & Diane.  They are here to build community\, help you learn simple and fun skills for personal growth and listen and dance to great music and making friends.
URL:https://www.kissingtreeresidents.org/event/salsa-dance-lessons/
LOCATION:Independence Hall
CATEGORIES:Clubs & Groups,Events
ORGANIZER;CN="Kissing Tree Community Life":MAILTO:ktmc@coherelife.com
END:VEVENT
BEGIN:VEVENT
DTSTART;TZID=America/Chicago:20260504T183000
DTEND;TZID=America/Chicago:20260504T203000
DTSTAMP:20260420T111804
CREATED:20251203T163131Z
LAST-MODIFIED:20251203T163131Z
UID:10079471-1777919400-1777926600@www.kissingtreeresidents.org
SUMMARY:Pickleball Open Play
DESCRIPTION:Pickleball is the fastest-growing sport in the country and the same is true at Kissing Tree. Whether socializing with your doubles partner\, your opponents\, or those playing on other courts\, pickleball is downright fun and laughter is bound to ensue. After just one game you will be addicted. \nThis all genders open play includes 8 courts and currently lists the summer pickleball hours which trend toward morning and evenings to accommodate for the heat. Open play includes all players\, of any skill level. Paddle system is used to assign players to courts. One game is played and then the next four players move to open court. Window may change to fall hours sometime in October.
URL:https://www.kissingtreeresidents.org/event/pickleball-open-play-2/2026-05-04/
CATEGORIES:Clubs & Groups,Sports Courts
END:VEVENT
END:VCALENDAR