BEGIN:VCALENDAR
VERSION:2.0
PRODID:-//Kissing Tree Resident Website - ECPv6.15.18//NONSGML v1.0//EN
CALSCALE:GREGORIAN
METHOD:PUBLISH
X-WR-CALNAME:Kissing Tree Resident Website
X-ORIGINAL-URL:https://www.kissingtreeresidents.org
X-WR-CALDESC:Events for Kissing Tree Resident Website
REFRESH-INTERVAL;VALUE=DURATION:PT1H
X-Robots-Tag:noindex
X-PUBLISHED-TTL:PT1H
BEGIN:VTIMEZONE
TZID:America/Chicago
BEGIN:DAYLIGHT
TZOFFSETFROM:-0600
TZOFFSETTO:-0500
TZNAME:CDT
DTSTART:20250309T080000
END:DAYLIGHT
BEGIN:STANDARD
TZOFFSETFROM:-0500
TZOFFSETTO:-0600
TZNAME:CST
DTSTART:20251102T070000
END:STANDARD
BEGIN:DAYLIGHT
TZOFFSETFROM:-0600
TZOFFSETTO:-0500
TZNAME:CDT
DTSTART:20260308T080000
END:DAYLIGHT
BEGIN:STANDARD
TZOFFSETFROM:-0500
TZOFFSETTO:-0600
TZNAME:CST
DTSTART:20261101T070000
END:STANDARD
BEGIN:DAYLIGHT
TZOFFSETFROM:-0600
TZOFFSETTO:-0500
TZNAME:CDT
DTSTART:20270314T080000
END:DAYLIGHT
BEGIN:STANDARD
TZOFFSETFROM:-0500
TZOFFSETTO:-0600
TZNAME:CST
DTSTART:20271107T070000
END:STANDARD
END:VTIMEZONE
BEGIN:VEVENT
DTSTART;TZID=America/Chicago:20260527T163000
DTEND;TZID=America/Chicago:20260527T203000
DTSTAMP:20260420T184710
CREATED:20251114T155702Z
LAST-MODIFIED:20260317T173329Z
UID:10083500-1779899400-1779913800@www.kissingtreeresidents.org
SUMMARY:Texas Hold'em Poker
DESCRIPTION:
URL:https://www.kissingtreeresidents.org/event/texas-holdem-poker/2026-05-27/
LOCATION:Independence Hall Activity Room
CATEGORIES:Clubs & Groups
ORGANIZER;CN="Rusty Johnson":MAILTO:rusj63@gmail.com
END:VEVENT
BEGIN:VEVENT
DTSTART;TZID=America/Chicago:20260527T170000
DTEND;TZID=America/Chicago:20260527T200000
DTSTAMP:20260420T184710
CREATED:20260316T164813Z
LAST-MODIFIED:20260316T164813Z
UID:10083383-1779901200-1779912000@www.kissingtreeresidents.org
SUMMARY:KTPA Ladder League
DESCRIPTION:Courts 1-16 are reserved for the KTPA.
URL:https://www.kissingtreeresidents.org/event/ktpa-ladder-league/2026-05-27/
LOCATION:Pickleball Courts
CATEGORIES:Clubs & Groups,Sports Courts
END:VEVENT
BEGIN:VEVENT
DTSTART;TZID=America/Chicago:20260527T170000
DTEND;TZID=America/Chicago:20260527T200000
DTSTAMP:20260420T184710
CREATED:20260416T211447Z
LAST-MODIFIED:20260416T211457Z
UID:10083857-1779901200-1779912000@www.kissingtreeresidents.org
SUMMARY:KTPA Ladder League
DESCRIPTION:Courts 1-16 are reserved for the KTPA
URL:https://www.kissingtreeresidents.org/event/ktpa-ladder-league-3/2026-05-27/
LOCATION:Pickleball Courts
CATEGORIES:Clubs & Groups,Sports Courts
END:VEVENT
BEGIN:VEVENT
DTSTART;TZID=America/Chicago:20260528T080000
DTEND;TZID=America/Chicago:20260528T093000
DTSTAMP:20260420T184710
CREATED:20260218T194703Z
LAST-MODIFIED:20260218T194703Z
UID:10082374-1779955200-1779960600@www.kissingtreeresidents.org
SUMMARY:MANUP Men’s Group
DESCRIPTION:MANUP is a non-denominational\, Jesus-centered ministry founded in Austin\, Texas. For over a decade\, we’ve been connecting men with God and other men through weekly Bible study groups\, community events\, weekend retreats\, free online content\, and pastoral care. What does it really mean to MANUP? More than a set of rules or guidelines\, it’s a lifestyle. A code of core principles that shapes your everyday life. Our community is designed to support every man on his journey as a husband\, father\, and leader. Contact Rick or click on manup.org to learn more. \n 
URL:https://www.kissingtreeresidents.org/event/manup-mens-group/2026-05-28/
LOCATION:The Depot at Grand Central
CATEGORIES:Clubs & Groups,Grand Central
ORGANIZER;CN="Rick Davis":MAILTO:rickdavis1016@gmail.com
END:VEVENT
BEGIN:VEVENT
DTSTART;TZID=America/Chicago:20260528T080000
DTEND;TZID=America/Chicago:20260528T220000
DTSTAMP:20260420T184710
CREATED:20250507T153252Z
LAST-MODIFIED:20250507T153347Z
UID:10058758-1779955200-1780005600@www.kissingtreeresidents.org
SUMMARY:Pickleball Gents Open Play
DESCRIPTION:Courts 1-8
URL:https://www.kissingtreeresidents.org/event/pickleball-gents-open-play-4/2026-05-28/
LOCATION:Pickleball Courts
CATEGORIES:Clubs & Groups,Sports Courts
END:VEVENT
BEGIN:VEVENT
DTSTART;TZID=America/Chicago:20260528T103000
DTEND;TZID=America/Chicago:20260528T113000
DTSTAMP:20260420T184710
CREATED:20251203T221030Z
LAST-MODIFIED:20251203T221030Z
UID:10081098-1779964200-1779967800@www.kissingtreeresidents.org
SUMMARY:Operations Orientation
DESCRIPTION:Interested in learning more about Kissing Tree and how the staff work together to keep your community running? Stop by the activity room in Independence Hall for an operations orientation\, where all residents are welcome to attend. You’ll get an overview of each department and their responsibilities. The Community Life staff will also be available to answer any questions or concerns about Kissing Tree.
URL:https://www.kissingtreeresidents.org/event/operations-orientation-2/2026-05-28/
LOCATION:Independence Hall Activity Room
CATEGORIES:Events
ORGANIZER;CN="Kissing Tree Community Life":MAILTO:ktmc@coherelife.com
END:VEVENT
BEGIN:VEVENT
DTSTART;TZID=America/Chicago:20260528T130000
DTEND;TZID=America/Chicago:20260528T150000
DTSTAMP:20260420T184710
CREATED:20260417T190750Z
LAST-MODIFIED:20260417T201417Z
UID:10083939-1779973200-1779980400@www.kissingtreeresidents.org
SUMMARY:CPR/AED certification class
DESCRIPTION:CPR/AED certification class offered monthly\nIn an emergency\, the first few minutes matter. Be prepared to act. \nA CPR/AED certification class will be offered monthly on the last Thursday at Kissing Tree. The hands-on course is designed to build the skills and confidence needed to respond in an emergency. \nWhether seeking certification\, refreshing skills or gaining confidence\, the class offers a practical investment in personal and community safety. \nLast Thursday | 1–3 p.m. | Independence Hall activity room\nInstructor: Trent Rogers\, retired firefighter/paramedic and American Red Cross-certified. \n$68 per person. Space is limited. Register here or swing by the Fitness Center.
URL:https://www.kissingtreeresidents.org/event/cpr-aed-certification-class/2026-05-28/
LOCATION:Independence Hall Activity Room
CATEGORIES:Events
ORGANIZER;CN="Micah Ross":MAILTO:mross@coherelife.com
END:VEVENT
BEGIN:VEVENT
DTSTART;TZID=America/Chicago:20260528T130000
DTEND;TZID=America/Chicago:20260528T153000
DTSTAMP:20260420T184710
CREATED:20241218T204435Z
LAST-MODIFIED:20251203T173233Z
UID:10080057-1779973200-1779982200@www.kissingtreeresidents.org
SUMMARY:Mahjong Mavens
DESCRIPTION:Whether you’re a seasoned player or someone who has never picked up a tile\, we welcome players of all skill levels. Our group is all about enjoying the game together in a relaxed and supportive atmosphere. Meet fellow KT residents\, make new friends\, and enjoy good company while playing Mahjong. \nJust bring yourself and an eagerness to play. We’ll guide you through the rules if you’re new!
URL:https://www.kissingtreeresidents.org/event/mahjong-mavens/2026-05-28/
LOCATION:The Stump @ Grand Central
CATEGORIES:Clubs & Groups,Grand Central
END:VEVENT
BEGIN:VEVENT
DTSTART;TZID=America/Chicago:20260528T130000
DTEND;TZID=America/Chicago:20260528T153000
DTSTAMP:20260420T184710
CREATED:20260226T193433Z
LAST-MODIFIED:20260226T193526Z
UID:10082729-1779973200-1779982200@www.kissingtreeresidents.org
SUMMARY:Rummikub
DESCRIPTION:Love a little friendly competition? Enjoy games and good company?Come join your neighbors for a fun game of Rummikub! \nWhether you’re a seasoned player or brand new to the game\, all are welcome. \nWe look forward to seeing you there!
URL:https://www.kissingtreeresidents.org/event/rummikub/2026-05-28/
LOCATION:Resident Library
CATEGORIES:Clubs & Groups
ORGANIZER;CN="Alice Spinnato":MAILTO:alicespinnato2018@gmail.com
END:VEVENT
BEGIN:VEVENT
DTSTART;TZID=America/Chicago:20260528T130000
DTEND;TZID=America/Chicago:20260528T160000
DTSTAMP:20260420T184710
CREATED:20241218T204046Z
LAST-MODIFIED:20251203T173435Z
UID:10080121-1779973200-1779984000@www.kissingtreeresidents.org
SUMMARY:Fun Bridge
DESCRIPTION:The Fun Bridge Group is a friendly\, casual gathering of players who enjoy the classic card game of bridge. Whether you’re a seasoned pro or new to the game\, you’ll have a great time connecting with neighbors and making new friends. We welcome all skill levels\, so come join us for a fun\, relaxed atmosphere and see why bridge is the perfect game for everyone! Come to the Depot and bring your enthusiasm—no experience necessary. See you there!
URL:https://www.kissingtreeresidents.org/event/fun-bridge/2026-05-28/
LOCATION:The Depot @ Grand Central
CATEGORIES:Clubs & Groups
END:VEVENT
BEGIN:VEVENT
DTSTART;TZID=America/Chicago:20260528T150000
DTEND;TZID=America/Chicago:20260528T160000
DTSTAMP:20260420T184710
CREATED:20260323T144641Z
LAST-MODIFIED:20260323T144641Z
UID:10083636-1779980400-1779984000@www.kissingtreeresidents.org
SUMMARY:KT Cares Meeting
DESCRIPTION:
URL:https://www.kissingtreeresidents.org/event/kt-cares-meeting/
LOCATION:Art Studio @ Grand Central
CATEGORIES:Clubs & Groups,Meetings
ORGANIZER;CN="Bob Corkern":MAILTO:bob.corkern@outlook.com
END:VEVENT
BEGIN:VEVENT
DTSTART;TZID=America/Chicago:20260528T163000
DTEND;TZID=America/Chicago:20260528T200000
DTSTAMP:20260420T184710
CREATED:20241210T224547Z
LAST-MODIFIED:20251203T172846Z
UID:10080005-1779985800-1779998400@www.kissingtreeresidents.org
SUMMARY:Lady Darters
DESCRIPTION:
URL:https://www.kissingtreeresidents.org/event/lady-darters/2026-05-28/
LOCATION:The Depot @ Grand Central
CATEGORIES:Clubs & Groups,Grand Central
END:VEVENT
BEGIN:VEVENT
DTSTART;TZID=America/Chicago:20260528T173000
DTEND;TZID=America/Chicago:20260528T200000
DTSTAMP:20260420T184711
CREATED:20260226T152720Z
LAST-MODIFIED:20260226T152720Z
UID:10082706-1779989400-1779998400@www.kissingtreeresidents.org
SUMMARY:BIG Bunco @ the Mix
DESCRIPTION:Join the fun and make new friends with the Kissing Tree Bunco group! We meet on the 4th Thursday of each month for an exciting and social game of Bunco. Whether you’re a seasoned player or new to the game\, it’s all about having fun\, meeting neighbors\, and enjoying good company. \nThe group is open to all residents\, and we’d love to see you there! Come roll the dice and be part of the community. \nContact Joy Berberek at joyberberek@gmail.com for information on how to join.
URL:https://www.kissingtreeresidents.org/event/big-bunco-the-mix/2026-05-28/
LOCATION:Independence Hall Activity Room
CATEGORIES:Clubs & Groups
ORGANIZER;CN="Joy Berberek":MAILTO:joyberberek@gmail.com
END:VEVENT
BEGIN:VEVENT
DTSTART;TZID=America/Chicago:20260528T183000
DTEND;TZID=America/Chicago:20260528T203000
DTSTAMP:20260420T184711
CREATED:20250507T153651Z
LAST-MODIFIED:20250507T153651Z
UID:10059017-1779993000-1780000200@www.kissingtreeresidents.org
SUMMARY:Pickleball Open Play
DESCRIPTION:
URL:https://www.kissingtreeresidents.org/event/mens-pickleball-2-2/2026-05-28/
LOCATION:Pickleball Courts
CATEGORIES:Clubs & Groups,Sports Courts
END:VEVENT
BEGIN:VEVENT
DTSTART;TZID=America/Chicago:20260529T100000
DTEND;TZID=America/Chicago:20260529T130000
DTSTAMP:20260420T184711
CREATED:20251203T150129Z
LAST-MODIFIED:20251203T150305Z
UID:10078761-1780048800-1780059600@www.kissingtreeresidents.org
SUMMARY:Creative Jam Art Class
DESCRIPTION:Be sure to check on the KT Studio Buzz Facebook page for more information and/or updates. https://www.facebook.com/share/g/hca8izuKqpNZufZx/
URL:https://www.kissingtreeresidents.org/event/creative-jam-art-class/2026-05-29/
LOCATION:Art Studio @ Grand Central
CATEGORIES:Clubs & Groups,Grand Central
ORGANIZER;CN="Sharon Meaden":MAILTO:revivedglory@yahoo.com
END:VEVENT
BEGIN:VEVENT
DTSTART;TZID=America/Chicago:20260529T113000
DTEND;TZID=America/Chicago:20260529T130000
DTSTAMP:20260420T184711
CREATED:20251203T145734Z
LAST-MODIFIED:20251203T145734Z
UID:10075596-1780054200-1780059600@www.kissingtreeresidents.org
SUMMARY:Men's Fellowship
DESCRIPTION:Men’s Fellowship is a Christian faith-based group of men committed to learning to practice finishing strong in our lives to the benefit of our families\, community and beyond\, as well as encouraging other men to do the same. Through scripture\, prayer\, and sharing our faith journeys\, we look towards focusing on our legacies. All men are welcome and there is no cost to join. Contact resident Marko Buckingham for more information.
URL:https://www.kissingtreeresidents.org/event/mens-fellowship-2-2/2026-05-29/
LOCATION:Independence Hall Activity Room
CATEGORIES:Clubs & Groups
ORGANIZER;CN="Marko Buckingham":MAILTO:markmelody1978@yahoo.com
END:VEVENT
BEGIN:VEVENT
DTSTART;TZID=America/Chicago:20260529T130000
DTEND;TZID=America/Chicago:20260529T150000
DTSTAMP:20260420T184711
CREATED:20251203T150711Z
LAST-MODIFIED:20251203T150711Z
UID:10078812-1780059600-1780066800@www.kissingtreeresidents.org
SUMMARY:Ping Pong Open Play
DESCRIPTION:Tables are located in The Depot at Grand Central. Please close tables and store along wall when finished playing. Contact Community Engagement Director Kevin Wilson for more information.
URL:https://www.kissingtreeresidents.org/event/ping-pong-open-play/2026-05-29/
LOCATION:The Depot @ Grand Central
CATEGORIES:Clubs & Groups,Grand Central
ORGANIZER;CN="Kevin Wilson":MAILTO:kwilson@coherelife.com
END:VEVENT
BEGIN:VEVENT
DTSTART;TZID=America/Chicago:20260529T133000
DTEND;TZID=America/Chicago:20260529T140000
DTSTAMP:20260420T184711
CREATED:20260128T145104Z
LAST-MODIFIED:20260128T150018Z
UID:10082009-1780061400-1780063200@www.kissingtreeresidents.org
SUMMARY:NEW Absolute Beginner Line Dance Class
DESCRIPTION:Wanna learn how to Line Dance? Well\, put your dancin’ boots on!!! \nCome learn absolute beginner line dancing steps from Kelly & Montina every Friday from 1:30 to 2:00. (Activity Room at Independence Hall) You’ll learn the basic line dance steps & terminology for absolute beginner line dances. Then stay and join the 2:00 beginner class for more dancing fun! \nEveryone is welcome and no experience is needed! \nIt’s a great way to get moving\, meet new people\, and have some boot scootin’ fun!!!! \n 
URL:https://www.kissingtreeresidents.org/event/absolute-beginner-line-dance-class/2026-05-29/
LOCATION:Independence Hall Activity Room
CATEGORIES:Clubs & Groups
ORGANIZER;CN="Kelly Dickson":MAILTO:kdickson512@twc.com
END:VEVENT
BEGIN:VEVENT
DTSTART;TZID=America/Chicago:20260529T140000
DTEND;TZID=America/Chicago:20260529T150000
DTSTAMP:20260420T184711
CREATED:20251203T151056Z
LAST-MODIFIED:20251203T151056Z
UID:10078862-1780063200-1780066800@www.kissingtreeresidents.org
SUMMARY:Beginners Line Dancing 
DESCRIPTION:The Beginners Line Dancing class is a fun and engaging way to learn new steps while reviewing their favorite moves. KT residents meet regularly to explore a variety of line dance routines\, building confidence and rhythm in a supportive environment. Whether you’re just starting or looking to refine your skills\, this class is perfect for all beginners. Stay updated on all events and activities by visiting their Facebook page for the latest announcements  https://www.facebook.com/share/g/1AQvuWyL5bSfbNQ4/ \nFor more information contact Kelly Dickson at  kdickson512@twc.com
URL:https://www.kissingtreeresidents.org/event/beginners-line-dancing/2026-05-29/
LOCATION:Independence Hall Activity Room
CATEGORIES:Clubs & Groups
ORGANIZER;CN="Kelly Dickson":MAILTO:kdickson512@twc.com
END:VEVENT
BEGIN:VEVENT
DTSTART;TZID=America/Chicago:20260529T150000
DTEND;TZID=America/Chicago:20260529T160000
DTSTAMP:20260420T184711
CREATED:20251203T151432Z
LAST-MODIFIED:20251203T214534Z
UID:10081018-1780066800-1780070400@www.kissingtreeresidents.org
SUMMARY:Improver Line Dancing
DESCRIPTION:The Improver Line Dancing class is designed for more experienced dancers who want to expand their skills by learning new steps while also reviewing and refining their favorite ones. It provides an opportunity to enhance technique\, try more complex patterns\, and enjoy dancing in a fun and supportive environment. \nFor updates on all events and activities\, be sure to follow their Facebook page  https://www.facebook.com/share/g/1AQvuWyL5bSfbNQ4/ \n\n\n\n\n\n\nFor more information\, contact Kelly Dickson at  kdickson512@twc.com
URL:https://www.kissingtreeresidents.org/event/improver-line-dancing/2026-05-29/
LOCATION:Independence Hall Activity Room
CATEGORIES:Clubs & Groups
ORGANIZER;CN="Kelly Dickson":MAILTO:kdickson512@twc.com
END:VEVENT
BEGIN:VEVENT
DTSTART;TZID=America/Chicago:20260529T170000
DTEND;TZID=America/Chicago:20260529T203000
DTSTAMP:20260420T184711
CREATED:20260417T134325Z
LAST-MODIFIED:20260417T134325Z
UID:10083924-1780074000-1780086600@www.kissingtreeresidents.org
SUMMARY:May I? Card Game
DESCRIPTION:
URL:https://www.kissingtreeresidents.org/event/may-i-card-game/2026-05-29/
LOCATION:Independence Hall Activity Room
CATEGORIES:Clubs & Groups
ORGANIZER;CN="Linda Hightower":MAILTO:lindahi5@att.net
END:VEVENT
BEGIN:VEVENT
DTSTART;TZID=America/Chicago:20260530T080000
DTEND;TZID=America/Chicago:20260530T100000
DTSTAMP:20260420T184711
CREATED:20251203T194125Z
LAST-MODIFIED:20251203T194125Z
UID:10080301-1780128000-1780135200@www.kissingtreeresidents.org
SUMMARY:Pickleball Open Play
DESCRIPTION:Courts 1-8 \nTo participate in open play\, you don’t need to bring a partner but you’ll need to have your own paddle.
URL:https://www.kissingtreeresidents.org/event/pickleball-open-play-3/2026-05-30/
LOCATION:Pickleball Courts
CATEGORIES:Clubs & Groups,Sports Courts
END:VEVENT
BEGIN:VEVENT
DTSTART;TZID=America/Chicago:20260530T080000
DTEND;TZID=America/Chicago:20260530T130000
DTSTAMP:20260420T184711
CREATED:20260403T134723Z
LAST-MODIFIED:20260407T191136Z
UID:10083739-1780128000-1780146000@www.kissingtreeresidents.org
SUMMARY:Community Garage Sale
DESCRIPTION:Residents who would like to participate must register on the KT Pioneer Facebook page in order to be included on the official neighborhood map of participating homes. The map will help shoppers easily find all homes taking part in the sale. \nBe sure to sign up before May 1st so your address can be added! \nStart gathering your items and get ready for a fun day of community shopping and visiting with neighbors!
URL:https://www.kissingtreeresidents.org/event/community-garage-sale/
LOCATION:Resident’s Homes
CATEGORIES:Clubs & Groups,Events
ORGANIZER;CN="Ken London":MAILTO:klondon174@gmail.com
END:VEVENT
BEGIN:VEVENT
DTSTART;TZID=America/Chicago:20260530T081500
DTEND;TZID=America/Chicago:20260530T093000
DTSTAMP:20260420T184711
CREATED:20260309T150432Z
LAST-MODIFIED:20260309T150432Z
UID:10083060-1780128900-1780133400@www.kissingtreeresidents.org
SUMMARY:Hill Huggers
DESCRIPTION:The Hill Huggers group meet on Wednesday and Saturday mornings and are designed for residents of all fitness levels who enjoy walking\, running\, hiking and exploring the trails around the Kissing Tree community. Participants can expect a welcoming\, social atmosphere where they’ll get to enjoy the beauty of nature while engaging in light to moderate physical activity. Whether you’re looking for a relaxing walk or a more energetic run\, the groups offer a variety of routes and paces to accommodate different preferences. It’s a great way to meet fellow residents\, get outdoors\, and stay active!
URL:https://www.kissingtreeresidents.org/event/hill-huggers-3-2-2-2/2026-05-30/
LOCATION:Biergarten
CATEGORIES:Clubs & Groups
ORGANIZER;CN="Sue Walker":MAILTO:nyazcax61@gmail.com
END:VEVENT
BEGIN:VEVENT
DTSTART;TZID=America/Chicago:20260531T113000
DTEND;TZID=America/Chicago:20260531T140000
DTSTAMP:20260420T184711
CREATED:20251203T194315Z
LAST-MODIFIED:20251203T194704Z
UID:10080353-1780227000-1780236000@www.kissingtreeresidents.org
SUMMARY:Darts Open Play
DESCRIPTION:You’re Invited to Darts Open Play! \nJoin us for an exciting and fun-filled norming of darts! Whether you’re a seasoned player or a beginner\, come enjoy the friendly competition and good company. Don’t miss out on this chance to play\, socialize\, and have fun. We look forward to seeing you there!
URL:https://www.kissingtreeresidents.org/event/lady-darters-2-2/2026-05-31/
LOCATION:The Depot @ Grand Central
CATEGORIES:Clubs & Groups,Grand Central,Sports Courts
END:VEVENT
BEGIN:VEVENT
DTSTART;TZID=America/Chicago:20260531T133000
DTEND;TZID=America/Chicago:20260531T163000
DTSTAMP:20260420T184711
CREATED:20260113T200844Z
LAST-MODIFIED:20260113T204010Z
UID:10081431-1780234200-1780245000@www.kissingtreeresidents.org
SUMMARY:Scrabble Board Game Group
DESCRIPTION:The Scrabble group meets on Sunday afternoons for friendly games and casual play. This is the group meeting time for those who enjoy the board game with friends.
URL:https://www.kissingtreeresidents.org/event/scrabble-board-game-group/2026-05-31/
LOCATION:The Stump @ Grand Central
CATEGORIES:Clubs & Groups,Grand Central
ORGANIZER;CN="Patrick Johnson":MAILTO:dorlanj@icloud.com
END:VEVENT
BEGIN:VEVENT
DTSTART;TZID=America/Chicago:20260531T150000
DTEND;TZID=America/Chicago:20260531T170000
DTSTAMP:20260420T184711
CREATED:20260309T213034Z
LAST-MODIFIED:20260309T213034Z
UID:10083102-1780239600-1780246800@www.kissingtreeresidents.org
SUMMARY:Mahjong
DESCRIPTION:
URL:https://www.kissingtreeresidents.org/event/mahjong/2026-05-31/
LOCATION:Independence Hall Activity Room
CATEGORIES:Clubs & Groups
ORGANIZER;CN="Barbara Taylor":MAILTO:barbarat57@outlook.com
END:VEVENT
BEGIN:VEVENT
DTSTART;TZID=America/Chicago:20260601T080000
DTEND;TZID=America/Chicago:20260601T170000
DTSTAMP:20260420T184711
CREATED:20251203T151741Z
LAST-MODIFIED:20251203T151741Z
UID:10078914-1780300800-1780333200@www.kissingtreeresidents.org
SUMMARY:Pickleball Open Play
DESCRIPTION:Courts 1-8 are reserved for open play.
URL:https://www.kissingtreeresidents.org/event/pickleball-open-play/2026-06-01/
LOCATION:Pickleball Courts
CATEGORIES:Clubs & Groups,Sports Courts
END:VEVENT
BEGIN:VEVENT
DTSTART;TZID=America/Chicago:20260601T090000
DTEND;TZID=America/Chicago:20260601T100000
DTSTAMP:20260420T184711
CREATED:20251203T151940Z
LAST-MODIFIED:20260317T172717Z
UID:10083406-1780304400-1780308000@www.kissingtreeresidents.org
SUMMARY:Laura’s Choice
DESCRIPTION:Please use your Mind/Body app to register for this class.  \nIn Laura’s Choice\, each class spotlights a different area of the body or fitness theme designed to enhance your strength\, flexibility\, and mobility from head to toe. Whether targeting knees\, shoulders\, core\, or hips\, Laura’s expertise ensures you get a well-rounded workout tailored to keep you moving comfortably and confidently in your daily life. Using controlled movements and a variety of equipment\, each session emphasizes mindful exercises that promote functional strength\, support injury prevention\, and adapt to all fitness levels. Join us and discover the benefits of focusing on a different area each week—your body will thank you!
URL:https://www.kissingtreeresidents.org/event/lauras-choice-2/2026-06-01/
LOCATION:Independence Hall Activity Room
CATEGORIES:Clubs & Groups
ORGANIZER;CN="Kissing Tree Community Life":MAILTO:ktmc@coherelife.com
END:VEVENT
BEGIN:VEVENT
DTSTART;TZID=America/Chicago:20260601T090000
DTEND;TZID=America/Chicago:20260601T103000
DTSTAMP:20260420T184711
CREATED:20251203T152251Z
LAST-MODIFIED:20260317T173054Z
UID:10083453-1780304400-1780309800@www.kissingtreeresidents.org
SUMMARY:Men’s Coffee Group
DESCRIPTION:The Men’s Coffee Group provides an opportunity to engage in casual conversation\, share experiences\, and enjoy each other’s company over a cup of coffee.
URL:https://www.kissingtreeresidents.org/event/mens-coffee-group/2026-06-01/
CATEGORIES:Clubs & Groups
ORGANIZER;CN="Harry Heinsohn":MAILTO:hdlr1234@yahoo.com
END:VEVENT
END:VCALENDAR