BEGIN:VCALENDAR
VERSION:2.0
PRODID:-//Kissing Tree Resident Website - ECPv6.15.18//NONSGML v1.0//EN
CALSCALE:GREGORIAN
METHOD:PUBLISH
X-ORIGINAL-URL:https://www.kissingtreeresidents.org
X-WR-CALDESC:Events for Kissing Tree Resident Website
REFRESH-INTERVAL;VALUE=DURATION:PT1H
X-Robots-Tag:noindex
X-PUBLISHED-TTL:PT1H
BEGIN:VTIMEZONE
TZID:America/Chicago
BEGIN:DAYLIGHT
TZOFFSETFROM:-0600
TZOFFSETTO:-0500
TZNAME:CDT
DTSTART:20250309T080000
END:DAYLIGHT
BEGIN:STANDARD
TZOFFSETFROM:-0500
TZOFFSETTO:-0600
TZNAME:CST
DTSTART:20251102T070000
END:STANDARD
BEGIN:DAYLIGHT
TZOFFSETFROM:-0600
TZOFFSETTO:-0500
TZNAME:CDT
DTSTART:20260308T080000
END:DAYLIGHT
BEGIN:STANDARD
TZOFFSETFROM:-0500
TZOFFSETTO:-0600
TZNAME:CST
DTSTART:20261101T070000
END:STANDARD
BEGIN:DAYLIGHT
TZOFFSETFROM:-0600
TZOFFSETTO:-0500
TZNAME:CDT
DTSTART:20270314T080000
END:DAYLIGHT
BEGIN:STANDARD
TZOFFSETFROM:-0500
TZOFFSETTO:-0600
TZNAME:CST
DTSTART:20271107T070000
END:STANDARD
END:VTIMEZONE
BEGIN:VEVENT
DTSTART;TZID=America/Chicago:20260519T183000
DTEND;TZID=America/Chicago:20260519T203000
DTSTAMP:20260420T181203
CREATED:20250507T152825Z
LAST-MODIFIED:20251203T163516Z
UID:10058237-1779215400-1779222600@www.kissingtreeresidents.org
SUMMARY:Pickleball Open Play
DESCRIPTION:Courts 1-8 \nTo participate in open play\, you don’t need to bring a partner\, but you’ll need to have your own paddle.
URL:https://www.kissingtreeresidents.org/event/pickleball-pickle-chicks-open-play-2-2/2026-05-19/
LOCATION:Pickleball Courts
CATEGORIES:Clubs & Groups,Sports Courts
END:VEVENT
BEGIN:VEVENT
DTSTART;TZID=America/Chicago:20260520T080000
DTEND;TZID=America/Chicago:20260520T100000
DTSTAMP:20260420T181203
CREATED:20250507T153032Z
LAST-MODIFIED:20251203T172133Z
UID:10058497-1779264000-1779271200@www.kissingtreeresidents.org
SUMMARY:Pickleball Open Play
DESCRIPTION:Pickleball is the fastest-growing sport in the country and the same is true at Kissing Tree. Whether socializing with your doubles partner\, your opponents\, or those playing on other courts\, pickleball is downright fun and laughter is bound to ensue. After just one game you will be addicted. \nThis all genders open play includes 8 courts and currently lists the summer pickleball hours which trend toward morning and evenings to accommodate for the heat. Open play includes all players\, of any skill level. Paddle system is used to assign players to courts. One game is played and then the next four players move to open court. Window may change to fall hours sometime in October.
URL:https://www.kissingtreeresidents.org/event/pickleball-open-play-12-2/2026-05-20/
LOCATION:Pickleball Courts
CATEGORIES:Clubs & Groups,Sports Courts
END:VEVENT
BEGIN:VEVENT
DTSTART;TZID=America/Chicago:20260520T082000
DTEND;TZID=America/Chicago:20260520T093000
DTSTAMP:20260420T181203
CREATED:20250910T203322Z
LAST-MODIFIED:20251203T171215Z
UID:10075282-1779265200-1779269400@www.kissingtreeresidents.org
SUMMARY:Hill Hugger Midweek Movers
DESCRIPTION:The Hill Huggers group meet on Wednesday and Saturday mornings and are designed for residents of all fitness levels who enjoy walking\, running\, hiking and exploring the trails around the Kissing Tree community. Participants can expect a welcoming\, social atmosphere where they’ll get to enjoy the beauty of nature while engaging in light to moderate physical activity. Whether you’re looking for a relaxing walk or a more energetic run\, the groups offer a variety of routes and paces to accommodate different preferences. It’s a great way to meet fellow residents\, get outdoors\, and stay active!
URL:https://www.kissingtreeresidents.org/event/hill-hugger-midweek-movers-2-2/2026-05-20/
LOCATION:Biergarten
CATEGORIES:Clubs & Groups
END:VEVENT
BEGIN:VEVENT
DTSTART;TZID=America/Chicago:20260520T090000
DTEND;TZID=America/Chicago:20260520T103000
DTSTAMP:20260420T181203
CREATED:20251203T204426Z
LAST-MODIFIED:20251203T204505Z
UID:10080628-1779267600-1779273000@www.kissingtreeresidents.org
SUMMARY:Coin Coffee
DESCRIPTION:We gather each month to talk and share coins.  Many of us are collectors\, but from filling penny books to speculating on investment through rare coins or precious metals\, we discuss it with a cup of coffee.  We also like to look at coins\, whether from our own collections or help someone trying to understand what their uncle left them.  Please join us!
URL:https://www.kissingtreeresidents.org/event/coin-coffee-2/2026-05-20/
LOCATION:Independence Hall
CATEGORIES:Clubs & Groups
ORGANIZER;CN="Gary Frischen":MAILTO:gfrischen@hotmail.com
END:VEVENT
BEGIN:VEVENT
DTSTART;TZID=America/Chicago:20260520T093000
DTEND;TZID=America/Chicago:20260520T103000
DTSTAMP:20260420T181203
CREATED:20250611T212602Z
LAST-MODIFIED:20251203T172516Z
UID:10079944-1779269400-1779273000@www.kissingtreeresidents.org
SUMMARY:Beginner Mahjong
DESCRIPTION:Come join fellow KT residents and learn how to play Mahjong! \nEnjoy step-by-step guidance from experienced player Phyllis Porter at the library tables in The Mix.
URL:https://www.kissingtreeresidents.org/event/beginner-mahjong/2026-05-20/
LOCATION:Resident Library at the Mix
CATEGORIES:Clubs & Groups
ORGANIZER;CN="Phillis Porter":MAILTO:prsp101@hotmail.com
END:VEVENT
BEGIN:VEVENT
DTSTART;TZID=America/Chicago:20260520T093000
DTEND;TZID=America/Chicago:20260520T113000
DTSTAMP:20260420T181203
CREATED:20251022T160423Z
LAST-MODIFIED:20251203T172214Z
UID:10078292-1779269400-1779276600@www.kissingtreeresidents.org
SUMMARY:Mahjong @ the Mix
DESCRIPTION:This group brings together Mahjong enthusiasts to share the love of the game\, learn from each other\, and enjoy friendly competition. The group embraces players of all skill levels\, offering opportunities for all level of players to participate in regular games and discussions. We invite KT residents!
URL:https://www.kissingtreeresidents.org/event/mahjong-the-mix/2026-05-20/
LOCATION:Independence Hall Activity Room
CATEGORIES:Clubs & Groups
ORGANIZER;CN="Phillis Porter":MAILTO:prsp101@hotmail.com
END:VEVENT
BEGIN:VEVENT
DTSTART;TZID=America/Chicago:20260520T100000
DTEND;TZID=America/Chicago:20260520T113000
DTSTAMP:20260420T181203
CREATED:20251107T182945Z
LAST-MODIFIED:20251203T203650Z
UID:10078402-1779271200-1779276600@www.kissingtreeresidents.org
SUMMARY:Advanced Abstract Painting
DESCRIPTION:This class is designed for experienced artists seeking to refine their abstract painting skills\, expand their techniques\, and explore more complex conceptual themes. \nAdvanced level\, designed for KT residents with a strong foundation in painting\, who are familiar with color\, composition\, and basic techniques. \nBe sure to check on the KT Studio Buzz Facebook page for more information and/or updates. https://www.facebook.com/share/g/hca8izuKqpNZufZx/
URL:https://www.kissingtreeresidents.org/event/advanced-abstract-painting-5-2/2026-05-20/
LOCATION:Art Studio @ Grand Central
CATEGORIES:Clubs & Groups,Grand Central
ORGANIZER;CN="Susan Bond":MAILTO:susantadlock@hotmail.com
END:VEVENT
BEGIN:VEVENT
DTSTART;TZID=America/Chicago:20260520T120000
DTEND;TZID=America/Chicago:20260520T130000
DTSTAMP:20260420T181203
CREATED:20251203T202921Z
LAST-MODIFIED:20251203T202921Z
UID:10080567-1779278400-1779282000@www.kissingtreeresidents.org
SUMMARY:KT Recovery Community
DESCRIPTION:The meetings are geared towards anyone in recovery and those with the desire to stop drinking or using drugs. The focus of our KT meetings will be allowing members to share fellowship & the reassurance they are not alone in their struggles. The meetings also provide the opportunity to learn new coping skills and to learn from others what works for them. The meetings are held at 328 Hopping Peach St. \nContact Bonita Cox at bocox55@gmail.com for more information.
URL:https://www.kissingtreeresidents.org/event/kt-recovery-community-2/2026-05-20/
CATEGORIES:Clubs & Groups
END:VEVENT
BEGIN:VEVENT
DTSTART;TZID=America/Chicago:20260520T140000
DTEND;TZID=America/Chicago:20260520T150000
DTSTAMP:20260420T181203
CREATED:20251203T212129Z
LAST-MODIFIED:20251203T212129Z
UID:10080789-1779285600-1779289200@www.kissingtreeresidents.org
SUMMARY:Beginner Line Dance Class
DESCRIPTION:
URL:https://www.kissingtreeresidents.org/event/beginner-line-dance-class/2026-05-20/
LOCATION:Independence Hall Activity Room
CATEGORIES:Clubs & Groups
ORGANIZER;CN="Kelly Dickson":MAILTO:kdickson512@twc.com
END:VEVENT
BEGIN:VEVENT
DTSTART;TZID=America/Chicago:20260520T150000
DTEND;TZID=America/Chicago:20260520T160000
DTSTAMP:20260420T181203
CREATED:20251203T212313Z
LAST-MODIFIED:20251203T212313Z
UID:10080843-1779289200-1779292800@www.kissingtreeresidents.org
SUMMARY:Improver Line Dance Class
DESCRIPTION:This class is for the more experienced line dancers.
URL:https://www.kissingtreeresidents.org/event/improver-line-dance-class/2026-05-20/
LOCATION:Independence Hall Activity Room
CATEGORIES:Clubs & Groups
ORGANIZER;CN="Kelly Dickson":MAILTO:kdickson512@twc.com
END:VEVENT
BEGIN:VEVENT
DTSTART;TZID=America/Chicago:20260520T150000
DTEND;TZID=America/Chicago:20260520T180000
DTSTAMP:20260420T181203
CREATED:20241219T223558Z
LAST-MODIFIED:20251203T172048Z
UID:10055366-1779289200-1779300000@www.kissingtreeresidents.org
SUMMARY:Mahjong Fairways
DESCRIPTION:The Mahjong Fairway Group is a community of Mahjong players of all skill levels. They share their passion for the game\, and enjoy friendly competition. Whether you are a beginner or an experienced player\, the group fosters an inclusive and supportive environment where everyone can improve their skills and have fun. \nWe invite KT residents to join the Mahjong Fairway Group! Whether you’re looking to learn the game\, meet new people\, or simply enjoy the game. Come and be a part of the fun!
URL:https://www.kissingtreeresidents.org/event/mahjong-fairways-3/2026-05-20/
LOCATION:The Stump @ Grand Central
CATEGORIES:Clubs & Groups,Grand Central
END:VEVENT
BEGIN:VEVENT
DTSTART;TZID=America/Chicago:20260520T163000
DTEND;TZID=America/Chicago:20260520T203000
DTSTAMP:20260420T181203
CREATED:20251114T155702Z
LAST-MODIFIED:20260317T173329Z
UID:10083499-1779294600-1779309000@www.kissingtreeresidents.org
SUMMARY:Texas Hold'em Poker
DESCRIPTION:
URL:https://www.kissingtreeresidents.org/event/texas-holdem-poker/2026-05-20/
LOCATION:Independence Hall Activity Room
CATEGORIES:Clubs & Groups
ORGANIZER;CN="Rusty Johnson":MAILTO:rusj63@gmail.com
END:VEVENT
BEGIN:VEVENT
DTSTART;TZID=America/Chicago:20260520T170000
DTEND;TZID=America/Chicago:20260520T200000
DTSTAMP:20260420T181203
CREATED:20260316T164813Z
LAST-MODIFIED:20260316T164813Z
UID:10083382-1779296400-1779307200@www.kissingtreeresidents.org
SUMMARY:KTPA Ladder League
DESCRIPTION:Courts 1-16 are reserved for the KTPA.
URL:https://www.kissingtreeresidents.org/event/ktpa-ladder-league/2026-05-20/
LOCATION:Pickleball Courts
CATEGORIES:Clubs & Groups,Sports Courts
END:VEVENT
BEGIN:VEVENT
DTSTART;TZID=America/Chicago:20260520T170000
DTEND;TZID=America/Chicago:20260520T200000
DTSTAMP:20260420T181203
CREATED:20260416T211447Z
LAST-MODIFIED:20260416T211457Z
UID:10083856-1779296400-1779307200@www.kissingtreeresidents.org
SUMMARY:KTPA Ladder League
DESCRIPTION:Courts 1-16 are reserved for the KTPA
URL:https://www.kissingtreeresidents.org/event/ktpa-ladder-league-3/2026-05-20/
LOCATION:Pickleball Courts
CATEGORIES:Clubs & Groups,Sports Courts
END:VEVENT
BEGIN:VEVENT
DTSTART;TZID=America/Chicago:20260520T183000
DTEND;TZID=America/Chicago:20260520T200000
DTSTAMP:20260420T181203
CREATED:20251203T210116Z
LAST-MODIFIED:20251203T210116Z
UID:10080663-1779301800-1779307200@www.kissingtreeresidents.org
SUMMARY:KT RV Group
DESCRIPTION:We invite you to join our KT RV Group meeting! \nWhether you’re an experienced RV traveler or just starting your journey\, this is the perfect opportunity to connect with fellow residents\, share stories\, exchange tips\, and discuss all things related to RV ownership and travel. The meetings are held once a month and we’ll cover topics such as\, RV maintenance and repairs\, tips for first-time RV travelers\, favorite travel destinations and routes\, and advice on safe RV life and ownership \nCome with your stories\, questions\, and experiences\, and be ready to enjoy an engaging and informative discussion with other KT residents who share your passion for RVing!
URL:https://www.kissingtreeresidents.org/event/kt-rv-group/2026-05-20/
LOCATION:The Stump @ Grand Central
CATEGORIES:Clubs & Groups
ORGANIZER;CN="Beverly Pritchett":MAILTO:1985beverly@gmail.com
END:VEVENT
BEGIN:VEVENT
DTSTART;TZID=America/Chicago:20260521T080000
DTEND;TZID=America/Chicago:20260521T093000
DTSTAMP:20260420T181203
CREATED:20260218T194703Z
LAST-MODIFIED:20260218T194703Z
UID:10082373-1779350400-1779355800@www.kissingtreeresidents.org
SUMMARY:MANUP Men’s Group
DESCRIPTION:MANUP is a non-denominational\, Jesus-centered ministry founded in Austin\, Texas. For over a decade\, we’ve been connecting men with God and other men through weekly Bible study groups\, community events\, weekend retreats\, free online content\, and pastoral care. What does it really mean to MANUP? More than a set of rules or guidelines\, it’s a lifestyle. A code of core principles that shapes your everyday life. Our community is designed to support every man on his journey as a husband\, father\, and leader. Contact Rick or click on manup.org to learn more. \n 
URL:https://www.kissingtreeresidents.org/event/manup-mens-group/2026-05-21/
LOCATION:The Depot at Grand Central
CATEGORIES:Clubs & Groups,Grand Central
ORGANIZER;CN="Rick Davis":MAILTO:rickdavis1016@gmail.com
END:VEVENT
BEGIN:VEVENT
DTSTART;TZID=America/Chicago:20260521T080000
DTEND;TZID=America/Chicago:20260521T220000
DTSTAMP:20260420T181203
CREATED:20250507T153252Z
LAST-MODIFIED:20250507T153347Z
UID:10058757-1779350400-1779400800@www.kissingtreeresidents.org
SUMMARY:Pickleball Gents Open Play
DESCRIPTION:Courts 1-8
URL:https://www.kissingtreeresidents.org/event/pickleball-gents-open-play-4/2026-05-21/
LOCATION:Pickleball Courts
CATEGORIES:Clubs & Groups,Sports Courts
END:VEVENT
BEGIN:VEVENT
DTSTART;TZID=America/Chicago:20260521T130000
DTEND;TZID=America/Chicago:20260521T150000
DTSTAMP:20260420T181203
CREATED:20251203T204957Z
LAST-MODIFIED:20251203T215842Z
UID:10081079-1779368400-1779375600@www.kissingtreeresidents.org
SUMMARY:Soul Sisters
DESCRIPTION:The Soul Sisters are a faith-based group of KT women from our community who meet twice a month for social activities\, outings\, and fellowship. \nSoul Sisters was created as a place to build friendships and community among like-minded Christian women.  A place where we can break bread together and have a drink\, where we can laugh and cry\, where we can rejoice and grieve\, above all where we can find love and respect.  A safe place where women can feel welcome no matter where their journey finds them.   A safe haven for those not fully understanding this whole Christian thing. A place to relax. To truly enjoy others is to let go and embrace them.  No judging.  No overanalyzing.  Just enjoy. \nIf you’re interested or have any questions\, feel free to reach out to Kelly Hawley at kellyhawley77@gmail.com \n 
URL:https://www.kissingtreeresidents.org/event/soul-sisters-2-2/2026-05-21/
LOCATION:Independence Hall Activity Room
CATEGORIES:Clubs & Groups
ORGANIZER;CN="Kelly Hawley":MAILTO:doodletop@aol.com
END:VEVENT
BEGIN:VEVENT
DTSTART;TZID=America/Chicago:20260521T130000
DTEND;TZID=America/Chicago:20260521T153000
DTSTAMP:20260420T181203
CREATED:20241218T204435Z
LAST-MODIFIED:20251203T173233Z
UID:10080056-1779368400-1779377400@www.kissingtreeresidents.org
SUMMARY:Mahjong Mavens
DESCRIPTION:Whether you’re a seasoned player or someone who has never picked up a tile\, we welcome players of all skill levels. Our group is all about enjoying the game together in a relaxed and supportive atmosphere. Meet fellow KT residents\, make new friends\, and enjoy good company while playing Mahjong. \nJust bring yourself and an eagerness to play. We’ll guide you through the rules if you’re new!
URL:https://www.kissingtreeresidents.org/event/mahjong-mavens/2026-05-21/
LOCATION:The Stump @ Grand Central
CATEGORIES:Clubs & Groups,Grand Central
END:VEVENT
BEGIN:VEVENT
DTSTART;TZID=America/Chicago:20260521T130000
DTEND;TZID=America/Chicago:20260521T153000
DTSTAMP:20260420T181203
CREATED:20260226T193433Z
LAST-MODIFIED:20260226T193526Z
UID:10082728-1779368400-1779377400@www.kissingtreeresidents.org
SUMMARY:Rummikub
DESCRIPTION:Love a little friendly competition? Enjoy games and good company?Come join your neighbors for a fun game of Rummikub! \nWhether you’re a seasoned player or brand new to the game\, all are welcome. \nWe look forward to seeing you there!
URL:https://www.kissingtreeresidents.org/event/rummikub/2026-05-21/
LOCATION:Resident Library
CATEGORIES:Clubs & Groups
ORGANIZER;CN="Alice Spinnato":MAILTO:alicespinnato2018@gmail.com
END:VEVENT
BEGIN:VEVENT
DTSTART;TZID=America/Chicago:20260521T130000
DTEND;TZID=America/Chicago:20260521T160000
DTSTAMP:20260420T181203
CREATED:20241218T204046Z
LAST-MODIFIED:20251203T173435Z
UID:10080120-1779368400-1779379200@www.kissingtreeresidents.org
SUMMARY:Fun Bridge
DESCRIPTION:The Fun Bridge Group is a friendly\, casual gathering of players who enjoy the classic card game of bridge. Whether you’re a seasoned pro or new to the game\, you’ll have a great time connecting with neighbors and making new friends. We welcome all skill levels\, so come join us for a fun\, relaxed atmosphere and see why bridge is the perfect game for everyone! Come to the Depot and bring your enthusiasm—no experience necessary. See you there!
URL:https://www.kissingtreeresidents.org/event/fun-bridge/2026-05-21/
LOCATION:The Depot @ Grand Central
CATEGORIES:Clubs & Groups
END:VEVENT
BEGIN:VEVENT
DTSTART;TZID=America/Chicago:20260521T163000
DTEND;TZID=America/Chicago:20260521T200000
DTSTAMP:20260420T181203
CREATED:20241210T224547Z
LAST-MODIFIED:20251203T172846Z
UID:10080004-1779381000-1779393600@www.kissingtreeresidents.org
SUMMARY:Lady Darters
DESCRIPTION:
URL:https://www.kissingtreeresidents.org/event/lady-darters/2026-05-21/
LOCATION:The Depot @ Grand Central
CATEGORIES:Clubs & Groups,Grand Central
END:VEVENT
BEGIN:VEVENT
DTSTART;TZID=America/Chicago:20260521T163000
DTEND;TZID=America/Chicago:20260521T200000
DTSTAMP:20260420T181203
CREATED:20251203T202205Z
LAST-MODIFIED:20251203T214311Z
UID:10080991-1779381000-1779393600@www.kissingtreeresidents.org
SUMMARY:Poker- Brennan Group
DESCRIPTION:No Limit Hold ’em monthly Tournament 3rd Thursday. $20 buy in with one $20 rebuy allowed. $20\,000 starting chip stack with blinds starting at $100 / $200 that are increased every 15 minutes. Max is 24 players with 3 tables.
URL:https://www.kissingtreeresidents.org/event/poker-brennan-group-2-2/2026-05-21/
LOCATION:Independence Hall Activity Room
CATEGORIES:Clubs & Groups
ORGANIZER;CN="Martin Brennan":MAILTO:martinbrennan111@gmail.com
END:VEVENT
BEGIN:VEVENT
DTSTART;TZID=America/Chicago:20260521T183000
DTEND;TZID=America/Chicago:20260521T203000
DTSTAMP:20260420T181203
CREATED:20250507T153651Z
LAST-MODIFIED:20250507T153651Z
UID:10059016-1779388200-1779395400@www.kissingtreeresidents.org
SUMMARY:Pickleball Open Play
DESCRIPTION:
URL:https://www.kissingtreeresidents.org/event/mens-pickleball-2-2/2026-05-21/
LOCATION:Pickleball Courts
CATEGORIES:Clubs & Groups,Sports Courts
END:VEVENT
BEGIN:VEVENT
DTSTART;TZID=America/Chicago:20260522T100000
DTEND;TZID=America/Chicago:20260522T130000
DTSTAMP:20260420T181204
CREATED:20251203T150129Z
LAST-MODIFIED:20251203T150305Z
UID:10078760-1779444000-1779454800@www.kissingtreeresidents.org
SUMMARY:Creative Jam Art Class
DESCRIPTION:Be sure to check on the KT Studio Buzz Facebook page for more information and/or updates. https://www.facebook.com/share/g/hca8izuKqpNZufZx/
URL:https://www.kissingtreeresidents.org/event/creative-jam-art-class/2026-05-22/
LOCATION:Art Studio @ Grand Central
CATEGORIES:Clubs & Groups,Grand Central
ORGANIZER;CN="Sharon Meaden":MAILTO:revivedglory@yahoo.com
END:VEVENT
BEGIN:VEVENT
DTSTART;TZID=America/Chicago:20260522T113000
DTEND;TZID=America/Chicago:20260522T130000
DTSTAMP:20260420T181204
CREATED:20251203T145734Z
LAST-MODIFIED:20251203T145734Z
UID:10075595-1779449400-1779454800@www.kissingtreeresidents.org
SUMMARY:Men's Fellowship
DESCRIPTION:Men’s Fellowship is a Christian faith-based group of men committed to learning to practice finishing strong in our lives to the benefit of our families\, community and beyond\, as well as encouraging other men to do the same. Through scripture\, prayer\, and sharing our faith journeys\, we look towards focusing on our legacies. All men are welcome and there is no cost to join. Contact resident Marko Buckingham for more information.
URL:https://www.kissingtreeresidents.org/event/mens-fellowship-2-2/2026-05-22/
LOCATION:Independence Hall Activity Room
CATEGORIES:Clubs & Groups
ORGANIZER;CN="Marko Buckingham":MAILTO:markmelody1978@yahoo.com
END:VEVENT
BEGIN:VEVENT
DTSTART;TZID=America/Chicago:20260522T130000
DTEND;TZID=America/Chicago:20260522T150000
DTSTAMP:20260420T181204
CREATED:20251203T150711Z
LAST-MODIFIED:20251203T150711Z
UID:10078811-1779454800-1779462000@www.kissingtreeresidents.org
SUMMARY:Ping Pong Open Play
DESCRIPTION:Tables are located in The Depot at Grand Central. Please close tables and store along wall when finished playing. Contact Community Engagement Director Kevin Wilson for more information.
URL:https://www.kissingtreeresidents.org/event/ping-pong-open-play/2026-05-22/
LOCATION:The Depot @ Grand Central
CATEGORIES:Clubs & Groups,Grand Central
ORGANIZER;CN="Kevin Wilson":MAILTO:kwilson@coherelife.com
END:VEVENT
BEGIN:VEVENT
DTSTART;TZID=America/Chicago:20260522T133000
DTEND;TZID=America/Chicago:20260522T140000
DTSTAMP:20260420T181204
CREATED:20260128T145104Z
LAST-MODIFIED:20260128T150018Z
UID:10082008-1779456600-1779458400@www.kissingtreeresidents.org
SUMMARY:NEW Absolute Beginner Line Dance Class
DESCRIPTION:Wanna learn how to Line Dance? Well\, put your dancin’ boots on!!! \nCome learn absolute beginner line dancing steps from Kelly & Montina every Friday from 1:30 to 2:00. (Activity Room at Independence Hall) You’ll learn the basic line dance steps & terminology for absolute beginner line dances. Then stay and join the 2:00 beginner class for more dancing fun! \nEveryone is welcome and no experience is needed! \nIt’s a great way to get moving\, meet new people\, and have some boot scootin’ fun!!!! \n 
URL:https://www.kissingtreeresidents.org/event/absolute-beginner-line-dance-class/2026-05-22/
LOCATION:Independence Hall Activity Room
CATEGORIES:Clubs & Groups
ORGANIZER;CN="Kelly Dickson":MAILTO:kdickson512@twc.com
END:VEVENT
BEGIN:VEVENT
DTSTART;TZID=America/Chicago:20260522T140000
DTEND;TZID=America/Chicago:20260522T150000
DTSTAMP:20260420T181204
CREATED:20251203T151056Z
LAST-MODIFIED:20251203T151056Z
UID:10078861-1779458400-1779462000@www.kissingtreeresidents.org
SUMMARY:Beginners Line Dancing 
DESCRIPTION:The Beginners Line Dancing class is a fun and engaging way to learn new steps while reviewing their favorite moves. KT residents meet regularly to explore a variety of line dance routines\, building confidence and rhythm in a supportive environment. Whether you’re just starting or looking to refine your skills\, this class is perfect for all beginners. Stay updated on all events and activities by visiting their Facebook page for the latest announcements  https://www.facebook.com/share/g/1AQvuWyL5bSfbNQ4/ \nFor more information contact Kelly Dickson at  kdickson512@twc.com
URL:https://www.kissingtreeresidents.org/event/beginners-line-dancing/2026-05-22/
LOCATION:Independence Hall Activity Room
CATEGORIES:Clubs & Groups
ORGANIZER;CN="Kelly Dickson":MAILTO:kdickson512@twc.com
END:VEVENT
BEGIN:VEVENT
DTSTART;TZID=America/Chicago:20260522T150000
DTEND;TZID=America/Chicago:20260522T160000
DTSTAMP:20260420T181204
CREATED:20251203T151432Z
LAST-MODIFIED:20251203T214534Z
UID:10081017-1779462000-1779465600@www.kissingtreeresidents.org
SUMMARY:Improver Line Dancing
DESCRIPTION:The Improver Line Dancing class is designed for more experienced dancers who want to expand their skills by learning new steps while also reviewing and refining their favorite ones. It provides an opportunity to enhance technique\, try more complex patterns\, and enjoy dancing in a fun and supportive environment. \nFor updates on all events and activities\, be sure to follow their Facebook page  https://www.facebook.com/share/g/1AQvuWyL5bSfbNQ4/ \n\n\n\n\n\n\nFor more information\, contact Kelly Dickson at  kdickson512@twc.com
URL:https://www.kissingtreeresidents.org/event/improver-line-dancing/2026-05-22/
LOCATION:Independence Hall Activity Room
CATEGORIES:Clubs & Groups
ORGANIZER;CN="Kelly Dickson":MAILTO:kdickson512@twc.com
END:VEVENT
END:VCALENDAR