BEGIN:VCALENDAR
VERSION:2.0
PRODID:-//Kissing Tree Resident Website - ECPv6.15.18//NONSGML v1.0//EN
CALSCALE:GREGORIAN
METHOD:PUBLISH
X-WR-CALNAME:Kissing Tree Resident Website
X-ORIGINAL-URL:https://www.kissingtreeresidents.org
X-WR-CALDESC:Events for Kissing Tree Resident Website
REFRESH-INTERVAL;VALUE=DURATION:PT1H
X-Robots-Tag:noindex
X-PUBLISHED-TTL:PT1H
BEGIN:VTIMEZONE
TZID:America/Chicago
BEGIN:DAYLIGHT
TZOFFSETFROM:-0600
TZOFFSETTO:-0500
TZNAME:CDT
DTSTART:20250309T080000
END:DAYLIGHT
BEGIN:STANDARD
TZOFFSETFROM:-0500
TZOFFSETTO:-0600
TZNAME:CST
DTSTART:20251102T070000
END:STANDARD
BEGIN:DAYLIGHT
TZOFFSETFROM:-0600
TZOFFSETTO:-0500
TZNAME:CDT
DTSTART:20260308T080000
END:DAYLIGHT
BEGIN:STANDARD
TZOFFSETFROM:-0500
TZOFFSETTO:-0600
TZNAME:CST
DTSTART:20261101T070000
END:STANDARD
BEGIN:DAYLIGHT
TZOFFSETFROM:-0600
TZOFFSETTO:-0500
TZNAME:CDT
DTSTART:20270314T080000
END:DAYLIGHT
BEGIN:STANDARD
TZOFFSETFROM:-0500
TZOFFSETTO:-0600
TZNAME:CST
DTSTART:20271107T070000
END:STANDARD
END:VTIMEZONE
BEGIN:VEVENT
DTSTART;TZID=America/Chicago:20260323T180000
DTEND;TZID=America/Chicago:20260323T200000
DTSTAMP:20260420T234718
CREATED:20251222T212923Z
LAST-MODIFIED:20251222T213348Z
UID:10081281-1774288800-1774296000@www.kissingtreeresidents.org
SUMMARY:Cribbage Group
DESCRIPTION:Cribbage is a fun and social card game that combines strategy and chance. It’s typically played by two players\, though it can be played with more. The goal is to score points by forming combinations of cards in your hand and through a shared “crib\,” which is a separate set of cards. Points are awarded for various card combinations\, such as pairs\, runs\, and flushes. Join us for a relaxed evening of Cribbage every Monday evening. Whether you’re a seasoned player or new to the game\, it’s a great way to enjoy some friendly competition and good company.
URL:https://www.kissingtreeresidents.org/event/cribbage-group-4/2026-03-23/
LOCATION:Independence Hall
CATEGORIES:Clubs & Groups
ORGANIZER;CN="Joel Adams":MAILTO:joelaadams1@gmail.com
END:VEVENT
BEGIN:VEVENT
DTSTART;TZID=America/Chicago:20260323T160000
DTEND;TZID=America/Chicago:20260323T200000
DTSTAMP:20260420T234718
CREATED:20251203T162932Z
LAST-MODIFIED:20251203T162932Z
UID:10079413-1774281600-1774296000@www.kissingtreeresidents.org
SUMMARY:Men’s Dart League 
DESCRIPTION:Are you ready to test your skills\, meet fellow players\, and compete in a fun\, social\, and competitive dart league? \nThe KT Men’s Dart League wants YOU on the board! \nLeague Highlights- Weekly matches at the Depot that are open to all skill levels\, friendly competition\, & seasonal playoff tournaments & leagues. \nFor more information contact Del Jantzen at deljantzen@me.com
URL:https://www.kissingtreeresidents.org/event/mens-dart-league/2026-03-23/
LOCATION:The Depot @ Grand Central
CATEGORIES:Clubs & Groups,Grand Central,Sports Courts
ORGANIZER;CN="Del Jentzen":MAILTO:deljantzen@me.com
END:VEVENT
BEGIN:VEVENT
DTSTART;TZID=America/Chicago:20260323T150000
DTEND;TZID=America/Chicago:20260323T170000
DTSTAMP:20260420T234718
CREATED:20260226T193838Z
LAST-MODIFIED:20260226T194009Z
UID:10082773-1774278000-1774285200@www.kissingtreeresidents.org
SUMMARY:Mexican Train
DESCRIPTION:All aboard for a fun afternoon of Mexican Train! \nJoin us for friendly competition and fun as we play Mexican Train! \nWhether you’re a seasoned conductor or brand new to the game\, everyone is welcome!
URL:https://www.kissingtreeresidents.org/event/mexican-train/2026-03-23/
LOCATION:Resident Library
CATEGORIES:Clubs & Groups
ORGANIZER;CN="Alice Spinnato":MAILTO:alicespinnato2018@gmail.com
END:VEVENT
BEGIN:VEVENT
DTSTART;TZID=America/Chicago:20260323T143000
DTEND;TZID=America/Chicago:20260323T160000
DTSTAMP:20260420T234718
CREATED:20250613T150253Z
LAST-MODIFIED:20251203T152804Z
UID:10059877-1774276200-1774281600@www.kissingtreeresidents.org
SUMMARY:Sketch Happens
DESCRIPTION:No RSVP is required Bring your own supplies and practice sketching with others. Either a video lesson\, drawn from a photo\, or instructor-led session will be offered. Supplies to bring could include sketching or watercolor paper\, pencil\, pens or fine markers\, watercolors or colored pencils (optional). There are typically supplies to share if you don’t have any. Frequently information about each meeting is posted on the KT Studio Buzz Facebook site. \nContact Jane Jones for any questions or more info: jjonestexas@gmail.com.
URL:https://www.kissingtreeresidents.org/event/sketch-happens-2-2/2026-03-23/
LOCATION:Art Studio @ Grand Central
CATEGORIES:Clubs & Groups,Grand Central
ORGANIZER;CN="Jane Jones":MAILTO:jjonestexas@gmail.com
END:VEVENT
BEGIN:VEVENT
DTSTART;TZID=America/Chicago:20260323T134500
DTEND;TZID=America/Chicago:20260323T160000
DTSTAMP:20260420T234718
CREATED:20251203T162644Z
LAST-MODIFIED:20251203T162644Z
UID:10079361-1774273500-1774281600@www.kissingtreeresidents.org
SUMMARY:Mahjong WP Group
DESCRIPTION:The WP Mahjongg group plays once a week. They play the Wright-Patterson (or military) version. It includes players of all levels\, and beginners are welcome. For more information about this resident-led interest group\, contact resident Paula Sims.
URL:https://www.kissingtreeresidents.org/event/mahjong-wp-group/2026-03-23/
LOCATION:Independence Hall Activity Room
CATEGORIES:Clubs & Groups
ORGANIZER;CN="Paula Sims":MAILTO:Paula.sims1761@me.com
END:VEVENT
BEGIN:VEVENT
DTSTART;TZID=America/Chicago:20260323T133000
DTEND;TZID=America/Chicago:20260323T153000
DTSTAMP:20260420T234718
CREATED:20251203T210926Z
LAST-MODIFIED:20251203T210926Z
UID:10080702-1774272600-1774279800@www.kissingtreeresidents.org
SUMMARY:42 Dominos Group
DESCRIPTION:The KT 42 Dominos group invite all enthusiasts of the classic 42 Dominos game to join their dedicated game group! \nWhether you’re a seasoned player or new to the game\, this is the perfect space to enjoy fun matches\, learn strategies\, and connect with others who share the love for 42 Dominos. \nIf you have any questions\, feel free to reach out to the group leader.
URL:https://www.kissingtreeresidents.org/event/42-dominos-group-2/2026-03-23/
LOCATION:Independence Hall
CATEGORIES:Clubs & Groups
END:VEVENT
BEGIN:VEVENT
DTSTART;TZID=America/Chicago:20260323T130000
DTEND;TZID=America/Chicago:20260323T150000
DTSTAMP:20260420T234718
CREATED:20251203T160219Z
LAST-MODIFIED:20251203T160219Z
UID:10079257-1774270800-1774278000@www.kissingtreeresidents.org
SUMMARY:Ping Pong Open Play
DESCRIPTION:Come join your KT friends and neighbors for some friendly ping pong action! \nWhether you’re a seasoned player or just looking to have fun\, it’s a great chance to hang out\, challenge each other\, and enjoy some friendly competition.
URL:https://www.kissingtreeresidents.org/event/ping-pong-open-play-4/2026-03-23/
LOCATION:The Depot @ Grand Central
CATEGORIES:Clubs & Groups,Sports Courts
ORGANIZER;CN="Kissing Tree Community Life":MAILTO:ktmc@coherelife.com
END:VEVENT
BEGIN:VEVENT
DTSTART;TZID=America/Chicago:20260323T130000
DTEND;TZID=America/Chicago:20260323T134500
DTSTAMP:20260420T234718
CREATED:20251203T154609Z
LAST-MODIFIED:20251203T154609Z
UID:10079149-1774270800-1774273500@www.kissingtreeresidents.org
SUMMARY:Rosary Warriors Group
DESCRIPTION:Join us every Monday afternoon for a peaceful time of prayer and reflection. \nWhile we are Catholics who pray the Rosary\, everyone is welcome to participate—no need to be Catholic! The gathering lasts just 20–30 minutes\, and you’re welcome to come whenever you can. We begin by sharing any special prayer intentions and then pray the Rosary together with those intentions in mind. \nWe’d love to have you join us!
URL:https://www.kissingtreeresidents.org/event/rosary-warriors-group-2/2026-03-23/
LOCATION:Independence Hall Activity Room
CATEGORIES:Clubs & Groups
ORGANIZER;CN="Linda Lacinski":MAILTO:llacinski@verizon.net
END:VEVENT
BEGIN:VEVENT
DTSTART;TZID=America/Chicago:20260323T113000
DTEND;TZID=America/Chicago:20260323T130000
DTSTAMP:20260420T234718
CREATED:20251203T200727Z
LAST-MODIFIED:20251203T200727Z
UID:10080502-1774265400-1774270800@www.kissingtreeresidents.org
SUMMARY:Book Discussion Group
DESCRIPTION:Kissing Tree readers come together once a month to explore and discuss a wide variety of books. From classic literature to contemporary bestsellers\, each session offers a chance to share insights\, opinions\, and enjoy lively conversations with fellow book lovers. Whether you’re a lifelong reader or just getting started\, our group is a welcoming space for everyone to enjoy the joy of reading and engaging in thoughtful discussions. New members are always welcome!
URL:https://www.kissingtreeresidents.org/event/book-discussion-group-2/2026-03-23/
LOCATION:Independence Hall Activity Room
CATEGORIES:Clubs & Groups
ORGANIZER;CN="Phillis Porter":MAILTO:prsp101@hotmail.com
END:VEVENT
BEGIN:VEVENT
DTSTART;TZID=America/Chicago:20260323T100000
DTEND;TZID=America/Chicago:20260323T120000
DTSTAMP:20260420T234718
CREATED:20260316T161815Z
LAST-MODIFIED:20260316T161815Z
UID:10083372-1774260000-1774267200@www.kissingtreeresidents.org
SUMMARY:KTPA Beginners Clinic
DESCRIPTION:Courts 17 & 18 are reserved for the KTPA.
URL:https://www.kissingtreeresidents.org/event/ktpa-beginners-clinic/2026-03-23/
LOCATION:Pickleball Courts
CATEGORIES:Clubs & Groups,Sports Courts
END:VEVENT
BEGIN:VEVENT
DTSTART;TZID=America/Chicago:20260323T100000
DTEND;TZID=America/Chicago:20260323T120000
DTSTAMP:20260420T234718
CREATED:20251217T152844Z
LAST-MODIFIED:20251217T153019Z
UID:10081151-1774260000-1774267200@www.kissingtreeresidents.org
SUMMARY:Open Studio
DESCRIPTION:Every Monday now: Open Studio & Paint-by-Numbers with Dee Hutchison & Tracey Younes\,  no RSVP required. \nThis is also your opportunity to join others in a relaxed setting where you can work on the Paint-by-Numbers creations. You can bring your own kit or take part in a group order to help keep costs down—pricing will vary based on your selection. For more information on these projects please text Tracey Younes at 512-784-4256. \nFor more information Contact Dee Hutchison at 512-773-7410 \nBe sure to check on the KT Studio Buzz Facebook page for more information and/or updates. https://www.facebook.com/share/g/hca8izuKqpNZufZx/
URL:https://www.kissingtreeresidents.org/event/open-studio-2-2-2-2/2026-03-23/
LOCATION:Art Studio @ Grand Central
CATEGORIES:Clubs & Groups,Grand Central
END:VEVENT
BEGIN:VEVENT
DTSTART;TZID=America/Chicago:20260323T090000
DTEND;TZID=America/Chicago:20260323T103000
DTSTAMP:20260420T234718
CREATED:20251203T152251Z
LAST-MODIFIED:20260317T173054Z
UID:10083443-1774256400-1774261800@www.kissingtreeresidents.org
SUMMARY:Men’s Coffee Group
DESCRIPTION:The Men’s Coffee Group provides an opportunity to engage in casual conversation\, share experiences\, and enjoy each other’s company over a cup of coffee.
URL:https://www.kissingtreeresidents.org/event/mens-coffee-group/2026-03-23/
CATEGORIES:Clubs & Groups
ORGANIZER;CN="Harry Heinsohn":MAILTO:hdlr1234@yahoo.com
END:VEVENT
BEGIN:VEVENT
DTSTART;TZID=America/Chicago:20260323T090000
DTEND;TZID=America/Chicago:20260323T100000
DTSTAMP:20260420T234718
CREATED:20251203T151940Z
LAST-MODIFIED:20260317T172717Z
UID:10083396-1774256400-1774260000@www.kissingtreeresidents.org
SUMMARY:Laura’s Choice
DESCRIPTION:Please use your Mind/Body app to register for this class.  \nIn Laura’s Choice\, each class spotlights a different area of the body or fitness theme designed to enhance your strength\, flexibility\, and mobility from head to toe. Whether targeting knees\, shoulders\, core\, or hips\, Laura’s expertise ensures you get a well-rounded workout tailored to keep you moving comfortably and confidently in your daily life. Using controlled movements and a variety of equipment\, each session emphasizes mindful exercises that promote functional strength\, support injury prevention\, and adapt to all fitness levels. Join us and discover the benefits of focusing on a different area each week—your body will thank you!
URL:https://www.kissingtreeresidents.org/event/lauras-choice-2/2026-03-23/
LOCATION:Independence Hall Activity Room
CATEGORIES:Clubs & Groups
ORGANIZER;CN="Kissing Tree Community Life":MAILTO:ktmc@coherelife.com
END:VEVENT
BEGIN:VEVENT
DTSTART;TZID=America/Chicago:20260323T080000
DTEND;TZID=America/Chicago:20260323T170000
DTSTAMP:20260420T234718
CREATED:20251203T151741Z
LAST-MODIFIED:20251203T151741Z
UID:10078904-1774252800-1774285200@www.kissingtreeresidents.org
SUMMARY:Pickleball Open Play
DESCRIPTION:Courts 1-8 are reserved for open play.
URL:https://www.kissingtreeresidents.org/event/pickleball-open-play/2026-03-23/
LOCATION:Pickleball Courts
CATEGORIES:Clubs & Groups,Sports Courts
END:VEVENT
BEGIN:VEVENT
DTSTART;TZID=America/Chicago:20260322T170000
DTEND;TZID=America/Chicago:20260322T193000
DTSTAMP:20260420T234718
CREATED:20260226T145039Z
LAST-MODIFIED:20260226T162059Z
UID:10082641-1774198800-1774207800@www.kissingtreeresidents.org
SUMMARY:Live Music at The Mix! Party & Benefit Concert.
DESCRIPTION:Music by Bo Depeña Trio Americana & country singer.\nBring your favorite chair\, your dancing shoes/boots\, and $10 cash (donation) for the band. Independence Hall bar will be open and a food truck will be onsite too! \nDonations for “The Feeling Fresh Project” \nNEW & UNUSED Donations\,  full & travel size items needed. (NO Hemp or CBD Products). Hair care for all hair types\, lice kits\, lotion\, bar soap\, body wash\, kids 2 in 1 soaps\, stick deodorant\, spray deodorant\, hair ties\, laundry detergent\, sensitive skin care\, face wash\, pimple patches\, pads\, tampons\, wipes\, combs\, period underwear\, contact solution\, mouth wash\, toothbrushes\, hair brush. \nFor more information about the Feeling Fresh Project\, visit their website at  https://thefeelingfreshproject.com/ \n\n\n\n\n\n\n\n\n\n 
URL:https://www.kissingtreeresidents.org/event/live-music-at-the-mix/
LOCATION:Biergarten
CATEGORIES:Events
ORGANIZER;CN="Dave Marstiller":MAILTO:dave_marstiller@yahoo.com
END:VEVENT
BEGIN:VEVENT
DTSTART;TZID=America/Chicago:20260322T163000
DTEND;TZID=America/Chicago:20260322T193000
DTSTAMP:20260420T234718
CREATED:20251203T194546Z
LAST-MODIFIED:20260420T135157Z
UID:10083955-1774197000-1774207800@www.kissingtreeresidents.org
SUMMARY:Euchre
DESCRIPTION:KT residents are invited to join a fun and friendly Euchre game! Euchre is a fast-paced\, social game perfect for anyone who enjoys a challenge and a fun mix of strategy and luck\, Come test your skills\, enjoy some friendly competitions\, and meet new people!
URL:https://www.kissingtreeresidents.org/event/euchre-2/2026-03-22/
LOCATION:The Depot @ Grand Central
CATEGORIES:Clubs & Groups,Grand Central
ORGANIZER;CN="Jane Lawson":MAILTO:jane@janeplawson.com
END:VEVENT
BEGIN:VEVENT
DTSTART;TZID=America/Chicago:20260322T150000
DTEND;TZID=America/Chicago:20260322T170000
DTSTAMP:20260420T234718
CREATED:20260309T213034Z
LAST-MODIFIED:20260309T213034Z
UID:10083092-1774191600-1774198800@www.kissingtreeresidents.org
SUMMARY:Mahjong
DESCRIPTION:
URL:https://www.kissingtreeresidents.org/event/mahjong/2026-03-22/
LOCATION:Independence Hall Activity Room
CATEGORIES:Clubs & Groups
ORGANIZER;CN="Barbara Taylor":MAILTO:barbarat57@outlook.com
END:VEVENT
BEGIN:VEVENT
DTSTART;TZID=America/Chicago:20260322T133000
DTEND;TZID=America/Chicago:20260322T163000
DTSTAMP:20260420T234718
CREATED:20260113T200844Z
LAST-MODIFIED:20260113T204010Z
UID:10081421-1774186200-1774197000@www.kissingtreeresidents.org
SUMMARY:Scrabble Board Game Group
DESCRIPTION:The Scrabble group meets on Sunday afternoons for friendly games and casual play. This is the group meeting time for those who enjoy the board game with friends.
URL:https://www.kissingtreeresidents.org/event/scrabble-board-game-group/2026-03-22/
LOCATION:The Stump @ Grand Central
CATEGORIES:Clubs & Groups,Grand Central
ORGANIZER;CN="Patrick Johnson":MAILTO:dorlanj@icloud.com
END:VEVENT
BEGIN:VEVENT
DTSTART;TZID=America/Chicago:20260322T113000
DTEND;TZID=America/Chicago:20260322T140000
DTSTAMP:20260420T234718
CREATED:20251203T194315Z
LAST-MODIFIED:20251203T194704Z
UID:10080343-1774179000-1774188000@www.kissingtreeresidents.org
SUMMARY:Darts Open Play
DESCRIPTION:You’re Invited to Darts Open Play! \nJoin us for an exciting and fun-filled norming of darts! Whether you’re a seasoned player or a beginner\, come enjoy the friendly competition and good company. Don’t miss out on this chance to play\, socialize\, and have fun. We look forward to seeing you there!
URL:https://www.kissingtreeresidents.org/event/lady-darters-2-2/2026-03-22/
LOCATION:The Depot @ Grand Central
CATEGORIES:Clubs & Groups,Grand Central,Sports Courts
END:VEVENT
BEGIN:VEVENT
DTSTART;TZID=America/Chicago:20260321T163000
DTEND;TZID=America/Chicago:20260321T223000
DTSTAMP:20260420T234718
CREATED:20260211T101734Z
LAST-MODIFIED:20260211T101903Z
UID:10082350-1774110600-1774132200@www.kissingtreeresidents.org
SUMMARY:Esther's Follies Day Trip
DESCRIPTION:Esther’s Follies Day Trip\nSaturday\, March 21\n\n4:30 pm – Charter bus loads at KT parking lot\n6:20 pm – Enter Esther’s Follies for 7:00 pm show\n10:00 pm – Arrive back at KT\n\nRegistration open Monday\, February 16th @ 4:00 pm\n$76 per person includes charter bus and ticket\n\nClick here to register  \n\nBYOD&S – Bring Your Own Drinks & Snacks for the bus ride\n\n6th Street- the source of Esther’s humor and unwitting backdrop for its stage- will always define Esther’s distinct comedic blend of magic\, music\, and comedy. We’ve been called the Texas answer to SNL–a modern-day vaudeville revue mixed with political comedy that is like nothing else on the national comedy scene. Esther’s history stretches back 46 years.\n\nwww.esthersfollies.com
URL:https://www.kissingtreeresidents.org/event/esthers-follies-day-trip-2/
LOCATION:Austin area
CATEGORIES:Clubs & Groups,Events
ORGANIZER;CN="Kissing Tree Community Life":MAILTO:ktmc@coherelife.com
END:VEVENT
BEGIN:VEVENT
DTSTART;TZID=America/Chicago:20260321T090000
DTEND;TZID=America/Chicago:20260321T120000
DTSTAMP:20260420T234718
CREATED:20251229T194843Z
LAST-MODIFIED:20251229T194844Z
UID:10081347-1774083600-1774094400@www.kissingtreeresidents.org
SUMMARY:Card-Making with Melissa
DESCRIPTION:Create a custom greeting card box and birthday card. \nSupplies are $20\, payable at the class. \nPlease RSVP with Melissa Grados at 512-620-2325 to reserve your spot and supplies. \nTo see posts and updates about this group\, visit the KT Studio Buzz! Facebook page.
URL:https://www.kissingtreeresidents.org/event/card-making-with-melissa-2/2026-03-21/
LOCATION:Art Studio @ Grand Central
CATEGORIES:Clubs & Groups,Grand Central
ORGANIZER;CN="Melissa Grados":MAILTO:mgrados.TX@gmail.com
END:VEVENT
BEGIN:VEVENT
DTSTART;TZID=America/Chicago:20260321T081500
DTEND;TZID=America/Chicago:20260321T093000
DTSTAMP:20260420T234718
CREATED:20260309T150432Z
LAST-MODIFIED:20260309T150432Z
UID:10083050-1774080900-1774085400@www.kissingtreeresidents.org
SUMMARY:Hill Huggers
DESCRIPTION:The Hill Huggers group meet on Wednesday and Saturday mornings and are designed for residents of all fitness levels who enjoy walking\, running\, hiking and exploring the trails around the Kissing Tree community. Participants can expect a welcoming\, social atmosphere where they’ll get to enjoy the beauty of nature while engaging in light to moderate physical activity. Whether you’re looking for a relaxing walk or a more energetic run\, the groups offer a variety of routes and paces to accommodate different preferences. It’s a great way to meet fellow residents\, get outdoors\, and stay active!
URL:https://www.kissingtreeresidents.org/event/hill-huggers-3-2-2-2/2026-03-21/
LOCATION:Biergarten
CATEGORIES:Clubs & Groups
ORGANIZER;CN="Sue Walker":MAILTO:nyazcax61@gmail.com
END:VEVENT
BEGIN:VEVENT
DTSTART;TZID=America/Chicago:20260321T080000
DTEND;TZID=America/Chicago:20260321T100000
DTSTAMP:20260420T234718
CREATED:20251203T194125Z
LAST-MODIFIED:20251203T194125Z
UID:10080291-1774080000-1774087200@www.kissingtreeresidents.org
SUMMARY:Pickleball Open Play
DESCRIPTION:Courts 1-8 \nTo participate in open play\, you don’t need to bring a partner but you’ll need to have your own paddle.
URL:https://www.kissingtreeresidents.org/event/pickleball-open-play-3/2026-03-21/
LOCATION:Pickleball Courts
CATEGORIES:Clubs & Groups,Sports Courts
END:VEVENT
BEGIN:VEVENT
DTSTART;TZID=America/Chicago:20260320T180000
DTEND;TZID=America/Chicago:20260320T203000
DTSTAMP:20260420T234718
CREATED:20260218T143038Z
LAST-MODIFIED:20260218T170137Z
UID:10082359-1774029600-1774038600@www.kissingtreeresidents.org
SUMMARY:Swing Dance lessons
DESCRIPTION:Swing Dance lessons\nFriday\, March 20\nIndependence Hall Lobby/Biergarten\n6 pm – 7 pm   Swing Lesson w/Rob & Diane\n7 pm – 8:30 pm  DJ Dance Social \nRegistration opens Thursday\, February 19 at 4:00 pm\nCost is $29 pp   –   Limit 40 participants \nClick here to register \nWelcome to Swing Junction\nYour hosts & instructors Rob & Diane.  They are here to build community\, help you learn simple and fun skills for personal growth and listen and dance to great music and making friends.
URL:https://www.kissingtreeresidents.org/event/swing-dance-lessons/
LOCATION:Independence Hall
CATEGORIES:Clubs & Groups,Events
ORGANIZER;CN="Kissing Tree Community Life":MAILTO:ktmc@coherelife.com
END:VEVENT
END:VCALENDAR