BEGIN:VCALENDAR
VERSION:2.0
PRODID:-//Kissing Tree Resident Website - ECPv6.15.18//NONSGML v1.0//EN
CALSCALE:GREGORIAN
METHOD:PUBLISH
X-ORIGINAL-URL:https://www.kissingtreeresidents.org
X-WR-CALDESC:Events for Kissing Tree Resident Website
REFRESH-INTERVAL;VALUE=DURATION:PT1H
X-Robots-Tag:noindex
X-PUBLISHED-TTL:PT1H
BEGIN:VTIMEZONE
TZID:America/Chicago
BEGIN:DAYLIGHT
TZOFFSETFROM:-0600
TZOFFSETTO:-0500
TZNAME:CDT
DTSTART:20250309T080000
END:DAYLIGHT
BEGIN:STANDARD
TZOFFSETFROM:-0500
TZOFFSETTO:-0600
TZNAME:CST
DTSTART:20251102T070000
END:STANDARD
BEGIN:DAYLIGHT
TZOFFSETFROM:-0600
TZOFFSETTO:-0500
TZNAME:CDT
DTSTART:20260308T080000
END:DAYLIGHT
BEGIN:STANDARD
TZOFFSETFROM:-0500
TZOFFSETTO:-0600
TZNAME:CST
DTSTART:20261101T070000
END:STANDARD
BEGIN:DAYLIGHT
TZOFFSETFROM:-0600
TZOFFSETTO:-0500
TZNAME:CDT
DTSTART:20270314T080000
END:DAYLIGHT
BEGIN:STANDARD
TZOFFSETFROM:-0500
TZOFFSETTO:-0600
TZNAME:CST
DTSTART:20271107T070000
END:STANDARD
END:VTIMEZONE
BEGIN:VEVENT
DTSTART;TZID=America/Chicago:20260610T150000
DTEND;TZID=America/Chicago:20260610T180000
DTSTAMP:20260421T195253
CREATED:20241219T223558Z
LAST-MODIFIED:20251203T172048Z
UID:10079889-1781103600-1781114400@www.kissingtreeresidents.org
SUMMARY:Mahjong Fairways
DESCRIPTION:The Mahjong Fairway Group is a community of Mahjong players of all skill levels. They share their passion for the game\, and enjoy friendly competition. Whether you are a beginner or an experienced player\, the group fosters an inclusive and supportive environment where everyone can improve their skills and have fun. \nWe invite KT residents to join the Mahjong Fairway Group! Whether you’re looking to learn the game\, meet new people\, or simply enjoy the game. Come and be a part of the fun!
URL:https://www.kissingtreeresidents.org/event/mahjong-fairways-3/2026-06-10/
LOCATION:The Stump @ Grand Central
CATEGORIES:Clubs & Groups,Grand Central
END:VEVENT
BEGIN:VEVENT
DTSTART;TZID=America/Chicago:20260610T160000
DTEND;TZID=America/Chicago:20260610T180000
DTSTAMP:20260421T195253
CREATED:20241219T223725Z
LAST-MODIFIED:20251203T202457Z
UID:10079982-1781107200-1781114400@www.kissingtreeresidents.org
SUMMARY:Photography Club
DESCRIPTION:Are you passionate about photography\, or looking to explore it more? Join us to share tips\, inspire each other\, and grow our photography skills together. \nWhether you’re a seasoned photographer or just starting out\, you’ll find a space to connect\, learn\, and showcase your work. We’d love to have you as part of our group! \nLet’s make the most of every shot and turn everyday moments into beautiful memories. \nLooking forward to seeing your work and ideas! \nBe sure to check on the KT Studio Buzz Facebook page for more information and/or updates. https://www.facebook.com/share/g/hca8izuKqpNZufZx/
URL:https://www.kissingtreeresidents.org/event/photography-club-2025-02-12/2026-06-10/
LOCATION:Art Studio @ Grand Central
CATEGORIES:Clubs & Groups,Grand Central
ORGANIZER;CN="David Olson":MAILTO:ktphotoclub@mtnolson.com
END:VEVENT
BEGIN:VEVENT
DTSTART;TZID=America/Chicago:20260610T163000
DTEND;TZID=America/Chicago:20260610T203000
DTSTAMP:20260421T195253
CREATED:20251114T155702Z
LAST-MODIFIED:20260317T173329Z
UID:10083502-1781109000-1781123400@www.kissingtreeresidents.org
SUMMARY:Texas Hold'em Poker
DESCRIPTION:
URL:https://www.kissingtreeresidents.org/event/texas-holdem-poker/2026-06-10/
LOCATION:Independence Hall Activity Room
CATEGORIES:Clubs & Groups
ORGANIZER;CN="Rusty Johnson":MAILTO:rusj63@gmail.com
END:VEVENT
BEGIN:VEVENT
DTSTART;TZID=America/Chicago:20260610T170000
DTEND;TZID=America/Chicago:20260610T200000
DTSTAMP:20260421T195253
CREATED:20260416T211447Z
LAST-MODIFIED:20260416T211457Z
UID:10083859-1781110800-1781121600@www.kissingtreeresidents.org
SUMMARY:KTPA Ladder League
DESCRIPTION:Courts 1-16 are reserved for the KTPA
URL:https://www.kissingtreeresidents.org/event/ktpa-ladder-league-3/2026-06-10/
LOCATION:Pickleball Courts
CATEGORIES:Clubs & Groups,Sports Courts
END:VEVENT
BEGIN:VEVENT
DTSTART;TZID=America/Chicago:20260611T080000
DTEND;TZID=America/Chicago:20260611T093000
DTSTAMP:20260421T195253
CREATED:20260218T194703Z
LAST-MODIFIED:20260218T194703Z
UID:10082376-1781164800-1781170200@www.kissingtreeresidents.org
SUMMARY:MANUP Men’s Group
DESCRIPTION:MANUP is a non-denominational\, Jesus-centered ministry founded in Austin\, Texas. For over a decade\, we’ve been connecting men with God and other men through weekly Bible study groups\, community events\, weekend retreats\, free online content\, and pastoral care. What does it really mean to MANUP? More than a set of rules or guidelines\, it’s a lifestyle. A code of core principles that shapes your everyday life. Our community is designed to support every man on his journey as a husband\, father\, and leader. Contact Rick or click on manup.org to learn more. \n 
URL:https://www.kissingtreeresidents.org/event/manup-mens-group/2026-06-11/
LOCATION:The Depot at Grand Central
CATEGORIES:Clubs & Groups,Grand Central
ORGANIZER;CN="Rick Davis":MAILTO:rickdavis1016@gmail.com
END:VEVENT
BEGIN:VEVENT
DTSTART;TZID=America/Chicago:20260611T080000
DTEND;TZID=America/Chicago:20260611T220000
DTSTAMP:20260421T195253
CREATED:20250507T153252Z
LAST-MODIFIED:20250507T153347Z
UID:10058760-1781164800-1781215200@www.kissingtreeresidents.org
SUMMARY:Pickleball Gents Open Play
DESCRIPTION:Courts 1-8
URL:https://www.kissingtreeresidents.org/event/pickleball-gents-open-play-4/2026-06-11/
LOCATION:Pickleball Courts
CATEGORIES:Clubs & Groups,Sports Courts
END:VEVENT
BEGIN:VEVENT
DTSTART;TZID=America/Chicago:20260611T130000
DTEND;TZID=America/Chicago:20260611T153000
DTSTAMP:20260421T195253
CREATED:20241218T204435Z
LAST-MODIFIED:20251203T173233Z
UID:10080059-1781182800-1781191800@www.kissingtreeresidents.org
SUMMARY:Mahjong Mavens
DESCRIPTION:Whether you’re a seasoned player or someone who has never picked up a tile\, we welcome players of all skill levels. Our group is all about enjoying the game together in a relaxed and supportive atmosphere. Meet fellow KT residents\, make new friends\, and enjoy good company while playing Mahjong. \nJust bring yourself and an eagerness to play. We’ll guide you through the rules if you’re new!
URL:https://www.kissingtreeresidents.org/event/mahjong-mavens/2026-06-11/
LOCATION:The Stump @ Grand Central
CATEGORIES:Clubs & Groups,Grand Central
END:VEVENT
BEGIN:VEVENT
DTSTART;TZID=America/Chicago:20260611T130000
DTEND;TZID=America/Chicago:20260611T153000
DTSTAMP:20260421T195253
CREATED:20260226T193433Z
LAST-MODIFIED:20260226T193526Z
UID:10082731-1781182800-1781191800@www.kissingtreeresidents.org
SUMMARY:Rummikub
DESCRIPTION:Love a little friendly competition? Enjoy games and good company?Come join your neighbors for a fun game of Rummikub! \nWhether you’re a seasoned player or brand new to the game\, all are welcome. \nWe look forward to seeing you there!
URL:https://www.kissingtreeresidents.org/event/rummikub/2026-06-11/
LOCATION:Resident Library
CATEGORIES:Clubs & Groups
ORGANIZER;CN="Alice Spinnato":MAILTO:alicespinnato2018@gmail.com
END:VEVENT
BEGIN:VEVENT
DTSTART;TZID=America/Chicago:20260611T130000
DTEND;TZID=America/Chicago:20260611T160000
DTSTAMP:20260421T195253
CREATED:20241218T204046Z
LAST-MODIFIED:20251203T173435Z
UID:10080123-1781182800-1781193600@www.kissingtreeresidents.org
SUMMARY:Fun Bridge
DESCRIPTION:The Fun Bridge Group is a friendly\, casual gathering of players who enjoy the classic card game of bridge. Whether you’re a seasoned pro or new to the game\, you’ll have a great time connecting with neighbors and making new friends. We welcome all skill levels\, so come join us for a fun\, relaxed atmosphere and see why bridge is the perfect game for everyone! Come to the Depot and bring your enthusiasm—no experience necessary. See you there!
URL:https://www.kissingtreeresidents.org/event/fun-bridge/2026-06-11/
LOCATION:The Depot @ Grand Central
CATEGORIES:Clubs & Groups
END:VEVENT
BEGIN:VEVENT
DTSTART;TZID=America/Chicago:20260611T163000
DTEND;TZID=America/Chicago:20260611T200000
DTSTAMP:20260421T195253
CREATED:20241210T224547Z
LAST-MODIFIED:20251203T172846Z
UID:10080007-1781195400-1781208000@www.kissingtreeresidents.org
SUMMARY:Lady Darters
DESCRIPTION:
URL:https://www.kissingtreeresidents.org/event/lady-darters/2026-06-11/
LOCATION:The Depot @ Grand Central
CATEGORIES:Clubs & Groups,Grand Central
END:VEVENT
BEGIN:VEVENT
DTSTART;TZID=America/Chicago:20260611T183000
DTEND;TZID=America/Chicago:20260611T203000
DTSTAMP:20260421T195253
CREATED:20250507T153651Z
LAST-MODIFIED:20250507T153651Z
UID:10059019-1781202600-1781209800@www.kissingtreeresidents.org
SUMMARY:Pickleball Open Play
DESCRIPTION:
URL:https://www.kissingtreeresidents.org/event/mens-pickleball-2-2/2026-06-11/
LOCATION:Pickleball Courts
CATEGORIES:Clubs & Groups,Sports Courts
END:VEVENT
BEGIN:VEVENT
DTSTART;TZID=America/Chicago:20260611T190000
DTEND;TZID=America/Chicago:20260611T200000
DTSTAMP:20260421T195253
CREATED:20260317T175423Z
LAST-MODIFIED:20260317T175423Z
UID:10083596-1781204400-1781208000@www.kissingtreeresidents.org
SUMMARY:Veteran's Group
DESCRIPTION:All KT Veterans and their spouses are welcome to join the monthly meetings for a time of fellowship\, updates\, and informative presentations. The Veteran’s Group meetings have a variety of special guests sharing uplifting & inspiring stories. While not every meeting has a guest speaker\, they always have engaging and informative discussions. The monthly meetings cover important topics such as old business\, upcoming events\, and the status of their finances. They also take time to welcome new members and celebrate milestones within the group. \nEach year\, the Veteran’s Group celebrate the birthdays of the service branches with a cake featuring their logo—honoring those who have served.
URL:https://www.kissingtreeresidents.org/event/veterans-group-2-3-2/2026-06-11/
LOCATION:Independence Hall Activity Room
CATEGORIES:Clubs & Groups,Meetings
ORGANIZER;CN="David Reel":MAILTO:davidreel49@gmail.com
END:VEVENT
BEGIN:VEVENT
DTSTART;TZID=America/Chicago:20260612T100000
DTEND;TZID=America/Chicago:20260612T130000
DTSTAMP:20260421T195253
CREATED:20251203T150129Z
LAST-MODIFIED:20251203T150305Z
UID:10078763-1781258400-1781269200@www.kissingtreeresidents.org
SUMMARY:Creative Jam Art Class
DESCRIPTION:Be sure to check on the KT Studio Buzz Facebook page for more information and/or updates. https://www.facebook.com/share/g/hca8izuKqpNZufZx/
URL:https://www.kissingtreeresidents.org/event/creative-jam-art-class/2026-06-12/
LOCATION:Art Studio @ Grand Central
CATEGORIES:Clubs & Groups,Grand Central
ORGANIZER;CN="Sharon Meaden":MAILTO:revivedglory@yahoo.com
END:VEVENT
BEGIN:VEVENT
DTSTART;TZID=America/Chicago:20260612T113000
DTEND;TZID=America/Chicago:20260612T130000
DTSTAMP:20260421T195253
CREATED:20251203T145734Z
LAST-MODIFIED:20251203T145734Z
UID:10075598-1781263800-1781269200@www.kissingtreeresidents.org
SUMMARY:Men's Fellowship
DESCRIPTION:Men’s Fellowship is a Christian faith-based group of men committed to learning to practice finishing strong in our lives to the benefit of our families\, community and beyond\, as well as encouraging other men to do the same. Through scripture\, prayer\, and sharing our faith journeys\, we look towards focusing on our legacies. All men are welcome and there is no cost to join. Contact resident Marko Buckingham for more information.
URL:https://www.kissingtreeresidents.org/event/mens-fellowship-2-2/2026-06-12/
LOCATION:Independence Hall Activity Room
CATEGORIES:Clubs & Groups
ORGANIZER;CN="Marko Buckingham":MAILTO:markmelody1978@yahoo.com
END:VEVENT
BEGIN:VEVENT
DTSTART;TZID=America/Chicago:20260612T130000
DTEND;TZID=America/Chicago:20260612T150000
DTSTAMP:20260421T195253
CREATED:20251203T150711Z
LAST-MODIFIED:20251203T150711Z
UID:10078814-1781269200-1781276400@www.kissingtreeresidents.org
SUMMARY:Ping Pong Open Play
DESCRIPTION:Tables are located in The Depot at Grand Central. Please close tables and store along wall when finished playing. Contact Community Engagement Director Kevin Wilson for more information.
URL:https://www.kissingtreeresidents.org/event/ping-pong-open-play/2026-06-12/
LOCATION:The Depot @ Grand Central
CATEGORIES:Clubs & Groups,Grand Central
ORGANIZER;CN="Kevin Wilson":MAILTO:kwilson@coherelife.com
END:VEVENT
BEGIN:VEVENT
DTSTART;TZID=America/Chicago:20260612T133000
DTEND;TZID=America/Chicago:20260612T140000
DTSTAMP:20260421T195253
CREATED:20260128T145104Z
LAST-MODIFIED:20260128T150018Z
UID:10082011-1781271000-1781272800@www.kissingtreeresidents.org
SUMMARY:NEW Absolute Beginner Line Dance Class
DESCRIPTION:Wanna learn how to Line Dance? Well\, put your dancin’ boots on!!! \nCome learn absolute beginner line dancing steps from Kelly & Montina every Friday from 1:30 to 2:00. (Activity Room at Independence Hall) You’ll learn the basic line dance steps & terminology for absolute beginner line dances. Then stay and join the 2:00 beginner class for more dancing fun! \nEveryone is welcome and no experience is needed! \nIt’s a great way to get moving\, meet new people\, and have some boot scootin’ fun!!!! \n 
URL:https://www.kissingtreeresidents.org/event/absolute-beginner-line-dance-class/2026-06-12/
LOCATION:Independence Hall Activity Room
CATEGORIES:Clubs & Groups
ORGANIZER;CN="Kelly Dickson":MAILTO:kdickson512@twc.com
END:VEVENT
BEGIN:VEVENT
DTSTART;TZID=America/Chicago:20260612T140000
DTEND;TZID=America/Chicago:20260612T150000
DTSTAMP:20260421T195253
CREATED:20251203T151056Z
LAST-MODIFIED:20251203T151056Z
UID:10078864-1781272800-1781276400@www.kissingtreeresidents.org
SUMMARY:Beginners Line Dancing 
DESCRIPTION:The Beginners Line Dancing class is a fun and engaging way to learn new steps while reviewing their favorite moves. KT residents meet regularly to explore a variety of line dance routines\, building confidence and rhythm in a supportive environment. Whether you’re just starting or looking to refine your skills\, this class is perfect for all beginners. Stay updated on all events and activities by visiting their Facebook page for the latest announcements  https://www.facebook.com/share/g/1AQvuWyL5bSfbNQ4/ \nFor more information contact Kelly Dickson at  kdickson512@twc.com
URL:https://www.kissingtreeresidents.org/event/beginners-line-dancing/2026-06-12/
LOCATION:Independence Hall Activity Room
CATEGORIES:Clubs & Groups
ORGANIZER;CN="Kelly Dickson":MAILTO:kdickson512@twc.com
END:VEVENT
BEGIN:VEVENT
DTSTART;TZID=America/Chicago:20260612T150000
DTEND;TZID=America/Chicago:20260612T160000
DTSTAMP:20260421T195253
CREATED:20251203T151432Z
LAST-MODIFIED:20251203T214534Z
UID:10081020-1781276400-1781280000@www.kissingtreeresidents.org
SUMMARY:Improver Line Dancing
DESCRIPTION:The Improver Line Dancing class is designed for more experienced dancers who want to expand their skills by learning new steps while also reviewing and refining their favorite ones. It provides an opportunity to enhance technique\, try more complex patterns\, and enjoy dancing in a fun and supportive environment. \nFor updates on all events and activities\, be sure to follow their Facebook page  https://www.facebook.com/share/g/1AQvuWyL5bSfbNQ4/ \n\n\n\n\n\n\nFor more information\, contact Kelly Dickson at  kdickson512@twc.com
URL:https://www.kissingtreeresidents.org/event/improver-line-dancing/2026-06-12/
LOCATION:Independence Hall Activity Room
CATEGORIES:Clubs & Groups
ORGANIZER;CN="Kelly Dickson":MAILTO:kdickson512@twc.com
END:VEVENT
BEGIN:VEVENT
DTSTART;TZID=America/Chicago:20260612T170000
DTEND;TZID=America/Chicago:20260612T203000
DTSTAMP:20260421T195253
CREATED:20260417T134325Z
LAST-MODIFIED:20260417T134325Z
UID:10083926-1781283600-1781296200@www.kissingtreeresidents.org
SUMMARY:May I? Card Game
DESCRIPTION:
URL:https://www.kissingtreeresidents.org/event/may-i-card-game/2026-06-12/
LOCATION:Independence Hall Activity Room
CATEGORIES:Clubs & Groups
ORGANIZER;CN="Linda Hightower":MAILTO:lindahi5@att.net
END:VEVENT
BEGIN:VEVENT
DTSTART;TZID=America/Chicago:20260613T080000
DTEND;TZID=America/Chicago:20260613T100000
DTSTAMP:20260421T195253
CREATED:20251203T194125Z
LAST-MODIFIED:20251203T194125Z
UID:10080303-1781337600-1781344800@www.kissingtreeresidents.org
SUMMARY:Pickleball Open Play
DESCRIPTION:Courts 1-8 \nTo participate in open play\, you don’t need to bring a partner but you’ll need to have your own paddle.
URL:https://www.kissingtreeresidents.org/event/pickleball-open-play-3/2026-06-13/
LOCATION:Pickleball Courts
CATEGORIES:Clubs & Groups,Sports Courts
END:VEVENT
BEGIN:VEVENT
DTSTART;TZID=America/Chicago:20260613T081500
DTEND;TZID=America/Chicago:20260613T093000
DTSTAMP:20260421T195253
CREATED:20260309T150432Z
LAST-MODIFIED:20260309T150432Z
UID:10083062-1781338500-1781343000@www.kissingtreeresidents.org
SUMMARY:Hill Huggers
DESCRIPTION:The Hill Huggers group meet on Wednesday and Saturday mornings and are designed for residents of all fitness levels who enjoy walking\, running\, hiking and exploring the trails around the Kissing Tree community. Participants can expect a welcoming\, social atmosphere where they’ll get to enjoy the beauty of nature while engaging in light to moderate physical activity. Whether you’re looking for a relaxing walk or a more energetic run\, the groups offer a variety of routes and paces to accommodate different preferences. It’s a great way to meet fellow residents\, get outdoors\, and stay active!
URL:https://www.kissingtreeresidents.org/event/hill-huggers-3-2-2-2/2026-06-13/
LOCATION:Biergarten
CATEGORIES:Clubs & Groups
ORGANIZER;CN="Sue Walker":MAILTO:nyazcax61@gmail.com
END:VEVENT
BEGIN:VEVENT
DTSTART;TZID=America/Chicago:20260614T113000
DTEND;TZID=America/Chicago:20260614T140000
DTSTAMP:20260421T195253
CREATED:20251203T194315Z
LAST-MODIFIED:20251203T194704Z
UID:10080355-1781436600-1781445600@www.kissingtreeresidents.org
SUMMARY:Darts Open Play
DESCRIPTION:You’re Invited to Darts Open Play! \nJoin us for an exciting and fun-filled norming of darts! Whether you’re a seasoned player or a beginner\, come enjoy the friendly competition and good company. Don’t miss out on this chance to play\, socialize\, and have fun. We look forward to seeing you there!
URL:https://www.kissingtreeresidents.org/event/lady-darters-2-2/2026-06-14/
LOCATION:The Depot @ Grand Central
CATEGORIES:Clubs & Groups,Grand Central,Sports Courts
END:VEVENT
BEGIN:VEVENT
DTSTART;TZID=America/Chicago:20260614T133000
DTEND;TZID=America/Chicago:20260614T163000
DTSTAMP:20260421T195253
CREATED:20260113T200844Z
LAST-MODIFIED:20260113T204010Z
UID:10081433-1781443800-1781454600@www.kissingtreeresidents.org
SUMMARY:Scrabble Board Game Group
DESCRIPTION:The Scrabble group meets on Sunday afternoons for friendly games and casual play. This is the group meeting time for those who enjoy the board game with friends.
URL:https://www.kissingtreeresidents.org/event/scrabble-board-game-group/2026-06-14/
LOCATION:The Stump @ Grand Central
CATEGORIES:Clubs & Groups,Grand Central
ORGANIZER;CN="Patrick Johnson":MAILTO:dorlanj@icloud.com
END:VEVENT
BEGIN:VEVENT
DTSTART;TZID=America/Chicago:20260614T150000
DTEND;TZID=America/Chicago:20260614T170000
DTSTAMP:20260421T195253
CREATED:20260309T213034Z
LAST-MODIFIED:20260309T213034Z
UID:10083104-1781449200-1781456400@www.kissingtreeresidents.org
SUMMARY:Mahjong
DESCRIPTION:
URL:https://www.kissingtreeresidents.org/event/mahjong/2026-06-14/
LOCATION:Independence Hall Activity Room
CATEGORIES:Clubs & Groups
ORGANIZER;CN="Barbara Taylor":MAILTO:barbarat57@outlook.com
END:VEVENT
BEGIN:VEVENT
DTSTART;TZID=America/Chicago:20260615T080000
DTEND;TZID=America/Chicago:20260615T170000
DTSTAMP:20260421T195253
CREATED:20251203T151741Z
LAST-MODIFIED:20251203T151741Z
UID:10078916-1781510400-1781542800@www.kissingtreeresidents.org
SUMMARY:Pickleball Open Play
DESCRIPTION:Courts 1-8 are reserved for open play.
URL:https://www.kissingtreeresidents.org/event/pickleball-open-play/2026-06-15/
LOCATION:Pickleball Courts
CATEGORIES:Clubs & Groups,Sports Courts
END:VEVENT
BEGIN:VEVENT
DTSTART;TZID=America/Chicago:20260615T090000
DTEND;TZID=America/Chicago:20260615T100000
DTSTAMP:20260421T195253
CREATED:20251203T151940Z
LAST-MODIFIED:20260317T172717Z
UID:10083408-1781514000-1781517600@www.kissingtreeresidents.org
SUMMARY:Laura’s Choice
DESCRIPTION:Please use your Mind/Body app to register for this class.  \nIn Laura’s Choice\, each class spotlights a different area of the body or fitness theme designed to enhance your strength\, flexibility\, and mobility from head to toe. Whether targeting knees\, shoulders\, core\, or hips\, Laura’s expertise ensures you get a well-rounded workout tailored to keep you moving comfortably and confidently in your daily life. Using controlled movements and a variety of equipment\, each session emphasizes mindful exercises that promote functional strength\, support injury prevention\, and adapt to all fitness levels. Join us and discover the benefits of focusing on a different area each week—your body will thank you!
URL:https://www.kissingtreeresidents.org/event/lauras-choice-2/2026-06-15/
LOCATION:Independence Hall Activity Room
CATEGORIES:Clubs & Groups
ORGANIZER;CN="Kissing Tree Community Life":MAILTO:ktmc@coherelife.com
END:VEVENT
BEGIN:VEVENT
DTSTART;TZID=America/Chicago:20260615T090000
DTEND;TZID=America/Chicago:20260615T103000
DTSTAMP:20260421T195253
CREATED:20251203T152251Z
LAST-MODIFIED:20260317T173054Z
UID:10083455-1781514000-1781519400@www.kissingtreeresidents.org
SUMMARY:Men’s Coffee Group
DESCRIPTION:The Men’s Coffee Group provides an opportunity to engage in casual conversation\, share experiences\, and enjoy each other’s company over a cup of coffee.
URL:https://www.kissingtreeresidents.org/event/mens-coffee-group/2026-06-15/
CATEGORIES:Clubs & Groups
ORGANIZER;CN="Harry Heinsohn":MAILTO:hdlr1234@yahoo.com
END:VEVENT
BEGIN:VEVENT
DTSTART;TZID=America/Chicago:20260615T100000
DTEND;TZID=America/Chicago:20260615T120000
DTSTAMP:20260421T195253
CREATED:20251217T152844Z
LAST-MODIFIED:20251217T153019Z
UID:10081163-1781517600-1781524800@www.kissingtreeresidents.org
SUMMARY:Open Studio
DESCRIPTION:Every Monday now: Open Studio & Paint-by-Numbers with Dee Hutchison & Tracey Younes\,  no RSVP required. \nThis is also your opportunity to join others in a relaxed setting where you can work on the Paint-by-Numbers creations. You can bring your own kit or take part in a group order to help keep costs down—pricing will vary based on your selection. For more information on these projects please text Tracey Younes at 512-784-4256. \nFor more information Contact Dee Hutchison at 512-773-7410 \nBe sure to check on the KT Studio Buzz Facebook page for more information and/or updates. https://www.facebook.com/share/g/hca8izuKqpNZufZx/
URL:https://www.kissingtreeresidents.org/event/open-studio-2-2-2-2/2026-06-15/
LOCATION:Art Studio @ Grand Central
CATEGORIES:Clubs & Groups,Grand Central
END:VEVENT
BEGIN:VEVENT
DTSTART;TZID=America/Chicago:20260615T130000
DTEND;TZID=America/Chicago:20260615T134500
DTSTAMP:20260421T195253
CREATED:20251203T154609Z
LAST-MODIFIED:20251203T154609Z
UID:10079161-1781528400-1781531100@www.kissingtreeresidents.org
SUMMARY:Rosary Warriors Group
DESCRIPTION:Join us every Monday afternoon for a peaceful time of prayer and reflection. \nWhile we are Catholics who pray the Rosary\, everyone is welcome to participate—no need to be Catholic! The gathering lasts just 20–30 minutes\, and you’re welcome to come whenever you can. We begin by sharing any special prayer intentions and then pray the Rosary together with those intentions in mind. \nWe’d love to have you join us!
URL:https://www.kissingtreeresidents.org/event/rosary-warriors-group-2/2026-06-15/
LOCATION:Independence Hall Activity Room
CATEGORIES:Clubs & Groups
ORGANIZER;CN="Linda Lacinski":MAILTO:llacinski@verizon.net
END:VEVENT
BEGIN:VEVENT
DTSTART;TZID=America/Chicago:20260615T130000
DTEND;TZID=America/Chicago:20260615T150000
DTSTAMP:20260421T195253
CREATED:20251203T160219Z
LAST-MODIFIED:20251203T160219Z
UID:10079269-1781528400-1781535600@www.kissingtreeresidents.org
SUMMARY:Ping Pong Open Play
DESCRIPTION:Come join your KT friends and neighbors for some friendly ping pong action! \nWhether you’re a seasoned player or just looking to have fun\, it’s a great chance to hang out\, challenge each other\, and enjoy some friendly competition.
URL:https://www.kissingtreeresidents.org/event/ping-pong-open-play-4/2026-06-15/
LOCATION:The Depot @ Grand Central
CATEGORIES:Clubs & Groups,Sports Courts
ORGANIZER;CN="Kissing Tree Community Life":MAILTO:ktmc@coherelife.com
END:VEVENT
END:VCALENDAR