BEGIN:VCALENDAR
VERSION:2.0
PRODID:-//Kissing Tree Resident Website - ECPv6.15.18//NONSGML v1.0//EN
CALSCALE:GREGORIAN
METHOD:PUBLISH
X-ORIGINAL-URL:https://www.kissingtreeresidents.org
X-WR-CALDESC:Events for Kissing Tree Resident Website
REFRESH-INTERVAL;VALUE=DURATION:PT1H
X-Robots-Tag:noindex
X-PUBLISHED-TTL:PT1H
BEGIN:VTIMEZONE
TZID:America/Chicago
BEGIN:DAYLIGHT
TZOFFSETFROM:-0600
TZOFFSETTO:-0500
TZNAME:CDT
DTSTART:20250309T080000
END:DAYLIGHT
BEGIN:STANDARD
TZOFFSETFROM:-0500
TZOFFSETTO:-0600
TZNAME:CST
DTSTART:20251102T070000
END:STANDARD
BEGIN:DAYLIGHT
TZOFFSETFROM:-0600
TZOFFSETTO:-0500
TZNAME:CDT
DTSTART:20260308T080000
END:DAYLIGHT
BEGIN:STANDARD
TZOFFSETFROM:-0500
TZOFFSETTO:-0600
TZNAME:CST
DTSTART:20261101T070000
END:STANDARD
BEGIN:DAYLIGHT
TZOFFSETFROM:-0600
TZOFFSETTO:-0500
TZNAME:CDT
DTSTART:20270314T080000
END:DAYLIGHT
BEGIN:STANDARD
TZOFFSETFROM:-0500
TZOFFSETTO:-0600
TZNAME:CST
DTSTART:20271107T070000
END:STANDARD
END:VTIMEZONE
BEGIN:VEVENT
DTSTART;TZID=America/Chicago:20260729T082000
DTEND;TZID=America/Chicago:20260729T093000
DTSTAMP:20260423T184810
CREATED:20250910T203322Z
LAST-MODIFIED:20251203T171215Z
UID:10079848-1785313200-1785317400@www.kissingtreeresidents.org
SUMMARY:Hill Hugger Midweek Movers
DESCRIPTION:The Hill Huggers group meet on Wednesday and Saturday mornings and are designed for residents of all fitness levels who enjoy walking\, running\, hiking and exploring the trails around the Kissing Tree community. Participants can expect a welcoming\, social atmosphere where they’ll get to enjoy the beauty of nature while engaging in light to moderate physical activity. Whether you’re looking for a relaxing walk or a more energetic run\, the groups offer a variety of routes and paces to accommodate different preferences. It’s a great way to meet fellow residents\, get outdoors\, and stay active!
URL:https://www.kissingtreeresidents.org/event/hill-hugger-midweek-movers-2-2/2026-07-29/
LOCATION:Biergarten
CATEGORIES:Clubs & Groups
END:VEVENT
BEGIN:VEVENT
DTSTART;TZID=America/Chicago:20260729T093000
DTEND;TZID=America/Chicago:20260729T103000
DTSTAMP:20260423T184810
CREATED:20250611T212602Z
LAST-MODIFIED:20251203T172516Z
UID:10079954-1785317400-1785321000@www.kissingtreeresidents.org
SUMMARY:Beginner Mahjong
DESCRIPTION:Come join fellow KT residents and learn how to play Mahjong! \nEnjoy step-by-step guidance from experienced player Phyllis Porter at the library tables in The Mix.
URL:https://www.kissingtreeresidents.org/event/beginner-mahjong/2026-07-29/
LOCATION:Resident Library at the Mix
CATEGORIES:Clubs & Groups
ORGANIZER;CN="Phillis Porter":MAILTO:prsp101@hotmail.com
END:VEVENT
BEGIN:VEVENT
DTSTART;TZID=America/Chicago:20260729T093000
DTEND;TZID=America/Chicago:20260729T113000
DTSTAMP:20260423T184810
CREATED:20251022T160423Z
LAST-MODIFIED:20251203T172214Z
UID:10078302-1785317400-1785324600@www.kissingtreeresidents.org
SUMMARY:Mahjong @ the Mix
DESCRIPTION:This group brings together Mahjong enthusiasts to share the love of the game\, learn from each other\, and enjoy friendly competition. The group embraces players of all skill levels\, offering opportunities for all level of players to participate in regular games and discussions. We invite KT residents!
URL:https://www.kissingtreeresidents.org/event/mahjong-the-mix/2026-07-29/
LOCATION:Independence Hall Activity Room
CATEGORIES:Clubs & Groups
ORGANIZER;CN="Phillis Porter":MAILTO:prsp101@hotmail.com
END:VEVENT
BEGIN:VEVENT
DTSTART;TZID=America/Chicago:20260729T113000
DTEND;TZID=America/Chicago:20260729T123000
DTSTAMP:20260423T184810
CREATED:20260417T181640Z
LAST-MODIFIED:20260417T181640Z
UID:10083935-1785324600-1785328200@www.kissingtreeresidents.org
SUMMARY:Hilltop Planning masterclass: All Things Long-Term Care
DESCRIPTION:Join Jeff Morneault of Hilltop Planning for an informational masterclass on All Things Long-Term Care\, long-term care costs\, insurance\, settings\, Medicare\, Medicaid\, and future funding. Upcoming 2026 workshops include: \n \n 
URL:https://www.kissingtreeresidents.org/event/hilltop-planning-masterclass-all-things-long-term-care/
LOCATION:Independence Hall Activity Room
CATEGORIES:Events
ORGANIZER;CN="Lisa Westerbeck":MAILTO:lwesterbeck@coherelife.com
END:VEVENT
BEGIN:VEVENT
DTSTART;TZID=America/Chicago:20260729T120000
DTEND;TZID=America/Chicago:20260729T130000
DTSTAMP:20260423T184810
CREATED:20251203T202921Z
LAST-MODIFIED:20251203T202921Z
UID:10080577-1785326400-1785330000@www.kissingtreeresidents.org
SUMMARY:KT Recovery Community
DESCRIPTION:The meetings are geared towards anyone in recovery and those with the desire to stop drinking or using drugs. The focus of our KT meetings will be allowing members to share fellowship & the reassurance they are not alone in their struggles. The meetings also provide the opportunity to learn new coping skills and to learn from others what works for them. The meetings are held at 328 Hopping Peach St. \nContact Bonita Cox at bocox55@gmail.com for more information.
URL:https://www.kissingtreeresidents.org/event/kt-recovery-community-2/2026-07-29/
CATEGORIES:Clubs & Groups
END:VEVENT
BEGIN:VEVENT
DTSTART;TZID=America/Chicago:20260729T140000
DTEND;TZID=America/Chicago:20260729T150000
DTSTAMP:20260423T184810
CREATED:20251203T212129Z
LAST-MODIFIED:20251203T212129Z
UID:10080799-1785333600-1785337200@www.kissingtreeresidents.org
SUMMARY:Beginner Line Dance Class
DESCRIPTION:
URL:https://www.kissingtreeresidents.org/event/beginner-line-dance-class/2026-07-29/
LOCATION:Independence Hall Activity Room
CATEGORIES:Clubs & Groups
ORGANIZER;CN="Kelly Dickson":MAILTO:kdickson512@twc.com
END:VEVENT
BEGIN:VEVENT
DTSTART;TZID=America/Chicago:20260729T150000
DTEND;TZID=America/Chicago:20260729T160000
DTSTAMP:20260423T184810
CREATED:20251203T212313Z
LAST-MODIFIED:20251203T212313Z
UID:10080853-1785337200-1785340800@www.kissingtreeresidents.org
SUMMARY:Improver Line Dance Class
DESCRIPTION:This class is for the more experienced line dancers.
URL:https://www.kissingtreeresidents.org/event/improver-line-dance-class/2026-07-29/
LOCATION:Independence Hall Activity Room
CATEGORIES:Clubs & Groups
ORGANIZER;CN="Kelly Dickson":MAILTO:kdickson512@twc.com
END:VEVENT
BEGIN:VEVENT
DTSTART;TZID=America/Chicago:20260729T150000
DTEND;TZID=America/Chicago:20260729T180000
DTSTAMP:20260423T184810
CREATED:20241219T223558Z
LAST-MODIFIED:20251203T172048Z
UID:10079896-1785337200-1785348000@www.kissingtreeresidents.org
SUMMARY:Mahjong Fairways
DESCRIPTION:The Mahjong Fairway Group is a community of Mahjong players of all skill levels. They share their passion for the game\, and enjoy friendly competition. Whether you are a beginner or an experienced player\, the group fosters an inclusive and supportive environment where everyone can improve their skills and have fun. \nWe invite KT residents to join the Mahjong Fairway Group! Whether you’re looking to learn the game\, meet new people\, or simply enjoy the game. Come and be a part of the fun!
URL:https://www.kissingtreeresidents.org/event/mahjong-fairways-3/2026-07-29/
LOCATION:The Stump @ Grand Central
CATEGORIES:Clubs & Groups,Grand Central
END:VEVENT
BEGIN:VEVENT
DTSTART;TZID=America/Chicago:20260729T160000
DTEND;TZID=America/Chicago:20260729T173000
DTSTAMP:20260423T184811
CREATED:20260327T175218Z
LAST-MODIFIED:20260327T175218Z
UID:10083658-1785340800-1785346200@www.kissingtreeresidents.org
SUMMARY:Mega MAGA Meetup
DESCRIPTION:Residents are invited to attend the Mega MAGA Meetup for an opportunity to gather\, visit with neighbors\, and enjoy conversation. This meetup is intended as a casual social gathering at Tarbox & Brown where residents can connect and spend time together on the last Wednesday of each month. \nWe look forward to seeing everyone there.
URL:https://www.kissingtreeresidents.org/event/mega-maga-meetup/2026-07-29/
CATEGORIES:Clubs & Groups
ORGANIZER;CN="Susan Bond":MAILTO:susantadlock@hotmail.com
END:VEVENT
BEGIN:VEVENT
DTSTART;TZID=America/Chicago:20260729T163000
DTEND;TZID=America/Chicago:20260729T203000
DTSTAMP:20260423T184811
CREATED:20251114T155702Z
LAST-MODIFIED:20260317T173329Z
UID:10083509-1785342600-1785357000@www.kissingtreeresidents.org
SUMMARY:Texas Hold'em Poker
DESCRIPTION:
URL:https://www.kissingtreeresidents.org/event/texas-holdem-poker/2026-07-29/
LOCATION:Independence Hall Activity Room
CATEGORIES:Clubs & Groups
ORGANIZER;CN="Rusty Johnson":MAILTO:rusj63@gmail.com
END:VEVENT
BEGIN:VEVENT
DTSTART;TZID=America/Chicago:20260729T170000
DTEND;TZID=America/Chicago:20260729T200000
DTSTAMP:20260423T184811
CREATED:20260416T211447Z
LAST-MODIFIED:20260416T211457Z
UID:10083866-1785344400-1785355200@www.kissingtreeresidents.org
SUMMARY:KTPA Ladder League
DESCRIPTION:Courts 1-16 are reserved for the KTPA
URL:https://www.kissingtreeresidents.org/event/ktpa-ladder-league-3/2026-07-29/
LOCATION:Pickleball Courts
CATEGORIES:Clubs & Groups,Sports Courts
END:VEVENT
BEGIN:VEVENT
DTSTART;TZID=America/Chicago:20260730T080000
DTEND;TZID=America/Chicago:20260730T093000
DTSTAMP:20260423T184811
CREATED:20260218T194703Z
LAST-MODIFIED:20260218T194703Z
UID:10082383-1785398400-1785403800@www.kissingtreeresidents.org
SUMMARY:MANUP Men’s Group
DESCRIPTION:MANUP is a non-denominational\, Jesus-centered ministry founded in Austin\, Texas. For over a decade\, we’ve been connecting men with God and other men through weekly Bible study groups\, community events\, weekend retreats\, free online content\, and pastoral care. What does it really mean to MANUP? More than a set of rules or guidelines\, it’s a lifestyle. A code of core principles that shapes your everyday life. Our community is designed to support every man on his journey as a husband\, father\, and leader. Contact Rick or click on manup.org to learn more. \n 
URL:https://www.kissingtreeresidents.org/event/manup-mens-group/2026-07-30/
LOCATION:The Depot at Grand Central
CATEGORIES:Clubs & Groups,Grand Central
ORGANIZER;CN="Rick Davis":MAILTO:rickdavis1016@gmail.com
END:VEVENT
BEGIN:VEVENT
DTSTART;TZID=America/Chicago:20260730T080000
DTEND;TZID=America/Chicago:20260730T220000
DTSTAMP:20260423T184811
CREATED:20250507T153252Z
LAST-MODIFIED:20250507T153347Z
UID:10058767-1785398400-1785448800@www.kissingtreeresidents.org
SUMMARY:Pickleball Gents Open Play
DESCRIPTION:Courts 1-8
URL:https://www.kissingtreeresidents.org/event/pickleball-gents-open-play-4/2026-07-30/
LOCATION:Pickleball Courts
CATEGORIES:Clubs & Groups,Sports Courts
END:VEVENT
BEGIN:VEVENT
DTSTART;TZID=America/Chicago:20260730T130000
DTEND;TZID=America/Chicago:20260730T150000
DTSTAMP:20260423T184811
CREATED:20260417T190750Z
LAST-MODIFIED:20260417T201417Z
UID:10083941-1785416400-1785423600@www.kissingtreeresidents.org
SUMMARY:CPR/AED certification class
DESCRIPTION:CPR/AED certification class offered monthly\nIn an emergency\, the first few minutes matter. Be prepared to act. \nA CPR/AED certification class will be offered monthly on the last Thursday at Kissing Tree. The hands-on course is designed to build the skills and confidence needed to respond in an emergency. \nWhether seeking certification\, refreshing skills or gaining confidence\, the class offers a practical investment in personal and community safety. \nLast Thursday | 1–3 p.m. | Independence Hall activity room\nInstructor: Trent Rogers\, retired firefighter/paramedic and American Red Cross-certified. \n$68 per person. Space is limited. Register here or swing by the Fitness Center.
URL:https://www.kissingtreeresidents.org/event/cpr-aed-certification-class/2026-07-30/
LOCATION:Independence Hall Activity Room
CATEGORIES:Events
ORGANIZER;CN="Micah Ross":MAILTO:mross@coherelife.com
END:VEVENT
BEGIN:VEVENT
DTSTART;TZID=America/Chicago:20260730T130000
DTEND;TZID=America/Chicago:20260730T153000
DTSTAMP:20260423T184811
CREATED:20241218T204435Z
LAST-MODIFIED:20251203T173233Z
UID:10080066-1785416400-1785425400@www.kissingtreeresidents.org
SUMMARY:Mahjong Mavens
DESCRIPTION:Whether you’re a seasoned player or someone who has never picked up a tile\, we welcome players of all skill levels. Our group is all about enjoying the game together in a relaxed and supportive atmosphere. Meet fellow KT residents\, make new friends\, and enjoy good company while playing Mahjong. \nJust bring yourself and an eagerness to play. We’ll guide you through the rules if you’re new!
URL:https://www.kissingtreeresidents.org/event/mahjong-mavens/2026-07-30/
LOCATION:The Stump @ Grand Central
CATEGORIES:Clubs & Groups,Grand Central
END:VEVENT
BEGIN:VEVENT
DTSTART;TZID=America/Chicago:20260730T130000
DTEND;TZID=America/Chicago:20260730T153000
DTSTAMP:20260423T184811
CREATED:20260226T193433Z
LAST-MODIFIED:20260226T193526Z
UID:10082738-1785416400-1785425400@www.kissingtreeresidents.org
SUMMARY:Rummikub
DESCRIPTION:Love a little friendly competition? Enjoy games and good company?Come join your neighbors for a fun game of Rummikub! \nWhether you’re a seasoned player or brand new to the game\, all are welcome. \nWe look forward to seeing you there!
URL:https://www.kissingtreeresidents.org/event/rummikub/2026-07-30/
LOCATION:Resident Library
CATEGORIES:Clubs & Groups
ORGANIZER;CN="Alice Spinnato":MAILTO:alicespinnato2018@gmail.com
END:VEVENT
BEGIN:VEVENT
DTSTART;TZID=America/Chicago:20260730T130000
DTEND;TZID=America/Chicago:20260730T160000
DTSTAMP:20260423T184811
CREATED:20241218T204046Z
LAST-MODIFIED:20251203T173435Z
UID:10080130-1785416400-1785427200@www.kissingtreeresidents.org
SUMMARY:Fun Bridge
DESCRIPTION:The Fun Bridge Group is a friendly\, casual gathering of players who enjoy the classic card game of bridge. Whether you’re a seasoned pro or new to the game\, you’ll have a great time connecting with neighbors and making new friends. We welcome all skill levels\, so come join us for a fun\, relaxed atmosphere and see why bridge is the perfect game for everyone! Come to the Depot and bring your enthusiasm—no experience necessary. See you there!
URL:https://www.kissingtreeresidents.org/event/fun-bridge/2026-07-30/
LOCATION:The Depot @ Grand Central
CATEGORIES:Clubs & Groups
END:VEVENT
BEGIN:VEVENT
DTSTART;TZID=America/Chicago:20260730T163000
DTEND;TZID=America/Chicago:20260730T200000
DTSTAMP:20260423T184811
CREATED:20241210T224547Z
LAST-MODIFIED:20251203T172846Z
UID:10080014-1785429000-1785441600@www.kissingtreeresidents.org
SUMMARY:Lady Darters
DESCRIPTION:
URL:https://www.kissingtreeresidents.org/event/lady-darters/2026-07-30/
LOCATION:The Depot @ Grand Central
CATEGORIES:Clubs & Groups,Grand Central
END:VEVENT
BEGIN:VEVENT
DTSTART;TZID=America/Chicago:20260730T183000
DTEND;TZID=America/Chicago:20260730T203000
DTSTAMP:20260423T184811
CREATED:20250507T153651Z
LAST-MODIFIED:20250507T153651Z
UID:10059026-1785436200-1785443400@www.kissingtreeresidents.org
SUMMARY:Pickleball Open Play
DESCRIPTION:
URL:https://www.kissingtreeresidents.org/event/mens-pickleball-2-2/2026-07-30/
LOCATION:Pickleball Courts
CATEGORIES:Clubs & Groups,Sports Courts
END:VEVENT
BEGIN:VEVENT
DTSTART;TZID=America/Chicago:20260731T100000
DTEND;TZID=America/Chicago:20260731T130000
DTSTAMP:20260423T184811
CREATED:20251203T150129Z
LAST-MODIFIED:20251203T150305Z
UID:10078770-1785492000-1785502800@www.kissingtreeresidents.org
SUMMARY:Creative Jam Art Class
DESCRIPTION:Be sure to check on the KT Studio Buzz Facebook page for more information and/or updates. https://www.facebook.com/share/g/hca8izuKqpNZufZx/
URL:https://www.kissingtreeresidents.org/event/creative-jam-art-class/2026-07-31/
LOCATION:Art Studio @ Grand Central
CATEGORIES:Clubs & Groups,Grand Central
ORGANIZER;CN="Sharon Meaden":MAILTO:revivedglory@yahoo.com
END:VEVENT
BEGIN:VEVENT
DTSTART;TZID=America/Chicago:20260731T113000
DTEND;TZID=America/Chicago:20260731T130000
DTSTAMP:20260423T184811
CREATED:20251203T145734Z
LAST-MODIFIED:20251203T145734Z
UID:10075605-1785497400-1785502800@www.kissingtreeresidents.org
SUMMARY:Men's Fellowship
DESCRIPTION:Men’s Fellowship is a Christian faith-based group of men committed to learning to practice finishing strong in our lives to the benefit of our families\, community and beyond\, as well as encouraging other men to do the same. Through scripture\, prayer\, and sharing our faith journeys\, we look towards focusing on our legacies. All men are welcome and there is no cost to join. Contact resident Marko Buckingham for more information.
URL:https://www.kissingtreeresidents.org/event/mens-fellowship-2-2/2026-07-31/
LOCATION:Independence Hall Activity Room
CATEGORIES:Clubs & Groups
ORGANIZER;CN="Marko Buckingham":MAILTO:markmelody1978@yahoo.com
END:VEVENT
BEGIN:VEVENT
DTSTART;TZID=America/Chicago:20260731T130000
DTEND;TZID=America/Chicago:20260731T150000
DTSTAMP:20260423T184811
CREATED:20251203T150711Z
LAST-MODIFIED:20251203T150711Z
UID:10078821-1785502800-1785510000@www.kissingtreeresidents.org
SUMMARY:Ping Pong Open Play
DESCRIPTION:Tables are located in The Depot at Grand Central. Please close tables and store along wall when finished playing. Contact Community Engagement Director Kevin Wilson for more information.
URL:https://www.kissingtreeresidents.org/event/ping-pong-open-play/2026-07-31/
LOCATION:The Depot @ Grand Central
CATEGORIES:Clubs & Groups,Grand Central
ORGANIZER;CN="Kevin Wilson":MAILTO:kwilson@coherelife.com
END:VEVENT
BEGIN:VEVENT
DTSTART;TZID=America/Chicago:20260731T133000
DTEND;TZID=America/Chicago:20260731T140000
DTSTAMP:20260423T184811
CREATED:20260128T145104Z
LAST-MODIFIED:20260128T150018Z
UID:10082018-1785504600-1785506400@www.kissingtreeresidents.org
SUMMARY:NEW Absolute Beginner Line Dance Class
DESCRIPTION:Wanna learn how to Line Dance? Well\, put your dancin’ boots on!!! \nCome learn absolute beginner line dancing steps from Kelly & Montina every Friday from 1:30 to 2:00. (Activity Room at Independence Hall) You’ll learn the basic line dance steps & terminology for absolute beginner line dances. Then stay and join the 2:00 beginner class for more dancing fun! \nEveryone is welcome and no experience is needed! \nIt’s a great way to get moving\, meet new people\, and have some boot scootin’ fun!!!! \n 
URL:https://www.kissingtreeresidents.org/event/absolute-beginner-line-dance-class/2026-07-31/
LOCATION:Independence Hall Activity Room
CATEGORIES:Clubs & Groups
ORGANIZER;CN="Kelly Dickson":MAILTO:kdickson512@twc.com
END:VEVENT
BEGIN:VEVENT
DTSTART;TZID=America/Chicago:20260731T140000
DTEND;TZID=America/Chicago:20260731T150000
DTSTAMP:20260423T184811
CREATED:20251203T151056Z
LAST-MODIFIED:20251203T151056Z
UID:10078871-1785506400-1785510000@www.kissingtreeresidents.org
SUMMARY:Beginners Line Dancing 
DESCRIPTION:The Beginners Line Dancing class is a fun and engaging way to learn new steps while reviewing their favorite moves. KT residents meet regularly to explore a variety of line dance routines\, building confidence and rhythm in a supportive environment. Whether you’re just starting or looking to refine your skills\, this class is perfect for all beginners. Stay updated on all events and activities by visiting their Facebook page for the latest announcements  https://www.facebook.com/share/g/1AQvuWyL5bSfbNQ4/ \nFor more information contact Kelly Dickson at  kdickson512@twc.com
URL:https://www.kissingtreeresidents.org/event/beginners-line-dancing/2026-07-31/
LOCATION:Independence Hall Activity Room
CATEGORIES:Clubs & Groups
ORGANIZER;CN="Kelly Dickson":MAILTO:kdickson512@twc.com
END:VEVENT
BEGIN:VEVENT
DTSTART;TZID=America/Chicago:20260731T150000
DTEND;TZID=America/Chicago:20260731T160000
DTSTAMP:20260423T184811
CREATED:20251203T151432Z
LAST-MODIFIED:20251203T214534Z
UID:10081027-1785510000-1785513600@www.kissingtreeresidents.org
SUMMARY:Improver Line Dancing
DESCRIPTION:The Improver Line Dancing class is designed for more experienced dancers who want to expand their skills by learning new steps while also reviewing and refining their favorite ones. It provides an opportunity to enhance technique\, try more complex patterns\, and enjoy dancing in a fun and supportive environment. \nFor updates on all events and activities\, be sure to follow their Facebook page  https://www.facebook.com/share/g/1AQvuWyL5bSfbNQ4/ \n\n\n\n\n\n\nFor more information\, contact Kelly Dickson at  kdickson512@twc.com
URL:https://www.kissingtreeresidents.org/event/improver-line-dancing/2026-07-31/
LOCATION:Independence Hall Activity Room
CATEGORIES:Clubs & Groups
ORGANIZER;CN="Kelly Dickson":MAILTO:kdickson512@twc.com
END:VEVENT
BEGIN:VEVENT
DTSTART;TZID=America/Chicago:20260801T080000
DTEND;TZID=America/Chicago:20260801T100000
DTSTAMP:20260423T184811
CREATED:20251203T194125Z
LAST-MODIFIED:20251203T194125Z
UID:10080310-1785571200-1785578400@www.kissingtreeresidents.org
SUMMARY:Pickleball Open Play
DESCRIPTION:Courts 1-8 \nTo participate in open play\, you don’t need to bring a partner but you’ll need to have your own paddle.
URL:https://www.kissingtreeresidents.org/event/pickleball-open-play-3/2026-08-01/
LOCATION:Pickleball Courts
CATEGORIES:Clubs & Groups,Sports Courts
END:VEVENT
BEGIN:VEVENT
DTSTART;TZID=America/Chicago:20260801T081500
DTEND;TZID=America/Chicago:20260801T093000
DTSTAMP:20260423T184811
CREATED:20260309T150432Z
LAST-MODIFIED:20260309T150432Z
UID:10083069-1785572100-1785576600@www.kissingtreeresidents.org
SUMMARY:Hill Huggers
DESCRIPTION:The Hill Huggers group meet on Wednesday and Saturday mornings and are designed for residents of all fitness levels who enjoy walking\, running\, hiking and exploring the trails around the Kissing Tree community. Participants can expect a welcoming\, social atmosphere where they’ll get to enjoy the beauty of nature while engaging in light to moderate physical activity. Whether you’re looking for a relaxing walk or a more energetic run\, the groups offer a variety of routes and paces to accommodate different preferences. It’s a great way to meet fellow residents\, get outdoors\, and stay active!
URL:https://www.kissingtreeresidents.org/event/hill-huggers-3-2-2-2/2026-08-01/
LOCATION:Biergarten
CATEGORIES:Clubs & Groups
ORGANIZER;CN="Sue Walker":MAILTO:nyazcax61@gmail.com
END:VEVENT
BEGIN:VEVENT
DTSTART;TZID=America/Chicago:20260802T113000
DTEND;TZID=America/Chicago:20260802T140000
DTSTAMP:20260423T184811
CREATED:20251203T194315Z
LAST-MODIFIED:20251203T194704Z
UID:10080362-1785670200-1785679200@www.kissingtreeresidents.org
SUMMARY:Darts Open Play
DESCRIPTION:You’re Invited to Darts Open Play! \nJoin us for an exciting and fun-filled norming of darts! Whether you’re a seasoned player or a beginner\, come enjoy the friendly competition and good company. Don’t miss out on this chance to play\, socialize\, and have fun. We look forward to seeing you there!
URL:https://www.kissingtreeresidents.org/event/lady-darters-2-2/2026-08-02/
LOCATION:The Depot @ Grand Central
CATEGORIES:Clubs & Groups,Grand Central,Sports Courts
END:VEVENT
BEGIN:VEVENT
DTSTART;TZID=America/Chicago:20260802T133000
DTEND;TZID=America/Chicago:20260802T163000
DTSTAMP:20260423T184811
CREATED:20260113T200844Z
LAST-MODIFIED:20260113T204010Z
UID:10081440-1785677400-1785688200@www.kissingtreeresidents.org
SUMMARY:Scrabble Board Game Group
DESCRIPTION:The Scrabble group meets on Sunday afternoons for friendly games and casual play. This is the group meeting time for those who enjoy the board game with friends.
URL:https://www.kissingtreeresidents.org/event/scrabble-board-game-group/2026-08-02/
LOCATION:The Stump @ Grand Central
CATEGORIES:Clubs & Groups,Grand Central
ORGANIZER;CN="Patrick Johnson":MAILTO:dorlanj@icloud.com
END:VEVENT
BEGIN:VEVENT
DTSTART;TZID=America/Chicago:20260802T150000
DTEND;TZID=America/Chicago:20260802T170000
DTSTAMP:20260423T184811
CREATED:20260309T213034Z
LAST-MODIFIED:20260309T213034Z
UID:10083111-1785682800-1785690000@www.kissingtreeresidents.org
SUMMARY:Mahjong
DESCRIPTION:
URL:https://www.kissingtreeresidents.org/event/mahjong/2026-08-02/
LOCATION:Independence Hall Activity Room
CATEGORIES:Clubs & Groups
ORGANIZER;CN="Barbara Taylor":MAILTO:barbarat57@outlook.com
END:VEVENT
END:VCALENDAR