BEGIN:VCALENDAR
VERSION:2.0
PRODID:-//Kissing Tree Resident Website - ECPv6.15.18//NONSGML v1.0//EN
CALSCALE:GREGORIAN
METHOD:PUBLISH
X-WR-CALNAME:Kissing Tree Resident Website
X-ORIGINAL-URL:https://www.kissingtreeresidents.org
X-WR-CALDESC:Events for Kissing Tree Resident Website
REFRESH-INTERVAL;VALUE=DURATION:PT1H
X-Robots-Tag:noindex
X-PUBLISHED-TTL:PT1H
BEGIN:VTIMEZONE
TZID:America/Chicago
BEGIN:DAYLIGHT
TZOFFSETFROM:-0600
TZOFFSETTO:-0500
TZNAME:CDT
DTSTART:20250309T080000
END:DAYLIGHT
BEGIN:STANDARD
TZOFFSETFROM:-0500
TZOFFSETTO:-0600
TZNAME:CST
DTSTART:20251102T070000
END:STANDARD
BEGIN:DAYLIGHT
TZOFFSETFROM:-0600
TZOFFSETTO:-0500
TZNAME:CDT
DTSTART:20260308T080000
END:DAYLIGHT
BEGIN:STANDARD
TZOFFSETFROM:-0500
TZOFFSETTO:-0600
TZNAME:CST
DTSTART:20261101T070000
END:STANDARD
BEGIN:DAYLIGHT
TZOFFSETFROM:-0600
TZOFFSETTO:-0500
TZNAME:CDT
DTSTART:20270314T080000
END:DAYLIGHT
BEGIN:STANDARD
TZOFFSETFROM:-0500
TZOFFSETTO:-0600
TZNAME:CST
DTSTART:20271107T070000
END:STANDARD
END:VTIMEZONE
BEGIN:VEVENT
DTSTART;TZID=America/Chicago:20261006T130000
DTEND;TZID=America/Chicago:20261006T160000
DTSTAMP:20260421T031601
CREATED:20251203T165423Z
LAST-MODIFIED:20260323T145138Z
UID:10079715-1791291600-1791302400@www.kissingtreeresidents.org
SUMMARY:Mexican Train
DESCRIPTION:Looking for a little friendly competition? Join us for the game of Mexican Train! \nNo experience needed—we’ll teach you as we play. Just bring yourself (and a set if you have one)\, and get ready for a fun time with neighbors and friends.
URL:https://www.kissingtreeresidents.org/event/mexican-train-3/2026-10-06/
LOCATION:Independence Hall Activity Room
CATEGORIES:Clubs & Groups
ORGANIZER;CN="Becca Korte":MAILTO:becca.korte@gmail.com
END:VEVENT
BEGIN:VEVENT
DTSTART;TZID=America/Chicago:20261013T130000
DTEND;TZID=America/Chicago:20261013T160000
DTSTAMP:20260421T031601
CREATED:20251203T165423Z
LAST-MODIFIED:20260323T145138Z
UID:10079716-1791896400-1791907200@www.kissingtreeresidents.org
SUMMARY:Mexican Train
DESCRIPTION:Looking for a little friendly competition? Join us for the game of Mexican Train! \nNo experience needed—we’ll teach you as we play. Just bring yourself (and a set if you have one)\, and get ready for a fun time with neighbors and friends.
URL:https://www.kissingtreeresidents.org/event/mexican-train-3/2026-10-13/
LOCATION:Independence Hall Activity Room
CATEGORIES:Clubs & Groups
ORGANIZER;CN="Becca Korte":MAILTO:becca.korte@gmail.com
END:VEVENT
BEGIN:VEVENT
DTSTART;TZID=America/Chicago:20261020T130000
DTEND;TZID=America/Chicago:20261020T160000
DTSTAMP:20260421T031601
CREATED:20251203T165423Z
LAST-MODIFIED:20260323T145138Z
UID:10079717-1792501200-1792512000@www.kissingtreeresidents.org
SUMMARY:Mexican Train
DESCRIPTION:Looking for a little friendly competition? Join us for the game of Mexican Train! \nNo experience needed—we’ll teach you as we play. Just bring yourself (and a set if you have one)\, and get ready for a fun time with neighbors and friends.
URL:https://www.kissingtreeresidents.org/event/mexican-train-3/2026-10-20/
LOCATION:Independence Hall Activity Room
CATEGORIES:Clubs & Groups
ORGANIZER;CN="Becca Korte":MAILTO:becca.korte@gmail.com
END:VEVENT
BEGIN:VEVENT
DTSTART;TZID=America/Chicago:20261027T130000
DTEND;TZID=America/Chicago:20261027T160000
DTSTAMP:20260421T031601
CREATED:20251203T165423Z
LAST-MODIFIED:20260323T145138Z
UID:10079718-1793106000-1793116800@www.kissingtreeresidents.org
SUMMARY:Mexican Train
DESCRIPTION:Looking for a little friendly competition? Join us for the game of Mexican Train! \nNo experience needed—we’ll teach you as we play. Just bring yourself (and a set if you have one)\, and get ready for a fun time with neighbors and friends.
URL:https://www.kissingtreeresidents.org/event/mexican-train-3/2026-10-27/
LOCATION:Independence Hall Activity Room
CATEGORIES:Clubs & Groups
ORGANIZER;CN="Becca Korte":MAILTO:becca.korte@gmail.com
END:VEVENT
BEGIN:VEVENT
DTSTART;TZID=America/Chicago:20261103T130000
DTEND;TZID=America/Chicago:20261103T160000
DTSTAMP:20260421T031601
CREATED:20251203T165423Z
LAST-MODIFIED:20260323T145138Z
UID:10079719-1793710800-1793721600@www.kissingtreeresidents.org
SUMMARY:Mexican Train
DESCRIPTION:Looking for a little friendly competition? Join us for the game of Mexican Train! \nNo experience needed—we’ll teach you as we play. Just bring yourself (and a set if you have one)\, and get ready for a fun time with neighbors and friends.
URL:https://www.kissingtreeresidents.org/event/mexican-train-3/2026-11-03/
LOCATION:Independence Hall Activity Room
CATEGORIES:Clubs & Groups
ORGANIZER;CN="Becca Korte":MAILTO:becca.korte@gmail.com
END:VEVENT
BEGIN:VEVENT
DTSTART;TZID=America/Chicago:20261110T130000
DTEND;TZID=America/Chicago:20261110T160000
DTSTAMP:20260421T031601
CREATED:20251203T165423Z
LAST-MODIFIED:20260323T145138Z
UID:10079720-1794315600-1794326400@www.kissingtreeresidents.org
SUMMARY:Mexican Train
DESCRIPTION:Looking for a little friendly competition? Join us for the game of Mexican Train! \nNo experience needed—we’ll teach you as we play. Just bring yourself (and a set if you have one)\, and get ready for a fun time with neighbors and friends.
URL:https://www.kissingtreeresidents.org/event/mexican-train-3/2026-11-10/
LOCATION:Independence Hall Activity Room
CATEGORIES:Clubs & Groups
ORGANIZER;CN="Becca Korte":MAILTO:becca.korte@gmail.com
END:VEVENT
BEGIN:VEVENT
DTSTART;TZID=America/Chicago:20261117T130000
DTEND;TZID=America/Chicago:20261117T160000
DTSTAMP:20260421T031601
CREATED:20251203T165423Z
LAST-MODIFIED:20260323T145138Z
UID:10079721-1794920400-1794931200@www.kissingtreeresidents.org
SUMMARY:Mexican Train
DESCRIPTION:Looking for a little friendly competition? Join us for the game of Mexican Train! \nNo experience needed—we’ll teach you as we play. Just bring yourself (and a set if you have one)\, and get ready for a fun time with neighbors and friends.
URL:https://www.kissingtreeresidents.org/event/mexican-train-3/2026-11-17/
LOCATION:Independence Hall Activity Room
CATEGORIES:Clubs & Groups
ORGANIZER;CN="Becca Korte":MAILTO:becca.korte@gmail.com
END:VEVENT
BEGIN:VEVENT
DTSTART;TZID=America/Chicago:20261124T130000
DTEND;TZID=America/Chicago:20261124T160000
DTSTAMP:20260421T031601
CREATED:20251203T165423Z
LAST-MODIFIED:20260323T145138Z
UID:10079722-1795525200-1795536000@www.kissingtreeresidents.org
SUMMARY:Mexican Train
DESCRIPTION:Looking for a little friendly competition? Join us for the game of Mexican Train! \nNo experience needed—we’ll teach you as we play. Just bring yourself (and a set if you have one)\, and get ready for a fun time with neighbors and friends.
URL:https://www.kissingtreeresidents.org/event/mexican-train-3/2026-11-24/
LOCATION:Independence Hall Activity Room
CATEGORIES:Clubs & Groups
ORGANIZER;CN="Becca Korte":MAILTO:becca.korte@gmail.com
END:VEVENT
BEGIN:VEVENT
DTSTART;TZID=America/Chicago:20261201T130000
DTEND;TZID=America/Chicago:20261201T160000
DTSTAMP:20260421T031601
CREATED:20251203T165423Z
LAST-MODIFIED:20260323T145138Z
UID:10079723-1796130000-1796140800@www.kissingtreeresidents.org
SUMMARY:Mexican Train
DESCRIPTION:Looking for a little friendly competition? Join us for the game of Mexican Train! \nNo experience needed—we’ll teach you as we play. Just bring yourself (and a set if you have one)\, and get ready for a fun time with neighbors and friends.
URL:https://www.kissingtreeresidents.org/event/mexican-train-3/2026-12-01/
LOCATION:Independence Hall Activity Room
CATEGORIES:Clubs & Groups
ORGANIZER;CN="Becca Korte":MAILTO:becca.korte@gmail.com
END:VEVENT
BEGIN:VEVENT
DTSTART;TZID=America/Chicago:20261208T130000
DTEND;TZID=America/Chicago:20261208T160000
DTSTAMP:20260421T031601
CREATED:20251203T165423Z
LAST-MODIFIED:20260323T145138Z
UID:10079724-1796734800-1796745600@www.kissingtreeresidents.org
SUMMARY:Mexican Train
DESCRIPTION:Looking for a little friendly competition? Join us for the game of Mexican Train! \nNo experience needed—we’ll teach you as we play. Just bring yourself (and a set if you have one)\, and get ready for a fun time with neighbors and friends.
URL:https://www.kissingtreeresidents.org/event/mexican-train-3/2026-12-08/
LOCATION:Independence Hall Activity Room
CATEGORIES:Clubs & Groups
ORGANIZER;CN="Becca Korte":MAILTO:becca.korte@gmail.com
END:VEVENT
BEGIN:VEVENT
DTSTART;TZID=America/Chicago:20261215T130000
DTEND;TZID=America/Chicago:20261215T160000
DTSTAMP:20260421T031601
CREATED:20251203T165423Z
LAST-MODIFIED:20260323T145138Z
UID:10079725-1797339600-1797350400@www.kissingtreeresidents.org
SUMMARY:Mexican Train
DESCRIPTION:Looking for a little friendly competition? Join us for the game of Mexican Train! \nNo experience needed—we’ll teach you as we play. Just bring yourself (and a set if you have one)\, and get ready for a fun time with neighbors and friends.
URL:https://www.kissingtreeresidents.org/event/mexican-train-3/2026-12-15/
LOCATION:Independence Hall Activity Room
CATEGORIES:Clubs & Groups
ORGANIZER;CN="Becca Korte":MAILTO:becca.korte@gmail.com
END:VEVENT
BEGIN:VEVENT
DTSTART;TZID=America/Chicago:20261222T130000
DTEND;TZID=America/Chicago:20261222T160000
DTSTAMP:20260421T031601
CREATED:20251203T165423Z
LAST-MODIFIED:20260323T145138Z
UID:10079726-1797944400-1797955200@www.kissingtreeresidents.org
SUMMARY:Mexican Train
DESCRIPTION:Looking for a little friendly competition? Join us for the game of Mexican Train! \nNo experience needed—we’ll teach you as we play. Just bring yourself (and a set if you have one)\, and get ready for a fun time with neighbors and friends.
URL:https://www.kissingtreeresidents.org/event/mexican-train-3/2026-12-22/
LOCATION:Independence Hall Activity Room
CATEGORIES:Clubs & Groups
ORGANIZER;CN="Becca Korte":MAILTO:becca.korte@gmail.com
END:VEVENT
BEGIN:VEVENT
DTSTART;TZID=America/Chicago:20261229T130000
DTEND;TZID=America/Chicago:20261229T160000
DTSTAMP:20260421T031601
CREATED:20251203T165423Z
LAST-MODIFIED:20260323T145138Z
UID:10079727-1798549200-1798560000@www.kissingtreeresidents.org
SUMMARY:Mexican Train
DESCRIPTION:Looking for a little friendly competition? Join us for the game of Mexican Train! \nNo experience needed—we’ll teach you as we play. Just bring yourself (and a set if you have one)\, and get ready for a fun time with neighbors and friends.
URL:https://www.kissingtreeresidents.org/event/mexican-train-3/2026-12-29/
LOCATION:Independence Hall Activity Room
CATEGORIES:Clubs & Groups
ORGANIZER;CN="Becca Korte":MAILTO:becca.korte@gmail.com
END:VEVENT
END:VCALENDAR