BEGIN:VCALENDAR
VERSION:2.0
PRODID:-//Kissing Tree Resident Website - ECPv6.15.18//NONSGML v1.0//EN
CALSCALE:GREGORIAN
METHOD:PUBLISH
X-WR-CALNAME:Kissing Tree Resident Website
X-ORIGINAL-URL:https://www.kissingtreeresidents.org
X-WR-CALDESC:Events for Kissing Tree Resident Website
REFRESH-INTERVAL;VALUE=DURATION:PT1H
X-Robots-Tag:noindex
X-PUBLISHED-TTL:PT1H
BEGIN:VTIMEZONE
TZID:America/Chicago
BEGIN:DAYLIGHT
TZOFFSETFROM:-0600
TZOFFSETTO:-0500
TZNAME:CDT
DTSTART:20250309T080000
END:DAYLIGHT
BEGIN:STANDARD
TZOFFSETFROM:-0500
TZOFFSETTO:-0600
TZNAME:CST
DTSTART:20251102T070000
END:STANDARD
BEGIN:DAYLIGHT
TZOFFSETFROM:-0600
TZOFFSETTO:-0500
TZNAME:CDT
DTSTART:20260308T080000
END:DAYLIGHT
BEGIN:STANDARD
TZOFFSETFROM:-0500
TZOFFSETTO:-0600
TZNAME:CST
DTSTART:20261101T070000
END:STANDARD
BEGIN:DAYLIGHT
TZOFFSETFROM:-0600
TZOFFSETTO:-0500
TZNAME:CDT
DTSTART:20270314T080000
END:DAYLIGHT
BEGIN:STANDARD
TZOFFSETFROM:-0500
TZOFFSETTO:-0600
TZNAME:CST
DTSTART:20271107T070000
END:STANDARD
END:VTIMEZONE
BEGIN:VEVENT
DTSTART;TZID=America/Chicago:20260510T100000
DTEND;TZID=America/Chicago:20260510T140000
DTSTAMP:20260420T232227
CREATED:20260420T224310Z
LAST-MODIFIED:20260420T224310Z
UID:10083967-1778407200-1778421600@www.kissingtreeresidents.org
SUMMARY:Mother’s Day Brunch at Tarbox & Brown 
DESCRIPTION:Celebrate Mom with a beautiful brunch experience\nSunday\, May 10th\n10:00 AM – 1:00 PM (reservations every 15 minutes) \nEnjoy live music from KT’s own Cactus Flats Band from 10:00 AM – 2:00 PM (with a brief intermission) \nChef-curated brunch buffet\n$45 per person\nChildren 6–12: Half Price\nChildren 5 & under: Free \nReservations required: broseland@troon.com \nSpots are filling quickly—reserve your table and celebrate Mom with us!
URL:https://www.kissingtreeresidents.org/event/mothers-day-brunch-at-tarbox-brown/
LOCATION:Tarbox & Brown Restaurant
CATEGORIES:Events
ORGANIZER;CN="Brooke Broseland":MAILTO:broseland@troon.com
END:VEVENT
END:VCALENDAR